BEGIN:VCALENDAR
VERSION:2.0
PRODID:-//Fun in Farmington - ECPv6.15.20//NONSGML v1.0//EN
CALSCALE:GREGORIAN
METHOD:PUBLISH
X-ORIGINAL-URL:https://funinfarmington.com
X-WR-CALDESC:Events for Fun in Farmington
REFRESH-INTERVAL;VALUE=DURATION:PT1H
X-Robots-Tag:noindex
X-PUBLISHED-TTL:PT1H
BEGIN:VTIMEZONE
TZID:UTC
BEGIN:STANDARD
TZOFFSETFROM:+0000
TZOFFSETTO:+0000
TZNAME:UTC
DTSTART:20270101T000000
END:STANDARD
END:VTIMEZONE
BEGIN:VEVENT
DTSTART;TZID=UTC:20281030T183000
DTEND;TZID=UTC:20281030T203000
DTSTAMP:20260420T213327
CREATED:20250908T125825Z
LAST-MODIFIED:20250908T125825Z
UID:10017286-1856543400-1856550600@funinfarmington.com
SUMMARY:Trivia Night at Shots Bar and Grill
DESCRIPTION:𝑻𝑹𝑰𝑽𝑰𝑨 𝑵𝑰𝑮𝑯𝑻 tonight at Shots Bar & Grille in Farmington Hills!Game starts at 6:30pm!
URL:https://funinfarmington.com/event/trivia-night-at-shots-bar-and-grill/2028-10-30/
LOCATION:Shots Bar and Grille\, 30859 W 10 Mile Rd\, Farmington Hills\, Michigan\, 48336
CATEGORIES:Trivia
END:VEVENT
BEGIN:VEVENT
DTSTART;TZID=UTC:20281101T183000
DTEND;TZID=UTC:20281101T203000
DTSTAMP:20260420T213327
CREATED:20251117T152957Z
LAST-MODIFIED:20251117T152957Z
UID:10018239-1856716200-1856723400@funinfarmington.com
SUMMARY:OpinioNation! at Farmington Brewing Co
DESCRIPTION:OpinioNation at FBC!\nGet ready for some mid-week fun with OpinioNation at FBC! Join us every Wednesday for a low-stress\, high-energy game where your team debates the most popular answers to survey questions. Top two teams win a gift certificate to FBC! Games kick off at 6:30pm and 7:30pm!\nHere’s how it works:\nEach round has four survey questions\, and your team will try to guess the most common answers.Guess the most popular answer? Earn 5 points. The next most common answer? 4 points\, and so on.Bonus rounds and final questions offer big chances to score extra points\, but watch out—wrong answers can cost you!Bring your best guesses\, your A-team\, and enjoy a night full of laughs and friendly competition!
URL:https://funinfarmington.com/event/opinionation-at-farmington-brewing-co/2028-11-01/
LOCATION:Farmington Brewing Company\, 33336 Grand River Ave\, Farmington\, Michigan\, 48336
CATEGORIES:Trivia
END:VEVENT
BEGIN:VEVENT
DTSTART;TZID=UTC:20281106T183000
DTEND;TZID=UTC:20281106T203000
DTSTAMP:20260420T213327
CREATED:20250908T125825Z
LAST-MODIFIED:20250908T125825Z
UID:10017287-1857148200-1857155400@funinfarmington.com
SUMMARY:Trivia Night at Shots Bar and Grill
DESCRIPTION:𝑻𝑹𝑰𝑽𝑰𝑨 𝑵𝑰𝑮𝑯𝑻 tonight at Shots Bar & Grille in Farmington Hills!Game starts at 6:30pm!
URL:https://funinfarmington.com/event/trivia-night-at-shots-bar-and-grill/2028-11-06/
LOCATION:Shots Bar and Grille\, 30859 W 10 Mile Rd\, Farmington Hills\, Michigan\, 48336
CATEGORIES:Trivia
END:VEVENT
BEGIN:VEVENT
DTSTART;TZID=UTC:20281108T183000
DTEND;TZID=UTC:20281108T203000
DTSTAMP:20260420T213327
CREATED:20251117T152957Z
LAST-MODIFIED:20251117T152957Z
UID:10018240-1857321000-1857328200@funinfarmington.com
SUMMARY:OpinioNation! at Farmington Brewing Co
DESCRIPTION:OpinioNation at FBC!\nGet ready for some mid-week fun with OpinioNation at FBC! Join us every Wednesday for a low-stress\, high-energy game where your team debates the most popular answers to survey questions. Top two teams win a gift certificate to FBC! Games kick off at 6:30pm and 7:30pm!\nHere’s how it works:\nEach round has four survey questions\, and your team will try to guess the most common answers.Guess the most popular answer? Earn 5 points. The next most common answer? 4 points\, and so on.Bonus rounds and final questions offer big chances to score extra points\, but watch out—wrong answers can cost you!Bring your best guesses\, your A-team\, and enjoy a night full of laughs and friendly competition!
URL:https://funinfarmington.com/event/opinionation-at-farmington-brewing-co/2028-11-08/
LOCATION:Farmington Brewing Company\, 33336 Grand River Ave\, Farmington\, Michigan\, 48336
CATEGORIES:Trivia
END:VEVENT
BEGIN:VEVENT
DTSTART;TZID=UTC:20281113T183000
DTEND;TZID=UTC:20281113T203000
DTSTAMP:20260420T213327
CREATED:20250908T125825Z
LAST-MODIFIED:20250908T125825Z
UID:10017288-1857753000-1857760200@funinfarmington.com
SUMMARY:Trivia Night at Shots Bar and Grill
DESCRIPTION:𝑻𝑹𝑰𝑽𝑰𝑨 𝑵𝑰𝑮𝑯𝑻 tonight at Shots Bar & Grille in Farmington Hills!Game starts at 6:30pm!
URL:https://funinfarmington.com/event/trivia-night-at-shots-bar-and-grill/2028-11-13/
LOCATION:Shots Bar and Grille\, 30859 W 10 Mile Rd\, Farmington Hills\, Michigan\, 48336
CATEGORIES:Trivia
END:VEVENT
BEGIN:VEVENT
DTSTART;TZID=UTC:20281115T183000
DTEND;TZID=UTC:20281115T203000
DTSTAMP:20260420T213327
CREATED:20251117T152957Z
LAST-MODIFIED:20251117T152957Z
UID:10018241-1857925800-1857933000@funinfarmington.com
SUMMARY:OpinioNation! at Farmington Brewing Co
DESCRIPTION:OpinioNation at FBC!\nGet ready for some mid-week fun with OpinioNation at FBC! Join us every Wednesday for a low-stress\, high-energy game where your team debates the most popular answers to survey questions. Top two teams win a gift certificate to FBC! Games kick off at 6:30pm and 7:30pm!\nHere’s how it works:\nEach round has four survey questions\, and your team will try to guess the most common answers.Guess the most popular answer? Earn 5 points. The next most common answer? 4 points\, and so on.Bonus rounds and final questions offer big chances to score extra points\, but watch out—wrong answers can cost you!Bring your best guesses\, your A-team\, and enjoy a night full of laughs and friendly competition!
URL:https://funinfarmington.com/event/opinionation-at-farmington-brewing-co/2028-11-15/
LOCATION:Farmington Brewing Company\, 33336 Grand River Ave\, Farmington\, Michigan\, 48336
CATEGORIES:Trivia
END:VEVENT
BEGIN:VEVENT
DTSTART;TZID=UTC:20281120T183000
DTEND;TZID=UTC:20281120T203000
DTSTAMP:20260420T213327
CREATED:20250908T125825Z
LAST-MODIFIED:20250908T125825Z
UID:10017289-1858357800-1858365000@funinfarmington.com
SUMMARY:Trivia Night at Shots Bar and Grill
DESCRIPTION:𝑻𝑹𝑰𝑽𝑰𝑨 𝑵𝑰𝑮𝑯𝑻 tonight at Shots Bar & Grille in Farmington Hills!Game starts at 6:30pm!
URL:https://funinfarmington.com/event/trivia-night-at-shots-bar-and-grill/2028-11-20/
LOCATION:Shots Bar and Grille\, 30859 W 10 Mile Rd\, Farmington Hills\, Michigan\, 48336
CATEGORIES:Trivia
END:VEVENT
BEGIN:VEVENT
DTSTART;TZID=UTC:20281122T183000
DTEND;TZID=UTC:20281122T203000
DTSTAMP:20260420T213327
CREATED:20251117T152957Z
LAST-MODIFIED:20251117T152957Z
UID:10018242-1858530600-1858537800@funinfarmington.com
SUMMARY:OpinioNation! at Farmington Brewing Co
DESCRIPTION:OpinioNation at FBC!\nGet ready for some mid-week fun with OpinioNation at FBC! Join us every Wednesday for a low-stress\, high-energy game where your team debates the most popular answers to survey questions. Top two teams win a gift certificate to FBC! Games kick off at 6:30pm and 7:30pm!\nHere’s how it works:\nEach round has four survey questions\, and your team will try to guess the most common answers.Guess the most popular answer? Earn 5 points. The next most common answer? 4 points\, and so on.Bonus rounds and final questions offer big chances to score extra points\, but watch out—wrong answers can cost you!Bring your best guesses\, your A-team\, and enjoy a night full of laughs and friendly competition!
URL:https://funinfarmington.com/event/opinionation-at-farmington-brewing-co/2028-11-22/
LOCATION:Farmington Brewing Company\, 33336 Grand River Ave\, Farmington\, Michigan\, 48336
CATEGORIES:Trivia
END:VEVENT
BEGIN:VEVENT
DTSTART;TZID=UTC:20281127T183000
DTEND;TZID=UTC:20281127T203000
DTSTAMP:20260420T213327
CREATED:20250908T125825Z
LAST-MODIFIED:20250908T125825Z
UID:10017290-1858962600-1858969800@funinfarmington.com
SUMMARY:Trivia Night at Shots Bar and Grill
DESCRIPTION:𝑻𝑹𝑰𝑽𝑰𝑨 𝑵𝑰𝑮𝑯𝑻 tonight at Shots Bar & Grille in Farmington Hills!Game starts at 6:30pm!
URL:https://funinfarmington.com/event/trivia-night-at-shots-bar-and-grill/2028-11-27/
LOCATION:Shots Bar and Grille\, 30859 W 10 Mile Rd\, Farmington Hills\, Michigan\, 48336
CATEGORIES:Trivia
END:VEVENT
BEGIN:VEVENT
DTSTART;TZID=UTC:20281129T183000
DTEND;TZID=UTC:20281129T203000
DTSTAMP:20260420T213327
CREATED:20251117T152957Z
LAST-MODIFIED:20251117T152957Z
UID:10018243-1859135400-1859142600@funinfarmington.com
SUMMARY:OpinioNation! at Farmington Brewing Co
DESCRIPTION:OpinioNation at FBC!\nGet ready for some mid-week fun with OpinioNation at FBC! Join us every Wednesday for a low-stress\, high-energy game where your team debates the most popular answers to survey questions. Top two teams win a gift certificate to FBC! Games kick off at 6:30pm and 7:30pm!\nHere’s how it works:\nEach round has four survey questions\, and your team will try to guess the most common answers.Guess the most popular answer? Earn 5 points. The next most common answer? 4 points\, and so on.Bonus rounds and final questions offer big chances to score extra points\, but watch out—wrong answers can cost you!Bring your best guesses\, your A-team\, and enjoy a night full of laughs and friendly competition!
URL:https://funinfarmington.com/event/opinionation-at-farmington-brewing-co/2028-11-29/
LOCATION:Farmington Brewing Company\, 33336 Grand River Ave\, Farmington\, Michigan\, 48336
CATEGORIES:Trivia
END:VEVENT
BEGIN:VEVENT
DTSTART;TZID=UTC:20281204T183000
DTEND;TZID=UTC:20281204T203000
DTSTAMP:20260420T213327
CREATED:20250908T125825Z
LAST-MODIFIED:20250908T125825Z
UID:10017291-1859567400-1859574600@funinfarmington.com
SUMMARY:Trivia Night at Shots Bar and Grill
DESCRIPTION:𝑻𝑹𝑰𝑽𝑰𝑨 𝑵𝑰𝑮𝑯𝑻 tonight at Shots Bar & Grille in Farmington Hills!Game starts at 6:30pm!
URL:https://funinfarmington.com/event/trivia-night-at-shots-bar-and-grill/2028-12-04/
LOCATION:Shots Bar and Grille\, 30859 W 10 Mile Rd\, Farmington Hills\, Michigan\, 48336
CATEGORIES:Trivia
END:VEVENT
BEGIN:VEVENT
DTSTART;TZID=UTC:20281206T183000
DTEND;TZID=UTC:20281206T203000
DTSTAMP:20260420T213327
CREATED:20251117T152957Z
LAST-MODIFIED:20251117T152957Z
UID:10018244-1859740200-1859747400@funinfarmington.com
SUMMARY:OpinioNation! at Farmington Brewing Co
DESCRIPTION:OpinioNation at FBC!\nGet ready for some mid-week fun with OpinioNation at FBC! Join us every Wednesday for a low-stress\, high-energy game where your team debates the most popular answers to survey questions. Top two teams win a gift certificate to FBC! Games kick off at 6:30pm and 7:30pm!\nHere’s how it works:\nEach round has four survey questions\, and your team will try to guess the most common answers.Guess the most popular answer? Earn 5 points. The next most common answer? 4 points\, and so on.Bonus rounds and final questions offer big chances to score extra points\, but watch out—wrong answers can cost you!Bring your best guesses\, your A-team\, and enjoy a night full of laughs and friendly competition!
URL:https://funinfarmington.com/event/opinionation-at-farmington-brewing-co/2028-12-06/
LOCATION:Farmington Brewing Company\, 33336 Grand River Ave\, Farmington\, Michigan\, 48336
CATEGORIES:Trivia
END:VEVENT
BEGIN:VEVENT
DTSTART;TZID=UTC:20281211T183000
DTEND;TZID=UTC:20281211T203000
DTSTAMP:20260420T213327
CREATED:20250908T125825Z
LAST-MODIFIED:20250908T125825Z
UID:10017292-1860172200-1860179400@funinfarmington.com
SUMMARY:Trivia Night at Shots Bar and Grill
DESCRIPTION:𝑻𝑹𝑰𝑽𝑰𝑨 𝑵𝑰𝑮𝑯𝑻 tonight at Shots Bar & Grille in Farmington Hills!Game starts at 6:30pm!
URL:https://funinfarmington.com/event/trivia-night-at-shots-bar-and-grill/2028-12-11/
LOCATION:Shots Bar and Grille\, 30859 W 10 Mile Rd\, Farmington Hills\, Michigan\, 48336
CATEGORIES:Trivia
END:VEVENT
BEGIN:VEVENT
DTSTART;TZID=UTC:20281213T183000
DTEND;TZID=UTC:20281213T203000
DTSTAMP:20260420T213327
CREATED:20251117T152957Z
LAST-MODIFIED:20251117T152957Z
UID:10018245-1860345000-1860352200@funinfarmington.com
SUMMARY:OpinioNation! at Farmington Brewing Co
DESCRIPTION:OpinioNation at FBC!\nGet ready for some mid-week fun with OpinioNation at FBC! Join us every Wednesday for a low-stress\, high-energy game where your team debates the most popular answers to survey questions. Top two teams win a gift certificate to FBC! Games kick off at 6:30pm and 7:30pm!\nHere’s how it works:\nEach round has four survey questions\, and your team will try to guess the most common answers.Guess the most popular answer? Earn 5 points. The next most common answer? 4 points\, and so on.Bonus rounds and final questions offer big chances to score extra points\, but watch out—wrong answers can cost you!Bring your best guesses\, your A-team\, and enjoy a night full of laughs and friendly competition!
URL:https://funinfarmington.com/event/opinionation-at-farmington-brewing-co/2028-12-13/
LOCATION:Farmington Brewing Company\, 33336 Grand River Ave\, Farmington\, Michigan\, 48336
CATEGORIES:Trivia
END:VEVENT
BEGIN:VEVENT
DTSTART;TZID=UTC:20281218T183000
DTEND;TZID=UTC:20281218T203000
DTSTAMP:20260420T213327
CREATED:20250908T125825Z
LAST-MODIFIED:20250908T125825Z
UID:10017293-1860777000-1860784200@funinfarmington.com
SUMMARY:Trivia Night at Shots Bar and Grill
DESCRIPTION:𝑻𝑹𝑰𝑽𝑰𝑨 𝑵𝑰𝑮𝑯𝑻 tonight at Shots Bar & Grille in Farmington Hills!Game starts at 6:30pm!
URL:https://funinfarmington.com/event/trivia-night-at-shots-bar-and-grill/2028-12-18/
LOCATION:Shots Bar and Grille\, 30859 W 10 Mile Rd\, Farmington Hills\, Michigan\, 48336
CATEGORIES:Trivia
END:VEVENT
BEGIN:VEVENT
DTSTART;TZID=UTC:20281220T183000
DTEND;TZID=UTC:20281220T203000
DTSTAMP:20260420T213327
CREATED:20251117T152957Z
LAST-MODIFIED:20251117T152957Z
UID:10018246-1860949800-1860957000@funinfarmington.com
SUMMARY:OpinioNation! at Farmington Brewing Co
DESCRIPTION:OpinioNation at FBC!\nGet ready for some mid-week fun with OpinioNation at FBC! Join us every Wednesday for a low-stress\, high-energy game where your team debates the most popular answers to survey questions. Top two teams win a gift certificate to FBC! Games kick off at 6:30pm and 7:30pm!\nHere’s how it works:\nEach round has four survey questions\, and your team will try to guess the most common answers.Guess the most popular answer? Earn 5 points. The next most common answer? 4 points\, and so on.Bonus rounds and final questions offer big chances to score extra points\, but watch out—wrong answers can cost you!Bring your best guesses\, your A-team\, and enjoy a night full of laughs and friendly competition!
URL:https://funinfarmington.com/event/opinionation-at-farmington-brewing-co/2028-12-20/
LOCATION:Farmington Brewing Company\, 33336 Grand River Ave\, Farmington\, Michigan\, 48336
CATEGORIES:Trivia
END:VEVENT
BEGIN:VEVENT
DTSTART;TZID=UTC:20281225T183000
DTEND;TZID=UTC:20281225T203000
DTSTAMP:20260420T213327
CREATED:20250908T125825Z
LAST-MODIFIED:20250908T125825Z
UID:10017294-1861381800-1861389000@funinfarmington.com
SUMMARY:Trivia Night at Shots Bar and Grill
DESCRIPTION:𝑻𝑹𝑰𝑽𝑰𝑨 𝑵𝑰𝑮𝑯𝑻 tonight at Shots Bar & Grille in Farmington Hills!Game starts at 6:30pm!
URL:https://funinfarmington.com/event/trivia-night-at-shots-bar-and-grill/2028-12-25/
LOCATION:Shots Bar and Grille\, 30859 W 10 Mile Rd\, Farmington Hills\, Michigan\, 48336
CATEGORIES:Trivia
END:VEVENT
BEGIN:VEVENT
DTSTART;TZID=UTC:20281227T183000
DTEND;TZID=UTC:20281227T203000
DTSTAMP:20260420T213327
CREATED:20251117T152957Z
LAST-MODIFIED:20251117T152957Z
UID:10018247-1861554600-1861561800@funinfarmington.com
SUMMARY:OpinioNation! at Farmington Brewing Co
DESCRIPTION:OpinioNation at FBC!\nGet ready for some mid-week fun with OpinioNation at FBC! Join us every Wednesday for a low-stress\, high-energy game where your team debates the most popular answers to survey questions. Top two teams win a gift certificate to FBC! Games kick off at 6:30pm and 7:30pm!\nHere’s how it works:\nEach round has four survey questions\, and your team will try to guess the most common answers.Guess the most popular answer? Earn 5 points. The next most common answer? 4 points\, and so on.Bonus rounds and final questions offer big chances to score extra points\, but watch out—wrong answers can cost you!Bring your best guesses\, your A-team\, and enjoy a night full of laughs and friendly competition!
URL:https://funinfarmington.com/event/opinionation-at-farmington-brewing-co/2028-12-27/
LOCATION:Farmington Brewing Company\, 33336 Grand River Ave\, Farmington\, Michigan\, 48336
CATEGORIES:Trivia
END:VEVENT
BEGIN:VEVENT
DTSTART;TZID=UTC:20290101T183000
DTEND;TZID=UTC:20290101T203000
DTSTAMP:20260420T213327
CREATED:20250908T125825Z
LAST-MODIFIED:20250908T125825Z
UID:10017295-1861986600-1861993800@funinfarmington.com
SUMMARY:Trivia Night at Shots Bar and Grill
DESCRIPTION:𝑻𝑹𝑰𝑽𝑰𝑨 𝑵𝑰𝑮𝑯𝑻 tonight at Shots Bar & Grille in Farmington Hills!Game starts at 6:30pm!
URL:https://funinfarmington.com/event/trivia-night-at-shots-bar-and-grill/2029-01-01/
LOCATION:Shots Bar and Grille\, 30859 W 10 Mile Rd\, Farmington Hills\, Michigan\, 48336
CATEGORIES:Trivia
END:VEVENT
BEGIN:VEVENT
DTSTART;TZID=UTC:20290103T183000
DTEND;TZID=UTC:20290103T203000
DTSTAMP:20260420T213327
CREATED:20251117T152957Z
LAST-MODIFIED:20251117T152957Z
UID:10018248-1862159400-1862166600@funinfarmington.com
SUMMARY:OpinioNation! at Farmington Brewing Co
DESCRIPTION:OpinioNation at FBC!\nGet ready for some mid-week fun with OpinioNation at FBC! Join us every Wednesday for a low-stress\, high-energy game where your team debates the most popular answers to survey questions. Top two teams win a gift certificate to FBC! Games kick off at 6:30pm and 7:30pm!\nHere’s how it works:\nEach round has four survey questions\, and your team will try to guess the most common answers.Guess the most popular answer? Earn 5 points. The next most common answer? 4 points\, and so on.Bonus rounds and final questions offer big chances to score extra points\, but watch out—wrong answers can cost you!Bring your best guesses\, your A-team\, and enjoy a night full of laughs and friendly competition!
URL:https://funinfarmington.com/event/opinionation-at-farmington-brewing-co/2029-01-03/
LOCATION:Farmington Brewing Company\, 33336 Grand River Ave\, Farmington\, Michigan\, 48336
CATEGORIES:Trivia
END:VEVENT
BEGIN:VEVENT
DTSTART;TZID=UTC:20290108T183000
DTEND;TZID=UTC:20290108T203000
DTSTAMP:20260420T213327
CREATED:20250908T125825Z
LAST-MODIFIED:20250908T125825Z
UID:10017296-1862591400-1862598600@funinfarmington.com
SUMMARY:Trivia Night at Shots Bar and Grill
DESCRIPTION:𝑻𝑹𝑰𝑽𝑰𝑨 𝑵𝑰𝑮𝑯𝑻 tonight at Shots Bar & Grille in Farmington Hills!Game starts at 6:30pm!
URL:https://funinfarmington.com/event/trivia-night-at-shots-bar-and-grill/2029-01-08/
LOCATION:Shots Bar and Grille\, 30859 W 10 Mile Rd\, Farmington Hills\, Michigan\, 48336
CATEGORIES:Trivia
END:VEVENT
BEGIN:VEVENT
DTSTART;TZID=UTC:20290110T183000
DTEND;TZID=UTC:20290110T203000
DTSTAMP:20260420T213327
CREATED:20251117T152957Z
LAST-MODIFIED:20251117T152957Z
UID:10018249-1862764200-1862771400@funinfarmington.com
SUMMARY:OpinioNation! at Farmington Brewing Co
DESCRIPTION:OpinioNation at FBC!\nGet ready for some mid-week fun with OpinioNation at FBC! Join us every Wednesday for a low-stress\, high-energy game where your team debates the most popular answers to survey questions. Top two teams win a gift certificate to FBC! Games kick off at 6:30pm and 7:30pm!\nHere’s how it works:\nEach round has four survey questions\, and your team will try to guess the most common answers.Guess the most popular answer? Earn 5 points. The next most common answer? 4 points\, and so on.Bonus rounds and final questions offer big chances to score extra points\, but watch out—wrong answers can cost you!Bring your best guesses\, your A-team\, and enjoy a night full of laughs and friendly competition!
URL:https://funinfarmington.com/event/opinionation-at-farmington-brewing-co/2029-01-10/
LOCATION:Farmington Brewing Company\, 33336 Grand River Ave\, Farmington\, Michigan\, 48336
CATEGORIES:Trivia
END:VEVENT
BEGIN:VEVENT
DTSTART;TZID=UTC:20290115T183000
DTEND;TZID=UTC:20290115T203000
DTSTAMP:20260420T213327
CREATED:20250908T125825Z
LAST-MODIFIED:20250908T125825Z
UID:10017297-1863196200-1863203400@funinfarmington.com
SUMMARY:Trivia Night at Shots Bar and Grill
DESCRIPTION:𝑻𝑹𝑰𝑽𝑰𝑨 𝑵𝑰𝑮𝑯𝑻 tonight at Shots Bar & Grille in Farmington Hills!Game starts at 6:30pm!
URL:https://funinfarmington.com/event/trivia-night-at-shots-bar-and-grill/2029-01-15/
LOCATION:Shots Bar and Grille\, 30859 W 10 Mile Rd\, Farmington Hills\, Michigan\, 48336
CATEGORIES:Trivia
END:VEVENT
BEGIN:VEVENT
DTSTART;TZID=UTC:20290117T183000
DTEND;TZID=UTC:20290117T203000
DTSTAMP:20260420T213327
CREATED:20251117T152957Z
LAST-MODIFIED:20251117T152957Z
UID:10018250-1863369000-1863376200@funinfarmington.com
SUMMARY:OpinioNation! at Farmington Brewing Co
DESCRIPTION:OpinioNation at FBC!\nGet ready for some mid-week fun with OpinioNation at FBC! Join us every Wednesday for a low-stress\, high-energy game where your team debates the most popular answers to survey questions. Top two teams win a gift certificate to FBC! Games kick off at 6:30pm and 7:30pm!\nHere’s how it works:\nEach round has four survey questions\, and your team will try to guess the most common answers.Guess the most popular answer? Earn 5 points. The next most common answer? 4 points\, and so on.Bonus rounds and final questions offer big chances to score extra points\, but watch out—wrong answers can cost you!Bring your best guesses\, your A-team\, and enjoy a night full of laughs and friendly competition!
URL:https://funinfarmington.com/event/opinionation-at-farmington-brewing-co/2029-01-17/
LOCATION:Farmington Brewing Company\, 33336 Grand River Ave\, Farmington\, Michigan\, 48336
CATEGORIES:Trivia
END:VEVENT
BEGIN:VEVENT
DTSTART;TZID=UTC:20290122T183000
DTEND;TZID=UTC:20290122T203000
DTSTAMP:20260420T213327
CREATED:20250908T125825Z
LAST-MODIFIED:20250908T125825Z
UID:10017298-1863801000-1863808200@funinfarmington.com
SUMMARY:Trivia Night at Shots Bar and Grill
DESCRIPTION:𝑻𝑹𝑰𝑽𝑰𝑨 𝑵𝑰𝑮𝑯𝑻 tonight at Shots Bar & Grille in Farmington Hills!Game starts at 6:30pm!
URL:https://funinfarmington.com/event/trivia-night-at-shots-bar-and-grill/2029-01-22/
LOCATION:Shots Bar and Grille\, 30859 W 10 Mile Rd\, Farmington Hills\, Michigan\, 48336
CATEGORIES:Trivia
END:VEVENT
BEGIN:VEVENT
DTSTART;TZID=UTC:20290124T183000
DTEND;TZID=UTC:20290124T203000
DTSTAMP:20260420T213327
CREATED:20251117T152957Z
LAST-MODIFIED:20251117T152957Z
UID:10018251-1863973800-1863981000@funinfarmington.com
SUMMARY:OpinioNation! at Farmington Brewing Co
DESCRIPTION:OpinioNation at FBC!\nGet ready for some mid-week fun with OpinioNation at FBC! Join us every Wednesday for a low-stress\, high-energy game where your team debates the most popular answers to survey questions. Top two teams win a gift certificate to FBC! Games kick off at 6:30pm and 7:30pm!\nHere’s how it works:\nEach round has four survey questions\, and your team will try to guess the most common answers.Guess the most popular answer? Earn 5 points. The next most common answer? 4 points\, and so on.Bonus rounds and final questions offer big chances to score extra points\, but watch out—wrong answers can cost you!Bring your best guesses\, your A-team\, and enjoy a night full of laughs and friendly competition!
URL:https://funinfarmington.com/event/opinionation-at-farmington-brewing-co/2029-01-24/
LOCATION:Farmington Brewing Company\, 33336 Grand River Ave\, Farmington\, Michigan\, 48336
CATEGORIES:Trivia
END:VEVENT
BEGIN:VEVENT
DTSTART;TZID=UTC:20290129T183000
DTEND;TZID=UTC:20290129T203000
DTSTAMP:20260420T213327
CREATED:20250908T125825Z
LAST-MODIFIED:20250908T125825Z
UID:10017299-1864405800-1864413000@funinfarmington.com
SUMMARY:Trivia Night at Shots Bar and Grill
DESCRIPTION:𝑻𝑹𝑰𝑽𝑰𝑨 𝑵𝑰𝑮𝑯𝑻 tonight at Shots Bar & Grille in Farmington Hills!Game starts at 6:30pm!
URL:https://funinfarmington.com/event/trivia-night-at-shots-bar-and-grill/2029-01-29/
LOCATION:Shots Bar and Grille\, 30859 W 10 Mile Rd\, Farmington Hills\, Michigan\, 48336
CATEGORIES:Trivia
END:VEVENT
BEGIN:VEVENT
DTSTART;TZID=UTC:20290131T183000
DTEND;TZID=UTC:20290131T203000
DTSTAMP:20260420T213327
CREATED:20251117T152957Z
LAST-MODIFIED:20251117T152957Z
UID:10018252-1864578600-1864585800@funinfarmington.com
SUMMARY:OpinioNation! at Farmington Brewing Co
DESCRIPTION:OpinioNation at FBC!\nGet ready for some mid-week fun with OpinioNation at FBC! Join us every Wednesday for a low-stress\, high-energy game where your team debates the most popular answers to survey questions. Top two teams win a gift certificate to FBC! Games kick off at 6:30pm and 7:30pm!\nHere’s how it works:\nEach round has four survey questions\, and your team will try to guess the most common answers.Guess the most popular answer? Earn 5 points. The next most common answer? 4 points\, and so on.Bonus rounds and final questions offer big chances to score extra points\, but watch out—wrong answers can cost you!Bring your best guesses\, your A-team\, and enjoy a night full of laughs and friendly competition!
URL:https://funinfarmington.com/event/opinionation-at-farmington-brewing-co/2029-01-31/
LOCATION:Farmington Brewing Company\, 33336 Grand River Ave\, Farmington\, Michigan\, 48336
CATEGORIES:Trivia
END:VEVENT
BEGIN:VEVENT
DTSTART;TZID=UTC:20290205T183000
DTEND;TZID=UTC:20290205T203000
DTSTAMP:20260420T213327
CREATED:20250908T125825Z
LAST-MODIFIED:20250908T125825Z
UID:10017300-1865010600-1865017800@funinfarmington.com
SUMMARY:Trivia Night at Shots Bar and Grill
DESCRIPTION:𝑻𝑹𝑰𝑽𝑰𝑨 𝑵𝑰𝑮𝑯𝑻 tonight at Shots Bar & Grille in Farmington Hills!Game starts at 6:30pm!
URL:https://funinfarmington.com/event/trivia-night-at-shots-bar-and-grill/2029-02-05/
LOCATION:Shots Bar and Grille\, 30859 W 10 Mile Rd\, Farmington Hills\, Michigan\, 48336
CATEGORIES:Trivia
END:VEVENT
BEGIN:VEVENT
DTSTART;TZID=UTC:20290207T183000
DTEND;TZID=UTC:20290207T203000
DTSTAMP:20260420T213327
CREATED:20251117T152957Z
LAST-MODIFIED:20251117T152957Z
UID:10018253-1865183400-1865190600@funinfarmington.com
SUMMARY:OpinioNation! at Farmington Brewing Co
DESCRIPTION:OpinioNation at FBC!\nGet ready for some mid-week fun with OpinioNation at FBC! Join us every Wednesday for a low-stress\, high-energy game where your team debates the most popular answers to survey questions. Top two teams win a gift certificate to FBC! Games kick off at 6:30pm and 7:30pm!\nHere’s how it works:\nEach round has four survey questions\, and your team will try to guess the most common answers.Guess the most popular answer? Earn 5 points. The next most common answer? 4 points\, and so on.Bonus rounds and final questions offer big chances to score extra points\, but watch out—wrong answers can cost you!Bring your best guesses\, your A-team\, and enjoy a night full of laughs and friendly competition!
URL:https://funinfarmington.com/event/opinionation-at-farmington-brewing-co/2029-02-07/
LOCATION:Farmington Brewing Company\, 33336 Grand River Ave\, Farmington\, Michigan\, 48336
CATEGORIES:Trivia
END:VEVENT
END:VCALENDAR