BEGIN:VCALENDAR
VERSION:2.0
PRODID:-//Fun in Farmington - ECPv6.15.20//NONSGML v1.0//EN
CALSCALE:GREGORIAN
METHOD:PUBLISH
X-WR-CALNAME:Fun in Farmington
X-ORIGINAL-URL:https://funinfarmington.com
X-WR-CALDESC:Events for Fun in Farmington
REFRESH-INTERVAL;VALUE=DURATION:PT1H
X-Robots-Tag:noindex
X-PUBLISHED-TTL:PT1H
BEGIN:VTIMEZONE
TZID:UTC
BEGIN:STANDARD
TZOFFSETFROM:+0000
TZOFFSETTO:+0000
TZNAME:UTC
DTSTART:20250101T000000
END:STANDARD
END:VTIMEZONE
BEGIN:VEVENT
DTSTART;TZID=UTC:20260221T130000
DTEND;TZID=UTC:20260221T150000
DTSTAMP:20260421T160453
CREATED:20260112T000045Z
LAST-MODIFIED:20260112T000135Z
UID:10019159-1771678800-1771686000@funinfarmington.com
SUMMARY:Volunteer Days at Heritage Park
DESCRIPTION:Volunteer to make Heritage Park an even better place! Participate in activities like removing invasive plants\, planting native wildflowers\, collecting seeds\, trail and nature center maintenance\, and more!\nCall the Nature Center to learn more about this month’s volunteer activities.\nAll ages and skill levels welcome\, just show up! Children must be accompanied by an adult. For groups of 5 or more\, please call the Nature Center to let us know you’re coming in advance.\nBring your own gardening/work gloves if you have them. All equipment provided.
URL:https://funinfarmington.com/event/volunteer-days-at-heritage-park/2026-02-21/
LOCATION:Heritage Park\, 24915 Farmington Rd\, Farmington Hills\, MI\, 48336\, United States
CATEGORIES:Volunteer
END:VEVENT
END:VCALENDAR