BEGIN:VCALENDAR
VERSION:2.0
PRODID:-//Fun in Farmington - ECPv6.15.20//NONSGML v1.0//EN
CALSCALE:GREGORIAN
METHOD:PUBLISH
X-ORIGINAL-URL:https://funinfarmington.com
X-WR-CALDESC:Events for Fun in Farmington
REFRESH-INTERVAL;VALUE=DURATION:PT1H
X-Robots-Tag:noindex
X-PUBLISHED-TTL:PT1H
BEGIN:VTIMEZONE
TZID:UTC
BEGIN:STANDARD
TZOFFSETFROM:+0000
TZOFFSETTO:+0000
TZNAME:UTC
DTSTART:20250101T000000
END:STANDARD
END:VTIMEZONE
BEGIN:VEVENT
DTSTART;TZID=UTC:20260425T130000
DTEND;TZID=UTC:20260425T170000
DTSTAMP:20260419T123717
CREATED:20260416T174008Z
LAST-MODIFIED:20260416T174008Z
UID:10020507-1777122000-1777136400@funinfarmington.com
SUMMARY:The Great Farmington Cleanup
DESCRIPTION:Date: Saturday\, April 25th\, 2026 from 1:00 – 5:00pm \nWhere: Sundquist Pavilion in Riley Park – Downtown Farmington\, 33113 Grand River Avenue \nThe Beautification Committee is excited to partner with the Farmington community to help clean up the city.  We are looking forward to seeing everyone\, enjoying the day\, and then ending back at the Riley Park Pavilion for pizza and prizes. \nLocal partners have been extremely generous with their donations.  You can get tickets to the raffle by donating items that will be sent to CARES.  5 items will get you 1 ticket.   \nAccepted items include; non-perishables\, i.e.\, cans or boxed cereal. \nNote for picking up trash:  There might be areas with poison ivy\, so please dress appropriately. \nThe Beautification Committee will be providing trash bags\, gloves\, and precinct maps to identify particular areas for clean-up. \nWe are looking forward to seeing you! \nThe Beautification Committee
URL:https://funinfarmington.com/event/the-great-farmington-cleanup/
LOCATION:Sundquist Pavilion\, 33113 Grand River Ave\, Farmington\, Michigan\, 48336
CATEGORIES:Volunteer
END:VEVENT
END:VCALENDAR