BEGIN:VCALENDAR
VERSION:2.0
PRODID:-//Fun in Farmington - ECPv6.15.20//NONSGML v1.0//EN
CALSCALE:GREGORIAN
METHOD:PUBLISH
X-ORIGINAL-URL:https://funinfarmington.com
X-WR-CALDESC:Events for Fun in Farmington
REFRESH-INTERVAL;VALUE=DURATION:PT1H
X-Robots-Tag:noindex
X-PUBLISHED-TTL:PT1H
BEGIN:VTIMEZONE
TZID:UTC
BEGIN:STANDARD
TZOFFSETFROM:+0000
TZOFFSETTO:+0000
TZNAME:UTC
DTSTART:20240101T000000
END:STANDARD
END:VTIMEZONE
BEGIN:VEVENT
DTSTART;TZID=UTC:20260418T133000
DTEND;TZID=UTC:20260418T163000
DTSTAMP:20260419T210729
CREATED:20260412T203834Z
LAST-MODIFIED:20260412T203834Z
UID:10020493-1776519000-1776529800@funinfarmington.com
SUMMARY:Community Art Project (Grades 6-12) at Library (Farmington) - RSVP
DESCRIPTION:Registration is required. \n\nRegistration will close on April 18\, 2026 @ 1:30pm.\n\nHelp us get ready for Summer of Stories by contributing to a community art project! Get creative while getting a sneak peek at the upcoming reading program. To earn volunteer hours\, participants must have a work permit on file with the Library. \nIf you are interested in getting a work permit on file please email sarah.mccarthy@farmlib.org.
URL:https://funinfarmington.com/event/community-art-project-grades-6-12-at-library-farmington-rsvp/
LOCATION:Farmington Community Library – Farmington Location\, 23500 Liberty St.\, Farmington\, Michigan\, 48335
CATEGORIES:Volunteer
END:VEVENT
BEGIN:VEVENT
DTSTART;TZID=UTC:20260418T130000
DTEND;TZID=UTC:20260418T150000
DTSTAMP:20260419T210729
CREATED:20260112T000045Z
LAST-MODIFIED:20260112T000135Z
UID:10019161-1776517200-1776524400@funinfarmington.com
SUMMARY:Volunteer Days at Heritage Park
DESCRIPTION:Volunteer to make Heritage Park an even better place! Participate in activities like removing invasive plants\, planting native wildflowers\, collecting seeds\, trail and nature center maintenance\, and more!\nCall the Nature Center to learn more about this month’s volunteer activities.\nAll ages and skill levels welcome\, just show up! Children must be accompanied by an adult. For groups of 5 or more\, please call the Nature Center to let us know you’re coming in advance.\nBring your own gardening/work gloves if you have them. All equipment provided.
URL:https://funinfarmington.com/event/volunteer-days-at-heritage-park/2026-04-18/
LOCATION:Heritage Park\, 24915 Farmington Rd\, Farmington Hills\, MI\, 48336\, United States
CATEGORIES:Volunteer
END:VEVENT
BEGIN:VEVENT
DTSTART;TZID=UTC:20260321T130000
DTEND;TZID=UTC:20260321T150000
DTSTAMP:20260419T210729
CREATED:20260319T152111Z
LAST-MODIFIED:20260319T152111Z
UID:10020027-1774098000-1774105200@funinfarmington.com
SUMMARY:Volunteer Days at Heritage Park
DESCRIPTION:Volunteer to make Heritage Park even better!
URL:https://funinfarmington.com/event/volunteer-days-at-heritage-park-2/
LOCATION:Heritage Park\, 24915 Farmington Rd\, Farmington Hills\, MI\, 48336\, United States
CATEGORIES:Volunteer
END:VEVENT
BEGIN:VEVENT
DTSTART;TZID=UTC:20260321T130000
DTEND;TZID=UTC:20260321T150000
DTSTAMP:20260419T210729
CREATED:20260112T000045Z
LAST-MODIFIED:20260112T000135Z
UID:10019160-1774098000-1774105200@funinfarmington.com
SUMMARY:Volunteer Days at Heritage Park
DESCRIPTION:Volunteer to make Heritage Park an even better place! Participate in activities like removing invasive plants\, planting native wildflowers\, collecting seeds\, trail and nature center maintenance\, and more!\nCall the Nature Center to learn more about this month’s volunteer activities.\nAll ages and skill levels welcome\, just show up! Children must be accompanied by an adult. For groups of 5 or more\, please call the Nature Center to let us know you’re coming in advance.\nBring your own gardening/work gloves if you have them. All equipment provided.
URL:https://funinfarmington.com/event/volunteer-days-at-heritage-park/2026-03-21/
LOCATION:Heritage Park\, 24915 Farmington Rd\, Farmington Hills\, MI\, 48336\, United States
CATEGORIES:Volunteer
END:VEVENT
BEGIN:VEVENT
DTSTART;TZID=UTC:20260221T130000
DTEND;TZID=UTC:20260221T150000
DTSTAMP:20260419T210729
CREATED:20260112T000045Z
LAST-MODIFIED:20260112T000135Z
UID:10019159-1771678800-1771686000@funinfarmington.com
SUMMARY:Volunteer Days at Heritage Park
DESCRIPTION:Volunteer to make Heritage Park an even better place! Participate in activities like removing invasive plants\, planting native wildflowers\, collecting seeds\, trail and nature center maintenance\, and more!\nCall the Nature Center to learn more about this month’s volunteer activities.\nAll ages and skill levels welcome\, just show up! Children must be accompanied by an adult. For groups of 5 or more\, please call the Nature Center to let us know you’re coming in advance.\nBring your own gardening/work gloves if you have them. All equipment provided.
URL:https://funinfarmington.com/event/volunteer-days-at-heritage-park/2026-02-21/
LOCATION:Heritage Park\, 24915 Farmington Rd\, Farmington Hills\, MI\, 48336\, United States
CATEGORIES:Volunteer
END:VEVENT
BEGIN:VEVENT
DTSTART;TZID=UTC:20260119T153000
DTEND;TZID=UTC:20260119T153000
DTSTAMP:20260419T210729
CREATED:20260118T214427Z
LAST-MODIFIED:20260118T214427Z
UID:10019291-1768836600-1768836600@funinfarmington.com
SUMMARY:MLK Day Pop-Up Service Opportunity at CARES
DESCRIPTION:Meet up at CARES of Farmington Hills to pack meal kits for CARES clients. Service opportunity is open to middle and high school students. Youth United will validate service hours. A great way to combat #hunger and #foodinsecurity as you work with peers.\nREGISTER at https://tinyurl.com/youthunited26
URL:https://funinfarmington.com/event/mlk-day-pop-up-service-opportunity-at-cares/
LOCATION:CARES in Farmington Hills\, 27835 Shiawassee Rd.\, Farmington Hills\, Michigan\, 48336
CATEGORIES:Volunteer
END:VEVENT
BEGIN:VEVENT
DTSTART;TZID=UTC:20260117T130000
DTEND;TZID=UTC:20260117T150000
DTSTAMP:20260419T210729
CREATED:20260112T000045Z
LAST-MODIFIED:20260112T000135Z
UID:10019158-1768654800-1768662000@funinfarmington.com
SUMMARY:Volunteer Days at Heritage Park
DESCRIPTION:Volunteer to make Heritage Park an even better place! Participate in activities like removing invasive plants\, planting native wildflowers\, collecting seeds\, trail and nature center maintenance\, and more!\nCall the Nature Center to learn more about this month’s volunteer activities.\nAll ages and skill levels welcome\, just show up! Children must be accompanied by an adult. For groups of 5 or more\, please call the Nature Center to let us know you’re coming in advance.\nBring your own gardening/work gloves if you have them. All equipment provided.
URL:https://funinfarmington.com/event/volunteer-days-at-heritage-park/2026-01-17/
LOCATION:Heritage Park\, 24915 Farmington Rd\, Farmington Hills\, MI\, 48336\, United States
CATEGORIES:Volunteer
END:VEVENT
BEGIN:VEVENT
DTSTART;TZID=UTC:20260107T090000
DTEND;TZID=UTC:20260107T190000
DTSTAMP:20260419T210729
CREATED:20260105T040509Z
LAST-MODIFIED:20260105T040509Z
UID:10018466-1767776400-1767812400@funinfarmington.com
SUMMARY:Blood Drive at Costick Center
DESCRIPTION:The City of Farmington Hills is hosting a blood drive in collaboration with the American Red Cross. Donors will be entered for a chance to win a trip for two to Super Bowl LX in California\, including game tickets\, airfare\, hotel and more\, through an American Red Cross partnership with the NFL to encourage post-holiday blood donation.\nAll January 2026 American Red Cross blood donors are automatically entered into the giveaway. Entries are made via the donor’s email address and are limited to one entry per email.\nHow to Participate:• Visit RedCrossBlood.org to schedule an appointment using sponsor code “costickcenter” or call 1-800-RED CROSS (1-800-733-2767).\n• Streamlined check-in: Complete health history questions in advance at RedCrossBlood.org/RapidPass.\nAges 16 and up are encouraged to participate in this vital community effort.\nDonors Ages 18 and Up:• Minimum weight requirement for donors ages 18 and up is 115 lbs.\nStudent Eligibility (16-17 Years):• All high school students must meet height and weight requirements.• 16-year-olds must provide a completed parental consent form.
URL:https://funinfarmington.com/event/blood-drive-at-costick-center/
LOCATION:Costick Center\, 28600 W Eleven Mile Rd\, Farmington Hills\, Michigan\, 48336
CATEGORIES:Special Event,Volunteer
END:VEVENT
BEGIN:VEVENT
DTSTART;TZID=UTC:20251115T130000
DTEND;TZID=UTC:20251115T150000
DTSTAMP:20260419T210729
CREATED:20251002T151108Z
LAST-MODIFIED:20251002T151108Z
UID:10017809-1763211600-1763218800@funinfarmington.com
SUMMARY:Volunteer Days at Heritage
DESCRIPTION:Volunteer to make Heritage Park an even better place! Participate in activities like removing invasive plants\, planting native wildflowers\, collecting seeds\, trail and nature center maintenance\, and more! Call the Nature Center to learn more about this month’s volunteer activities.\nAll ages and skill levels welcome\, just show up! Children must be accompanied by an adult. For groups of 5 or more\, please call the Nature Center to let us know you’re coming in advance.\nBring your own gardening/work gloves if you have them. All equipment provided.
URL:https://funinfarmington.com/event/volunteer-days-at-heritage-2/2025-11-15/
LOCATION:Heritage Park\, 24915 Farmington Rd\, Farmington Hills\, MI\, 48336\, United States
CATEGORIES:NAture,Volunteer
END:VEVENT
BEGIN:VEVENT
DTSTART;TZID=UTC:20251115T130000
DTEND;TZID=UTC:20251115T150000
DTSTAMP:20260419T210729
CREATED:20250918T171015Z
LAST-MODIFIED:20250918T171015Z
UID:10017658-1763211600-1763218800@funinfarmington.com
SUMMARY:Volunteer Days at Heritage
DESCRIPTION:Volunteer to make Heritage Park an even better place! Participate in activities like removing invasive plants\, planting native wildflowers\, collecting seeds\, trail and nature center maintenance\, and more! Call the Nature Center to learn more about this month’s volunteer activities.\nAll ages and skill levels welcome\, just show up! Children must be accompanied by an adult. For groups of 5 or more\, please call the Nature Center to let us know you’re coming in advance.\nBring your own gardening/work gloves if you have them. All equipment provided.
URL:https://funinfarmington.com/event/volunteer-days-at-heritage/2025-11-15/
LOCATION:Farmington Hills Nature Center\, 24915 Farmington Rd\, Farmington Hills\, MI\, 48336
CATEGORIES:NAture,Volunteer
END:VEVENT
BEGIN:VEVENT
DTSTART;TZID=UTC:20251018T130000
DTEND;TZID=UTC:20251018T150000
DTSTAMP:20260419T210729
CREATED:20251002T151108Z
LAST-MODIFIED:20251002T151108Z
UID:10017808-1760792400-1760799600@funinfarmington.com
SUMMARY:Volunteer Days at Heritage
DESCRIPTION:Volunteer to make Heritage Park an even better place! Participate in activities like removing invasive plants\, planting native wildflowers\, collecting seeds\, trail and nature center maintenance\, and more! Call the Nature Center to learn more about this month’s volunteer activities.\nAll ages and skill levels welcome\, just show up! Children must be accompanied by an adult. For groups of 5 or more\, please call the Nature Center to let us know you’re coming in advance.\nBring your own gardening/work gloves if you have them. All equipment provided.
URL:https://funinfarmington.com/event/volunteer-days-at-heritage-2/2025-10-18/
LOCATION:Heritage Park\, 24915 Farmington Rd\, Farmington Hills\, MI\, 48336\, United States
CATEGORIES:NAture,Volunteer
END:VEVENT
BEGIN:VEVENT
DTSTART;TZID=UTC:20251018T130000
DTEND;TZID=UTC:20251018T150000
DTSTAMP:20260419T210729
CREATED:20250918T171015Z
LAST-MODIFIED:20250918T171015Z
UID:10017657-1760792400-1760799600@funinfarmington.com
SUMMARY:Volunteer Days at Heritage
DESCRIPTION:Volunteer to make Heritage Park an even better place! Participate in activities like removing invasive plants\, planting native wildflowers\, collecting seeds\, trail and nature center maintenance\, and more! Call the Nature Center to learn more about this month’s volunteer activities.\nAll ages and skill levels welcome\, just show up! Children must be accompanied by an adult. For groups of 5 or more\, please call the Nature Center to let us know you’re coming in advance.\nBring your own gardening/work gloves if you have them. All equipment provided.
URL:https://funinfarmington.com/event/volunteer-days-at-heritage/2025-10-18/
LOCATION:Farmington Hills Nature Center\, 24915 Farmington Rd\, Farmington Hills\, MI\, 48336
CATEGORIES:NAture,Volunteer
END:VEVENT
BEGIN:VEVENT
DTSTART;TZID=UTC:20250920T130000
DTEND;TZID=UTC:20250920T150000
DTSTAMP:20260419T210729
CREATED:20250918T171015Z
LAST-MODIFIED:20250918T171015Z
UID:10017656-1758373200-1758380400@funinfarmington.com
SUMMARY:Volunteer Days at Heritage
DESCRIPTION:Volunteer to make Heritage Park an even better place! Participate in activities like removing invasive plants\, planting native wildflowers\, collecting seeds\, trail and nature center maintenance\, and more! Call the Nature Center to learn more about this month’s volunteer activities.\nAll ages and skill levels welcome\, just show up! Children must be accompanied by an adult. For groups of 5 or more\, please call the Nature Center to let us know you’re coming in advance.\nBring your own gardening/work gloves if you have them. All equipment provided.
URL:https://funinfarmington.com/event/volunteer-days-at-heritage/2025-09-20/
LOCATION:Farmington Hills Nature Center\, 24915 Farmington Rd\, Farmington Hills\, MI\, 48336
CATEGORIES:NAture,Volunteer
END:VEVENT
END:VCALENDAR