BEGIN:VCALENDAR
VERSION:2.0
PRODID:-//Fun in Farmington - ECPv6.15.20//NONSGML v1.0//EN
CALSCALE:GREGORIAN
METHOD:PUBLISH
X-WR-CALNAME:Fun in Farmington
X-ORIGINAL-URL:https://funinfarmington.com
X-WR-CALDESC:Events for Fun in Farmington
REFRESH-INTERVAL;VALUE=DURATION:PT1H
X-Robots-Tag:noindex
X-PUBLISHED-TTL:PT1H
BEGIN:VTIMEZONE
TZID:UTC
BEGIN:STANDARD
TZOFFSETFROM:+0000
TZOFFSETTO:+0000
TZNAME:UTC
DTSTART:20250101T000000
END:STANDARD
END:VTIMEZONE
BEGIN:VEVENT
DTSTART;TZID=UTC:20260224T190000
DTEND;TZID=UTC:20260224T190000
DTSTAMP:20260420T191436
CREATED:20260222T232334Z
LAST-MODIFIED:20260222T232334Z
UID:10019733-1771959600-1771959600@funinfarmington.com
SUMMARY:Farmington Dance Fitness with Dance 2BeFit\, Susan Marie
DESCRIPTION:Dance Fitness /Club Night Current/Pop PlaylistRSVP “going” if attending pleaseAll welcome.. use your pass or $9.00drop in!!Passes Expire March 1\nLet’s dance !!\nNo membership or duesExperienced instructorLet me help you live a healthier\, more energetic\, positive energy life !\n\, pay via Venmo or cash in personVenmo : Susan-Swanson-34\nDo you want to meet new friends?Do you like music ?Want to surround yourself with positivity\, and good energy?Easy to follow choreography\, non judgement zone.. fun current pop music and other around the world favorites.Meet new friends .This class is for EVERYONENo membership needed ..\nVenmo payment to @ Susan-Swanson-34 to prepay and hold a spot on the dance floor!\nDrop ins welcome .. IF there is still space on the dance floor .Please arrive 5 minutes early Dance studio is to the far back of building that also holds Crossfit
URL:https://funinfarmington.com/event/farmington-dance-fitness-with-dance-2befit-susan-marie/2026-02-24/
LOCATION:Dance 2BeFit\, 24293 Indoplex Cir\, Farmington Hills\, Michigan\, 48335
CATEGORIES:Dance,Fitness,Health,Wellness
END:VEVENT
END:VCALENDAR