BEGIN:VCALENDAR
VERSION:2.0
PRODID:-//Fun in Farmington - ECPv6.15.20//NONSGML v1.0//EN
CALSCALE:GREGORIAN
METHOD:PUBLISH
X-ORIGINAL-URL:https://funinfarmington.com
X-WR-CALDESC:Events for Fun in Farmington
REFRESH-INTERVAL;VALUE=DURATION:PT1H
X-Robots-Tag:noindex
X-PUBLISHED-TTL:PT1H
BEGIN:VTIMEZONE
TZID:UTC
BEGIN:STANDARD
TZOFFSETFROM:+0000
TZOFFSETTO:+0000
TZNAME:UTC
DTSTART:20250101T000000
END:STANDARD
END:VTIMEZONE
BEGIN:VEVENT
DTSTART;TZID=UTC:20260227T183000
DTEND;TZID=UTC:20260227T183000
DTSTAMP:20260420T130535
CREATED:20260222T232334Z
LAST-MODIFIED:20260222T232334Z
UID:10019734-1772217000-1772217000@funinfarmington.com
SUMMARY:Farmington Dance Fitness with Dance 2BeFit\, Susan Marie
DESCRIPTION:Dance Fitness /Club Night Current/Pop PlaylistRSVP “going” if attending pleaseAll welcome.. use your pass or $9.00drop in!!Passes Expire March 1\nLet’s dance !!\nNo membership or duesExperienced instructorLet me help you live a healthier\, more energetic\, positive energy life !\n\, pay via Venmo or cash in personVenmo : Susan-Swanson-34\nDo you want to meet new friends?Do you like music ?Want to surround yourself with positivity\, and good energy?Easy to follow choreography\, non judgement zone.. fun current pop music and other around the world favorites.Meet new friends .This class is for EVERYONENo membership needed ..\nVenmo payment to @ Susan-Swanson-34 to prepay and hold a spot on the dance floor!\nDrop ins welcome .. IF there is still space on the dance floor .Please arrive 5 minutes early Dance studio is to the far back of building that also holds Crossfit
URL:https://funinfarmington.com/event/farmington-dance-fitness-with-dance-2befit-susan-marie/2026-02-27/
LOCATION:Dance 2BeFit\, 24293 Indoplex Cir\, Farmington Hills\, Michigan\, 48335
CATEGORIES:Dance,Fitness,Health,Wellness
END:VEVENT
BEGIN:VEVENT
DTSTART;TZID=UTC:20260227T183000
DTEND;TZID=UTC:20260227T200000
DTSTAMP:20260420T130535
CREATED:20260222T232748Z
LAST-MODIFIED:20260222T232748Z
UID:10019735-1772217000-1772222400@funinfarmington.com
SUMMARY:Yin Yoga + Acupuncture at Bodhi Yoga
DESCRIPTION:Join us for a 40-minute Yin yoga class exploring the elements Class will be followed by savasana\, or resting period\, where acupuncturist Ruth will visit each student to choose acupuncture points that further deepens this newly achieved muscle elasticity\, enabling an even greater relaxation. \nAcupuncture by Ruth\, DACM\, MS\, RAC & RN
URL:https://funinfarmington.com/event/yin-yoga-acupuncture-at-bodhi-yoga-2/2026-02-27/
LOCATION:Bodhi Yoga\, 33047 Grand River Ave\, Farmington\, Michigan\, 48336
CATEGORIES:Fitness,Health,Wellness,Yoga
END:VEVENT
BEGIN:VEVENT
DTSTART;TZID=UTC:20260227T190000
DTEND;TZID=UTC:20260227T220000
DTSTAMP:20260420T130535
CREATED:20260223T005524Z
LAST-MODIFIED:20260223T005524Z
UID:10019873-1772218800-1772229600@funinfarmington.com
SUMMARY:Storytelling with The First Clap at CenterPeace
DESCRIPTION:An evening of storytelling. \nJoin us for an intimate evening where we share stories that matter. \n\nTimed storytelling sessions (everyone gets their moment)\nFood & refreshments provided\nCircle of praise to celebrate happy moments together\nReal stories\, real people\, real connections
URL:https://funinfarmington.com/event/storytelling-with-the-first-clap-at-centerpeace/
LOCATION:CenterPeace\, 33750 Freedom Road\, Farmington\, MI\, 48335
CATEGORIES:Community,Storytelling,Wellness
END:VEVENT
END:VCALENDAR