BEGIN:VCALENDAR
VERSION:2.0
PRODID:-//Fun in Farmington - ECPv6.15.20//NONSGML v1.0//EN
CALSCALE:GREGORIAN
METHOD:PUBLISH
X-WR-CALNAME:Fun in Farmington
X-ORIGINAL-URL:https://funinfarmington.com
X-WR-CALDESC:Events for Fun in Farmington
REFRESH-INTERVAL;VALUE=DURATION:PT1H
X-Robots-Tag:noindex
X-PUBLISHED-TTL:PT1H
BEGIN:VTIMEZONE
TZID:UTC
BEGIN:STANDARD
TZOFFSETFROM:+0000
TZOFFSETTO:+0000
TZNAME:UTC
DTSTART:20250101T000000
END:STANDARD
END:VTIMEZONE
BEGIN:VEVENT
DTSTART;TZID=UTC:20260313T190000
DTEND;TZID=UTC:20260313T201500
DTSTAMP:20260420T133711
CREATED:20260312T125859Z
LAST-MODIFIED:20260312T125859Z
UID:10019989-1773428400-1773432900@funinfarmington.com
SUMMARY:Sound Bath Reiki Yoga Nidra Meditation at CenterPeace
DESCRIPTION:Tickets: $35.00 \nAwaken. Align. Restore. \nStep into the sanctuary of CenterPeace for a deeply restorative Sound Bath Yoga Nidra Meditation led by Vibrational Sound Master\, Reiki Master Teacher\, and Shamanic Practitioner/Educator\, Lisa Harthun. \nHeld monthly in a serene indoor space overlooking the garden\, this 75 minute gathering welcomes individuals\, couples\, and small groups to reconnect with the healing energies of nature through breath\, vibration\, and intention. \nLisa’s heart-centered Healing Flow method blends gentle breathwork\, guided imagery meditation\, Reiki\, and Shamanic energy clearing—supported by her live vocal tones and melodic voice transmission to soothe and uplift the energetic field. \nThe immersive soundscape features gong\, quartz crystal singing bowls\, Tibetan & Himalayan bowls\, bells\, tingsha\, shamanic drum\, and Solfeggio frequencies—designed to support expanded states of consciousness and inner balance. \nNo prior experience is needed. You’ll be lovingly guided through this relaxing and rejuvenating journey—a perfect opportunity to release\, recharge\, and reconnect with your inner light.
URL:https://funinfarmington.com/event/sound-bath-reiki-yoga-nidra-meditation-at-centerpeace/
LOCATION:CenterPeace\, 33750 Freedom Road\, Farmington\, MI\, 48335
CATEGORIES:Spiritual,Wellness,Yoga
END:VEVENT
END:VCALENDAR