BEGIN:VCALENDAR
VERSION:2.0
PRODID:-//Fun in Farmington - ECPv6.15.20//NONSGML v1.0//EN
CALSCALE:GREGORIAN
METHOD:PUBLISH
X-ORIGINAL-URL:https://funinfarmington.com
X-WR-CALDESC:Events for Fun in Farmington
REFRESH-INTERVAL;VALUE=DURATION:PT1H
X-Robots-Tag:noindex
X-PUBLISHED-TTL:PT1H
BEGIN:VTIMEZONE
TZID:UTC
BEGIN:STANDARD
TZOFFSETFROM:+0000
TZOFFSETTO:+0000
TZNAME:UTC
DTSTART:20250101T000000
END:STANDARD
END:VTIMEZONE
BEGIN:VEVENT
DTSTART;TZID=UTC:20260316T190000
DTEND;TZID=UTC:20260316T210000
DTSTAMP:20260420T081634
CREATED:20260315T231926Z
LAST-MODIFIED:20260315T231926Z
UID:10020005-1773687600-1773694800@funinfarmington.com
SUMMARY:Fusion: A Floating Sound & Sensory Journey at CenterPeace
DESCRIPTION:Fusion: A Floating Sound and Sensory Journey\nAn truly immersive sound and multi-sensory experience designed to calm the body\, quiet the mind\, and restore from within.\n Tickets\nGrounded Floor Haven: $40.00Zero Gravity Chair: $40.00Floating Hammock: $50.00\n The Experience\nThere are moments when the noise fades…when everything begins to slow and the body gently settles…when the breath deepens\, returning to its natural rhythm.\nFusion is one of those moments.\nFusion is CenterPeace’s signature floating sound experience\, an immersive journey designed to calm the nervous system\, soften the body\, and invite deep restoration.\nUpon arrival\, you are welcomed into a thoughtfully prepared space. Natural light or soft ambient glow fills the room. Gentle aromas drift through the air. Every detail is curated to help you transition from the pace of the day into a slower\, more grounded rhythm.\nThen comes the invitation to float.\nFloating is not simply where the body rests.It is what begins to happen when the body is finally supported enough to let go.\nSupported in silk hammocks\, zero gravity chairs\, or grounded floor havens\, the body is given permission to fully release. As weight begins to soften and tension unwinds\, a layered soundscape of crystal singing bowls\, gongs\, chimes\, and resonant tones moves through the space like slow rolling waves.\nSound becomes something you feel\, not just hear.Vibration settles the mind.Breath deepens naturally.The nervous system recalibrates.\nNothing is asked. Nothing is required.\nOnly the willingness to arrive\, float\, and allow.\nEach Fusion is intentionally collaborative and no two Fusion experiences are ever the same. We partner with different sound and vibrational practitioners to co create new and unique experiences\, allowing every gathering to carry its own energy\, rhythm\, and expression.\n Important Details:\n** Space is intentionally limited to preserve the intimacy of the experience.\n** Silk hammocks support up to 275 lbs.\n** Zero gravity chairs and grounded havens have no weight restriction.\nQuestions about which option may feel best are always welcome at Hello@CenterPeaceHealing.com\n Choose Your Sanctuary\nFusion is known for its floating hammocks\, while honoring that every body seeks comfort in its own way.Every option is thoughtfully prepared with pillows\, blankets\, eye masks\, and supportive touches to deepen relaxation.\nFloating Silk Hammock $50.00The heart of the experience. Gentle suspension creates a sensation of weightlessness that supports deep physical release.\nGrounded Floor Haven $40.00Soft memory foam cushions provide a deeply supportive and nurturing space for those who prefer the quiet steadiness of the earth beneath them.\nZero Gravity Chair $40.00 Limited availabilityDesigned to elevate and support the body in near weightlessness while softening pressure throughout the spine and joints.\nThere is no right way to experience Fusion. Only the way the body feels most supported.\n Your Facilitators:\nFacilitated by Jenna TaskerFounder of CenterPeace Healing and Events\, Jenna is a sacred space creator and intuitive guide devoted to cultivating environments of healing\, connection\, and belonging. Through sound\, breath\, and energetic awareness\, she creates immersive experiences that are both grounding and expansive.\nSpecial Guest Sound HealerEach Fusion may feature a collaborating practitioner whose intuitive style and energetic presence helps shape the experience. Because every practitioner brings their own gifts and expression\, no two Fusion journeys are ever exactly alike.\n Questions:\nEmail: Hello@CenterPeaceHealing.com\nFor information about other events\, visit CenterPeaceHealing.com
URL:https://funinfarmington.com/event/fusion-a-floating-sound-sensory-journey-at-centerpeace/
LOCATION:CenterPeace\, 33750 Freedom Road\, Farmington\, MI\, 48335
CATEGORIES:Wellness
END:VEVENT
END:VCALENDAR