BEGIN:VCALENDAR
VERSION:2.0
PRODID:-//Fun in Farmington - ECPv6.15.20//NONSGML v1.0//EN
CALSCALE:GREGORIAN
METHOD:PUBLISH
X-ORIGINAL-URL:https://funinfarmington.com
X-WR-CALDESC:Events for Fun in Farmington
REFRESH-INTERVAL;VALUE=DURATION:PT1H
X-Robots-Tag:noindex
X-PUBLISHED-TTL:PT1H
BEGIN:VTIMEZONE
TZID:UTC
BEGIN:STANDARD
TZOFFSETFROM:+0000
TZOFFSETTO:+0000
TZNAME:UTC
DTSTART:20240101T000000
END:STANDARD
END:VTIMEZONE
BEGIN:VEVENT
DTSTART;TZID=UTC:20251229T180000
DTEND;TZID=UTC:20251229T190000
DTSTAMP:20260420T064729
CREATED:20251201T152431Z
LAST-MODIFIED:20251201T152431Z
UID:10018376-1767031200-1767034800@funinfarmington.com
SUMMARY:Advent Candlelight Yoga at First Presbyterian
DESCRIPTION:If just thinking about this Christmas season makes you feel anxious: let yourself sink into these seven special practices of peace.\n\nStarting December 1\, we’ll be hosting a special Advent series at our Farmington Hills locations\, with each class offering:\nGentle Yoga\nScriptural Meditation\nRelaxing Christmas Hymns\nBreath Prayer & Aromatherapy\nIf you’re currently a Fall Season Pass-holder\, this series is already included in your package! If you’re new and would like to attend\, each class will be $15; or just $75 for the entire month of December (two classes free).\nStart thinking of who you’d like to invite\, and let’s look forward to a beautiful\, relaxing and meaningful Advent together!\nClass is offered simultaneously on Zoom\, and by Zoom replay video.\nLive location is inside Knox Fellowship Hall
URL:https://funinfarmington.com/event/advent-candlelight-yoga-at-first-presbyterian/2025-12-29/
LOCATION:First Presbyterian Church of Farmington\, 26165 Farmington Rd\, Farmington Hills\, Michigan\, 48334
CATEGORIES:Spiritual,Yoga
END:VEVENT
END:VCALENDAR