BEGIN:VCALENDAR
VERSION:2.0
PRODID:-//Fun in Farmington - ECPv6.15.20//NONSGML v1.0//EN
CALSCALE:GREGORIAN
METHOD:PUBLISH
X-WR-CALNAME:Fun in Farmington
X-ORIGINAL-URL:https://funinfarmington.com
X-WR-CALDESC:Events for Fun in Farmington
REFRESH-INTERVAL;VALUE=DURATION:PT1H
X-Robots-Tag:noindex
X-PUBLISHED-TTL:PT1H
BEGIN:VTIMEZONE
TZID:UTC
BEGIN:STANDARD
TZOFFSETFROM:+0000
TZOFFSETTO:+0000
TZNAME:UTC
DTSTART:20250101T000000
END:STANDARD
END:VTIMEZONE
BEGIN:VEVENT
DTSTART;TZID=UTC:20260104T144500
DTEND;TZID=UTC:20260104T144500
DTSTAMP:20260420T064550
CREATED:20260101T175217Z
LAST-MODIFIED:20260101T175259Z
UID:10018451-1767537900-1767537900@funinfarmington.com
SUMMARY:Meditation with Gong Soundbath at Shanti Yoga
DESCRIPTION:WHITE WINTER SOUNDSCAPE WITH GONG\n\n\n\n\nJan 4\, 2026 \n\n\n\n\nShanti Yoga & Meditation32511 Northwestern Hwy\, Farmington Hills\, Michigan\, USA\, 48334
URL:https://funinfarmington.com/event/meditation-with-gong-soundbath-at-shanti-yoga/
LOCATION:Shanti Yoga and Meditation\, 32511 Northwestern Hwy\, Farmington Hills\, Michigan\, 48334
CATEGORIES:Wellness,Yoga
END:VEVENT
END:VCALENDAR