BEGIN:VCALENDAR
VERSION:2.0
PRODID:-//Fun in Farmington - ECPv6.15.20//NONSGML v1.0//EN
CALSCALE:GREGORIAN
METHOD:PUBLISH
X-ORIGINAL-URL:https://funinfarmington.com
X-WR-CALDESC:Events for Fun in Farmington
REFRESH-INTERVAL;VALUE=DURATION:PT1H
X-Robots-Tag:noindex
X-PUBLISHED-TTL:PT1H
BEGIN:VTIMEZONE
TZID:UTC
BEGIN:STANDARD
TZOFFSETFROM:+0000
TZOFFSETTO:+0000
TZNAME:UTC
DTSTART:20250101T000000
END:STANDARD
END:VTIMEZONE
BEGIN:VEVENT
DTSTART;TZID=UTC:20260108T114500
DTEND;TZID=UTC:20260108T124500
DTSTAMP:20260420T052405
CREATED:20260105T041828Z
LAST-MODIFIED:20260105T041828Z
UID:10018482-1767872700-1767876300@funinfarmington.com
SUMMARY:Lunchbreak Yoga at Nardin Park Church
DESCRIPTION:For all levels\, come explore yoga paired with Christian meditation in a sacred space. You’ll love centering your day this way\, devoted to Christ and firmly rooted in His peace. This therapeutic style of yoga takes joints through all range of motion\, leaving you feeling mentally\, physically and spiritually prepared to take on anything the week might throw at you. Eat a light carbohydrate snack before and a light protein snack after and you’ll love the way your body feels all day!
URL:https://funinfarmington.com/event/lunchbreak-yoga-at-nardin-park-church/
LOCATION:Nardin Park Church\, 29887 W 11 Mile Rd\, Farmington Hills\, Michigan\, 48336
CATEGORIES:Yoga
END:VEVENT
END:VCALENDAR