BEGIN:VCALENDAR
VERSION:2.0
PRODID:-//Fun in Farmington - ECPv6.15.20//NONSGML v1.0//EN
CALSCALE:GREGORIAN
METHOD:PUBLISH
X-WR-CALNAME:Fun in Farmington
X-ORIGINAL-URL:https://funinfarmington.com
X-WR-CALDESC:Events for Fun in Farmington
REFRESH-INTERVAL;VALUE=DURATION:PT1H
X-Robots-Tag:noindex
X-PUBLISHED-TTL:PT1H
BEGIN:VTIMEZONE
TZID:UTC
BEGIN:STANDARD
TZOFFSETFROM:+0000
TZOFFSETTO:+0000
TZNAME:UTC
DTSTART:20250101T000000
END:STANDARD
END:VTIMEZONE
BEGIN:VEVENT
DTSTART;TZID=UTC:20260213T190000
DTEND;TZID=UTC:20260213T203000
DTSTAMP:20260420T015122
CREATED:20260209T122509Z
LAST-MODIFIED:20260209T122509Z
UID:10019506-1771009200-1771014600@funinfarmington.com
SUMMARY:Sounds & Sips at Bodhi Yoga
DESCRIPTION:Celebrate Palentine’s Day in a warm\, inviting space centered on comfort\, ease\, and gentle self-love. \nSettle in for a restorative gong bath with Candice\, followed by cozy warm sips from Ground Control and connection. \nAs the harmonics wash over you\, the vibrations invite deeper breath\, stored tension release\, your body’s natural repair mode\, and sometimes magical experiences. \nCome as you are. Bring your favorite people – your pals\, your family\, your loves\, or simply yourself! \n\nYour experience includes one hour of gong bath and two drink tickets\, all invented and crafted by our neighborhood Ground Control Coffee Roasters \nFriday\, February 13th @7:00pm \nInvestment: $45
URL:https://funinfarmington.com/event/sounds-sips-at-bodhi-yoga/
LOCATION:Bodhi Yoga\, 33047 Grand River Ave\, Farmington\, Michigan\, 48336
CATEGORIES:Yoga
END:VEVENT
END:VCALENDAR