BEGIN:VCALENDAR
VERSION:2.0
PRODID:-//Fun in Farmington - ECPv6.15.20//NONSGML v1.0//EN
CALSCALE:GREGORIAN
METHOD:PUBLISH
X-WR-CALNAME:Fun in Farmington
X-ORIGINAL-URL:https://funinfarmington.com
X-WR-CALDESC:Events for Fun in Farmington
REFRESH-INTERVAL;VALUE=DURATION:PT1H
X-Robots-Tag:noindex
X-PUBLISHED-TTL:PT1H
BEGIN:VTIMEZONE
TZID:UTC
BEGIN:STANDARD
TZOFFSETFROM:+0000
TZOFFSETTO:+0000
TZNAME:UTC
DTSTART:20250101T000000
END:STANDARD
END:VTIMEZONE
BEGIN:VEVENT
DTSTART;TZID=UTC:20260520T103000
DTEND;TZID=UTC:20260520T120000
DTSTAMP:20260420T174139
CREATED:20260110T190219Z
LAST-MODIFIED:20260110T190219Z
UID:10018956-1779273000-1779278400@funinfarmington.com
SUMMARY:Poetry in Motion at Library (FH)
DESCRIPTION:Library events are always free to the public and you do not need a library card to attend!  \nThe Farmington Community Library has two locations. This event will be held in Conference Room B at the FCL Farmington Hills location at 32737 W. 12 Mile Rd.\, Farmington Hills\, MI\, 48334.  \nNo registration required.  \nJoin fellow poets and poetry lovers for our monthly Poetry in Motion sessions! Each session will focus on a different aspect of poetry and will have a portion where attendees write their own poems and share out with the group. If you have a favorite poem or have written poetry of your own\, please bring and share! \nPoetry in Motion sessions will occur every third Wednesday of the month. Adult poets of all skill levels are welcome. We hope to see you there! \n\nDisclaimer(s)\n\n\n\n\nTo request ADA accommodations\, such as wheelchair access or sign language interpretation\, please complete the Accommodation Request Form at least 10 days before the event. \n\n\n\n\n\n\nThis event is intended for adults 18+
URL:https://funinfarmington.com/event/poetry-in-motion-at-library-fh/2026-05-20/
LOCATION:Farmington Community Library – Farmington Hills Location\, 32737 W. 12 Mile Rd.\, Farmington Hills\, Michigan\, 48334
CATEGORIES:Poetry
END:VEVENT
BEGIN:VEVENT
DTSTART;TZID=UTC:20260617T103000
DTEND;TZID=UTC:20260617T120000
DTSTAMP:20260420T174139
CREATED:20260110T190219Z
LAST-MODIFIED:20260110T190219Z
UID:10018957-1781692200-1781697600@funinfarmington.com
SUMMARY:Poetry in Motion at Library (FH)
DESCRIPTION:Library events are always free to the public and you do not need a library card to attend!  \nThe Farmington Community Library has two locations. This event will be held in Conference Room B at the FCL Farmington Hills location at 32737 W. 12 Mile Rd.\, Farmington Hills\, MI\, 48334.  \nNo registration required.  \nJoin fellow poets and poetry lovers for our monthly Poetry in Motion sessions! Each session will focus on a different aspect of poetry and will have a portion where attendees write their own poems and share out with the group. If you have a favorite poem or have written poetry of your own\, please bring and share! \nPoetry in Motion sessions will occur every third Wednesday of the month. Adult poets of all skill levels are welcome. We hope to see you there! \n\nDisclaimer(s)\n\n\n\n\nTo request ADA accommodations\, such as wheelchair access or sign language interpretation\, please complete the Accommodation Request Form at least 10 days before the event. \n\n\n\n\n\n\nThis event is intended for adults 18+
URL:https://funinfarmington.com/event/poetry-in-motion-at-library-fh/2026-06-17/
LOCATION:Farmington Community Library – Farmington Hills Location\, 32737 W. 12 Mile Rd.\, Farmington Hills\, Michigan\, 48334
CATEGORIES:Poetry
END:VEVENT
BEGIN:VEVENT
DTSTART;TZID=UTC:20260715T103000
DTEND;TZID=UTC:20260715T120000
DTSTAMP:20260420T174139
CREATED:20260110T190219Z
LAST-MODIFIED:20260110T190219Z
UID:10018958-1784111400-1784116800@funinfarmington.com
SUMMARY:Poetry in Motion at Library (FH)
DESCRIPTION:Library events are always free to the public and you do not need a library card to attend!  \nThe Farmington Community Library has two locations. This event will be held in Conference Room B at the FCL Farmington Hills location at 32737 W. 12 Mile Rd.\, Farmington Hills\, MI\, 48334.  \nNo registration required.  \nJoin fellow poets and poetry lovers for our monthly Poetry in Motion sessions! Each session will focus on a different aspect of poetry and will have a portion where attendees write their own poems and share out with the group. If you have a favorite poem or have written poetry of your own\, please bring and share! \nPoetry in Motion sessions will occur every third Wednesday of the month. Adult poets of all skill levels are welcome. We hope to see you there! \n\nDisclaimer(s)\n\n\n\n\nTo request ADA accommodations\, such as wheelchair access or sign language interpretation\, please complete the Accommodation Request Form at least 10 days before the event. \n\n\n\n\n\n\nThis event is intended for adults 18+
URL:https://funinfarmington.com/event/poetry-in-motion-at-library-fh/2026-07-15/
LOCATION:Farmington Community Library – Farmington Hills Location\, 32737 W. 12 Mile Rd.\, Farmington Hills\, Michigan\, 48334
CATEGORIES:Poetry
END:VEVENT
BEGIN:VEVENT
DTSTART;TZID=UTC:20260819T103000
DTEND;TZID=UTC:20260819T120000
DTSTAMP:20260420T174139
CREATED:20260110T190219Z
LAST-MODIFIED:20260110T190219Z
UID:10018959-1787135400-1787140800@funinfarmington.com
SUMMARY:Poetry in Motion at Library (FH)
DESCRIPTION:Library events are always free to the public and you do not need a library card to attend!  \nThe Farmington Community Library has two locations. This event will be held in Conference Room B at the FCL Farmington Hills location at 32737 W. 12 Mile Rd.\, Farmington Hills\, MI\, 48334.  \nNo registration required.  \nJoin fellow poets and poetry lovers for our monthly Poetry in Motion sessions! Each session will focus on a different aspect of poetry and will have a portion where attendees write their own poems and share out with the group. If you have a favorite poem or have written poetry of your own\, please bring and share! \nPoetry in Motion sessions will occur every third Wednesday of the month. Adult poets of all skill levels are welcome. We hope to see you there! \n\nDisclaimer(s)\n\n\n\n\nTo request ADA accommodations\, such as wheelchair access or sign language interpretation\, please complete the Accommodation Request Form at least 10 days before the event. \n\n\n\n\n\n\nThis event is intended for adults 18+
URL:https://funinfarmington.com/event/poetry-in-motion-at-library-fh/2026-08-19/
LOCATION:Farmington Community Library – Farmington Hills Location\, 32737 W. 12 Mile Rd.\, Farmington Hills\, Michigan\, 48334
CATEGORIES:Poetry
END:VEVENT
BEGIN:VEVENT
DTSTART;TZID=UTC:20260916T103000
DTEND;TZID=UTC:20260916T120000
DTSTAMP:20260420T174139
CREATED:20260110T190219Z
LAST-MODIFIED:20260110T190219Z
UID:10018960-1789554600-1789560000@funinfarmington.com
SUMMARY:Poetry in Motion at Library (FH)
DESCRIPTION:Library events are always free to the public and you do not need a library card to attend!  \nThe Farmington Community Library has two locations. This event will be held in Conference Room B at the FCL Farmington Hills location at 32737 W. 12 Mile Rd.\, Farmington Hills\, MI\, 48334.  \nNo registration required.  \nJoin fellow poets and poetry lovers for our monthly Poetry in Motion sessions! Each session will focus on a different aspect of poetry and will have a portion where attendees write their own poems and share out with the group. If you have a favorite poem or have written poetry of your own\, please bring and share! \nPoetry in Motion sessions will occur every third Wednesday of the month. Adult poets of all skill levels are welcome. We hope to see you there! \n\nDisclaimer(s)\n\n\n\n\nTo request ADA accommodations\, such as wheelchair access or sign language interpretation\, please complete the Accommodation Request Form at least 10 days before the event. \n\n\n\n\n\n\nThis event is intended for adults 18+
URL:https://funinfarmington.com/event/poetry-in-motion-at-library-fh/2026-09-16/
LOCATION:Farmington Community Library – Farmington Hills Location\, 32737 W. 12 Mile Rd.\, Farmington Hills\, Michigan\, 48334
CATEGORIES:Poetry
END:VEVENT
BEGIN:VEVENT
DTSTART;TZID=UTC:20261021T103000
DTEND;TZID=UTC:20261021T120000
DTSTAMP:20260420T174139
CREATED:20260110T190219Z
LAST-MODIFIED:20260110T190219Z
UID:10018961-1792578600-1792584000@funinfarmington.com
SUMMARY:Poetry in Motion at Library (FH)
DESCRIPTION:Library events are always free to the public and you do not need a library card to attend!  \nThe Farmington Community Library has two locations. This event will be held in Conference Room B at the FCL Farmington Hills location at 32737 W. 12 Mile Rd.\, Farmington Hills\, MI\, 48334.  \nNo registration required.  \nJoin fellow poets and poetry lovers for our monthly Poetry in Motion sessions! Each session will focus on a different aspect of poetry and will have a portion where attendees write their own poems and share out with the group. If you have a favorite poem or have written poetry of your own\, please bring and share! \nPoetry in Motion sessions will occur every third Wednesday of the month. Adult poets of all skill levels are welcome. We hope to see you there! \n\nDisclaimer(s)\n\n\n\n\nTo request ADA accommodations\, such as wheelchair access or sign language interpretation\, please complete the Accommodation Request Form at least 10 days before the event. \n\n\n\n\n\n\nThis event is intended for adults 18+
URL:https://funinfarmington.com/event/poetry-in-motion-at-library-fh/2026-10-21/
LOCATION:Farmington Community Library – Farmington Hills Location\, 32737 W. 12 Mile Rd.\, Farmington Hills\, Michigan\, 48334
CATEGORIES:Poetry
END:VEVENT
BEGIN:VEVENT
DTSTART;TZID=UTC:20261118T103000
DTEND;TZID=UTC:20261118T120000
DTSTAMP:20260420T174139
CREATED:20260110T190219Z
LAST-MODIFIED:20260110T190219Z
UID:10018962-1794997800-1795003200@funinfarmington.com
SUMMARY:Poetry in Motion at Library (FH)
DESCRIPTION:Library events are always free to the public and you do not need a library card to attend!  \nThe Farmington Community Library has two locations. This event will be held in Conference Room B at the FCL Farmington Hills location at 32737 W. 12 Mile Rd.\, Farmington Hills\, MI\, 48334.  \nNo registration required.  \nJoin fellow poets and poetry lovers for our monthly Poetry in Motion sessions! Each session will focus on a different aspect of poetry and will have a portion where attendees write their own poems and share out with the group. If you have a favorite poem or have written poetry of your own\, please bring and share! \nPoetry in Motion sessions will occur every third Wednesday of the month. Adult poets of all skill levels are welcome. We hope to see you there! \n\nDisclaimer(s)\n\n\n\n\nTo request ADA accommodations\, such as wheelchair access or sign language interpretation\, please complete the Accommodation Request Form at least 10 days before the event. \n\n\n\n\n\n\nThis event is intended for adults 18+
URL:https://funinfarmington.com/event/poetry-in-motion-at-library-fh/2026-11-18/
LOCATION:Farmington Community Library – Farmington Hills Location\, 32737 W. 12 Mile Rd.\, Farmington Hills\, Michigan\, 48334
CATEGORIES:Poetry
END:VEVENT
BEGIN:VEVENT
DTSTART;TZID=UTC:20261216T103000
DTEND;TZID=UTC:20261216T120000
DTSTAMP:20260420T174139
CREATED:20260110T190219Z
LAST-MODIFIED:20260110T190219Z
UID:10018963-1797417000-1797422400@funinfarmington.com
SUMMARY:Poetry in Motion at Library (FH)
DESCRIPTION:Library events are always free to the public and you do not need a library card to attend!  \nThe Farmington Community Library has two locations. This event will be held in Conference Room B at the FCL Farmington Hills location at 32737 W. 12 Mile Rd.\, Farmington Hills\, MI\, 48334.  \nNo registration required.  \nJoin fellow poets and poetry lovers for our monthly Poetry in Motion sessions! Each session will focus on a different aspect of poetry and will have a portion where attendees write their own poems and share out with the group. If you have a favorite poem or have written poetry of your own\, please bring and share! \nPoetry in Motion sessions will occur every third Wednesday of the month. Adult poets of all skill levels are welcome. We hope to see you there! \n\nDisclaimer(s)\n\n\n\n\nTo request ADA accommodations\, such as wheelchair access or sign language interpretation\, please complete the Accommodation Request Form at least 10 days before the event. \n\n\n\n\n\n\nThis event is intended for adults 18+
URL:https://funinfarmington.com/event/poetry-in-motion-at-library-fh/2026-12-16/
LOCATION:Farmington Community Library – Farmington Hills Location\, 32737 W. 12 Mile Rd.\, Farmington Hills\, Michigan\, 48334
CATEGORIES:Poetry
END:VEVENT
END:VCALENDAR