BEGIN:VCALENDAR
VERSION:2.0
PRODID:-//Fun in Farmington - ECPv6.15.20//NONSGML v1.0//EN
CALSCALE:GREGORIAN
METHOD:PUBLISH
X-WR-CALNAME:Fun in Farmington
X-ORIGINAL-URL:https://funinfarmington.com
X-WR-CALDESC:Events for Fun in Farmington
REFRESH-INTERVAL;VALUE=DURATION:PT1H
X-Robots-Tag:noindex
X-PUBLISHED-TTL:PT1H
BEGIN:VTIMEZONE
TZID:UTC
BEGIN:STANDARD
TZOFFSETFROM:+0000
TZOFFSETTO:+0000
TZNAME:UTC
DTSTART:20240101T000000
END:STANDARD
END:VTIMEZONE
BEGIN:VEVENT
DTSTART;TZID=UTC:20251030T150000
DTEND;TZID=UTC:20251030T170000
DTSTAMP:20260421T204110
CREATED:20251024T170040Z
LAST-MODIFIED:20251024T170315Z
UID:10017861-1761836400-1761843600@funinfarmington.com
SUMMARY:SiteOne Landscape Supply Trunk or Treat
DESCRIPTION:Bring your little ghouls and goblins in their best costumes for a safe\, fun-filled afternoon at SiteOne’s Trunk or Treat event. Our parking lot will be lined with decorated trunks\, overflowing with treats for kids of all ages. Enjoy family-friendly activities\, spooky surprises and plenty of Halloween spirit.
URL:https://funinfarmington.com/event/siteone-landscape-supply-trunk-or-treat/
LOCATION:SiteOne Landscape Supply\, 29820 W 8 Mile Rd\, Farmington Hills\, Michigan\, 48336
CATEGORIES:Kids & Families
ATTACH;FMTTYPE=image/jpeg:https://funinfarmington.com/wp-content/uploads/2025/10/Br124-Truck-or-Treat.jpg
END:VEVENT
BEGIN:VEVENT
DTSTART;TZID=UTC:20251030T190000
DTEND;TZID=UTC:20251030T220000
DTSTAMP:20260421T204110
CREATED:20251012T171650Z
LAST-MODIFIED:20251012T171650Z
UID:10017832-1761850800-1761861600@funinfarmington.com
SUMMARY:Spooky Trivia
DESCRIPTION:Calling All Horror & Halloween Fanatics!\nGet ready for a Spook-tacular night of trivia \nCostumes Encouraged.\nPrize for Best Costume & Trivia Winner. \n$30 per person\nIncludes 2 Glasses of Wines & A Charcuterie Plate
URL:https://funinfarmington.com/event/spooky-trivia/
LOCATION:Perfect Pairing Market\, 38215 W. 10 Mile Rd.\, Farmington Hills\, Michigan\, 48335
CATEGORIES:Special Event
ATTACH;FMTTYPE=image/png:https://funinfarmington.com/wp-content/uploads/2025/10/Perfect-Pairing-Spooky-Trivia.png
ORGANIZER;CN="Perfect Pairing Market":MAILTO:yollaawad@perfectpairingmarket.com
END:VEVENT
END:VCALENDAR