BEGIN:VCALENDAR
VERSION:2.0
PRODID:-//Fun in Farmington - ECPv6.15.20//NONSGML v1.0//EN
CALSCALE:GREGORIAN
METHOD:PUBLISH
X-WR-CALNAME:Fun in Farmington
X-ORIGINAL-URL:https://funinfarmington.com
X-WR-CALDESC:Events for Fun in Farmington
REFRESH-INTERVAL;VALUE=DURATION:PT1H
X-Robots-Tag:noindex
X-PUBLISHED-TTL:PT1H
BEGIN:VTIMEZONE
TZID:America/Detroit
BEGIN:DAYLIGHT
TZOFFSETFROM:-0500
TZOFFSETTO:-0400
TZNAME:EDT
DTSTART:20250309T070000
END:DAYLIGHT
BEGIN:STANDARD
TZOFFSETFROM:-0400
TZOFFSETTO:-0500
TZNAME:EST
DTSTART:20251102T060000
END:STANDARD
BEGIN:DAYLIGHT
TZOFFSETFROM:-0500
TZOFFSETTO:-0400
TZNAME:EDT
DTSTART:20260308T070000
END:DAYLIGHT
BEGIN:STANDARD
TZOFFSETFROM:-0400
TZOFFSETTO:-0500
TZNAME:EST
DTSTART:20261101T060000
END:STANDARD
BEGIN:DAYLIGHT
TZOFFSETFROM:-0500
TZOFFSETTO:-0400
TZNAME:EDT
DTSTART:20270314T070000
END:DAYLIGHT
BEGIN:STANDARD
TZOFFSETFROM:-0400
TZOFFSETTO:-0500
TZNAME:EST
DTSTART:20271107T060000
END:STANDARD
END:VTIMEZONE
BEGIN:VEVENT
DTSTART;TZID=America/Detroit:20260501T120000
DTEND;TZID=America/Detroit:20260501T133000
DTSTAMP:20260421T025606
CREATED:20260420T214614Z
LAST-MODIFIED:20260420T214614Z
UID:10020506-1777636800-1777642200@funinfarmington.com
SUMMARY:Group Past Life Regression
DESCRIPTION:Past life holding you back?? \nJoin us for a guided hypnotic session to discover potential past incarnations and explore possible future timelines. This unique experience may focus on healing\, resolving deep conflicts\, understanding current life patterns\, and/or understanding soul connections in a supportive community setting. \nIf you’re curious\, open minded\, and playful then you’ll have a great time in this safe environment. \nFacilitator Bio:\nMelissa McCloud of Detroit Hypnotherapy connects you with your Higher Consciousness through hypnosis. She has worked in the wellness space for over 15 years\, and now focuses exclusively on using hypnosis to help her clients receive answers to big life questions. Melissa is trained in classic hypnosis\, Quantum Hypnosis Healing Technique (QHHT)\, Beyond Quantum Healing\, and has several coaching certifications too! She lives in Royal Oak with her family\, and is positively devoted to her wonderful clients and her sweet mutt Benny! \n“Melissa helped me to visit several past lives and to connect me with my higher self who acknowledged I was on the right path with the right people. It helped me to feel more confident in general and better able to understand different aspects of humanity. There have been so many synchronicities and messages from the universe (or possibly higher self) since the session. This experience has been so much more effective than any talk therapy I’ve done (and yes\, it’s not the same as therapy) — very cathartic.” -Jen \nRegister at: https://www.centerpeacehealing.com/event-details/group-past-life-regression
URL:https://funinfarmington.com/event/group-past-life-regression/
LOCATION:CenterPeace\, 33750 Freedom Road\, Farmington\, MI\, 48335
CATEGORIES:Spiritual
ATTACH;FMTTYPE=image/jpeg:https://funinfarmington.com/wp-content/uploads/2026/04/CP-1500-x-1500.jpg
ORGANIZER;CN="CenterPeace":MAILTO:melissamccloud21@gmail.com
END:VEVENT
END:VCALENDAR