BEGIN:VCALENDAR
VERSION:2.0
PRODID:-//Fun in Farmington - ECPv6.15.20//NONSGML v1.0//EN
CALSCALE:GREGORIAN
METHOD:PUBLISH
X-WR-CALNAME:Fun in Farmington
X-ORIGINAL-URL:https://funinfarmington.com
X-WR-CALDESC:Events for Fun in Farmington
REFRESH-INTERVAL;VALUE=DURATION:PT1H
X-Robots-Tag:noindex
X-PUBLISHED-TTL:PT1H
BEGIN:VTIMEZONE
TZID:UTC
BEGIN:STANDARD
TZOFFSETFROM:+0000
TZOFFSETTO:+0000
TZNAME:UTC
DTSTART:20260101T000000
END:STANDARD
END:VTIMEZONE
BEGIN:VEVENT
DTSTART;TZID=UTC:20270709T183000
DTEND;TZID=UTC:20270709T193000
DTSTAMP:20260422T005234
CREATED:20260409T104916Z
LAST-MODIFIED:20260409T104916Z
UID:10020374-1815157800-1815161400@funinfarmington.com
SUMMARY:Open Mic Comedy at Apothecary
DESCRIPTION:Every second Friday of the month from 6:30-7:30pm\, join us for open mic comedy hosted by Drake! This event is free for local jokesters to showcase their material\, and it’s also free for audience members! So join us for great coffee and great laughs from ten comics! To sign up or for more information please email apothecary.events@gmail.com
URL:https://funinfarmington.com/event/open-mic-comedy-at-apothecary-4/2027-07-09/
LOCATION:Apothecary Espresso and Coffee\, 23366 Farmington Rd\, Farmington\, 48336
CATEGORIES:Comedy
END:VEVENT
BEGIN:VEVENT
DTSTART;TZID=UTC:20270711T160000
DTEND;TZID=UTC:20270711T190000
DTSTAMP:20260422T005234
CREATED:20260118T211016Z
LAST-MODIFIED:20260118T211016Z
UID:10019263-1815321600-1815332400@funinfarmington.com
SUMMARY:Craft Night at Apothecary
DESCRIPTION:Join fellow crafters for crafts\, coffee\, and conversation every second Sunday and last Wednesday of the month!
URL:https://funinfarmington.com/event/craft-night-at-apothecary-2/2027-07-11/
LOCATION:Apothecary Espresso and Coffee\, 23366 Farmington Rd\, Farmington\, 48336
CATEGORIES:Crafting
END:VEVENT
BEGIN:VEVENT
DTSTART;TZID=UTC:20270803T170000
DTEND;TZID=UTC:20270803T190000
DTSTAMP:20260422T005234
CREATED:20260406T142554Z
LAST-MODIFIED:20260406T142554Z
UID:10020352-1817312400-1817319600@funinfarmington.com
SUMMARY:Open Mic Poetry & Prose
DESCRIPTION:Join us every first Tuesday of the month for Open Mic Poetry & Prose! Share pieces you enjoy or your own works! Short stories\, spoken-word\, and excerpts are welcome too. Writers\, come share with a captive audience and enjoy some coffee while you’re at it!
URL:https://funinfarmington.com/event/open-mic-poetry-prose/2027-08-03/
LOCATION:Apothecary Espresso and Coffee\, 23366 Farmington Rd\, Farmington\, 48336
ORGANIZER;CN="Drake Ficara":MAILTO:apothecary.events@gmail.com
END:VEVENT
BEGIN:VEVENT
DTSTART;TZID=UTC:20270808T160000
DTEND;TZID=UTC:20270808T190000
DTSTAMP:20260422T005234
CREATED:20260118T211016Z
LAST-MODIFIED:20260118T211016Z
UID:10019264-1817740800-1817751600@funinfarmington.com
SUMMARY:Craft Night at Apothecary
DESCRIPTION:Join fellow crafters for crafts\, coffee\, and conversation every second Sunday and last Wednesday of the month!
URL:https://funinfarmington.com/event/craft-night-at-apothecary-2/2027-08-08/
LOCATION:Apothecary Espresso and Coffee\, 23366 Farmington Rd\, Farmington\, 48336
CATEGORIES:Crafting
END:VEVENT
BEGIN:VEVENT
DTSTART;TZID=UTC:20270813T183000
DTEND;TZID=UTC:20270813T193000
DTSTAMP:20260422T005234
CREATED:20260409T104916Z
LAST-MODIFIED:20260409T104916Z
UID:10020375-1818181800-1818185400@funinfarmington.com
SUMMARY:Open Mic Comedy at Apothecary
DESCRIPTION:Every second Friday of the month from 6:30-7:30pm\, join us for open mic comedy hosted by Drake! This event is free for local jokesters to showcase their material\, and it’s also free for audience members! So join us for great coffee and great laughs from ten comics! To sign up or for more information please email apothecary.events@gmail.com
URL:https://funinfarmington.com/event/open-mic-comedy-at-apothecary-4/2027-08-13/
LOCATION:Apothecary Espresso and Coffee\, 23366 Farmington Rd\, Farmington\, 48336
CATEGORIES:Comedy
END:VEVENT
BEGIN:VEVENT
DTSTART;TZID=UTC:20270907T170000
DTEND;TZID=UTC:20270907T190000
DTSTAMP:20260422T005234
CREATED:20260406T142554Z
LAST-MODIFIED:20260406T142554Z
UID:10020353-1820336400-1820343600@funinfarmington.com
SUMMARY:Open Mic Poetry & Prose
DESCRIPTION:Join us every first Tuesday of the month for Open Mic Poetry & Prose! Share pieces you enjoy or your own works! Short stories\, spoken-word\, and excerpts are welcome too. Writers\, come share with a captive audience and enjoy some coffee while you’re at it!
URL:https://funinfarmington.com/event/open-mic-poetry-prose/2027-09-07/
LOCATION:Apothecary Espresso and Coffee\, 23366 Farmington Rd\, Farmington\, 48336
ORGANIZER;CN="Drake Ficara":MAILTO:apothecary.events@gmail.com
END:VEVENT
BEGIN:VEVENT
DTSTART;TZID=UTC:20270910T183000
DTEND;TZID=UTC:20270910T193000
DTSTAMP:20260422T005234
CREATED:20260409T104916Z
LAST-MODIFIED:20260409T104916Z
UID:10020376-1820601000-1820604600@funinfarmington.com
SUMMARY:Open Mic Comedy at Apothecary
DESCRIPTION:Every second Friday of the month from 6:30-7:30pm\, join us for open mic comedy hosted by Drake! This event is free for local jokesters to showcase their material\, and it’s also free for audience members! So join us for great coffee and great laughs from ten comics! To sign up or for more information please email apothecary.events@gmail.com
URL:https://funinfarmington.com/event/open-mic-comedy-at-apothecary-4/2027-09-10/
LOCATION:Apothecary Espresso and Coffee\, 23366 Farmington Rd\, Farmington\, 48336
CATEGORIES:Comedy
END:VEVENT
BEGIN:VEVENT
DTSTART;TZID=UTC:20270912T160000
DTEND;TZID=UTC:20270912T190000
DTSTAMP:20260422T005234
CREATED:20260118T211016Z
LAST-MODIFIED:20260118T211016Z
UID:10019265-1820764800-1820775600@funinfarmington.com
SUMMARY:Craft Night at Apothecary
DESCRIPTION:Join fellow crafters for crafts\, coffee\, and conversation every second Sunday and last Wednesday of the month!
URL:https://funinfarmington.com/event/craft-night-at-apothecary-2/2027-09-12/
LOCATION:Apothecary Espresso and Coffee\, 23366 Farmington Rd\, Farmington\, 48336
CATEGORIES:Crafting
END:VEVENT
BEGIN:VEVENT
DTSTART;TZID=UTC:20271005T170000
DTEND;TZID=UTC:20271005T190000
DTSTAMP:20260422T005234
CREATED:20260406T142554Z
LAST-MODIFIED:20260406T142554Z
UID:10020354-1822755600-1822762800@funinfarmington.com
SUMMARY:Open Mic Poetry & Prose
DESCRIPTION:Join us every first Tuesday of the month for Open Mic Poetry & Prose! Share pieces you enjoy or your own works! Short stories\, spoken-word\, and excerpts are welcome too. Writers\, come share with a captive audience and enjoy some coffee while you’re at it!
URL:https://funinfarmington.com/event/open-mic-poetry-prose/2027-10-05/
LOCATION:Apothecary Espresso and Coffee\, 23366 Farmington Rd\, Farmington\, 48336
ORGANIZER;CN="Drake Ficara":MAILTO:apothecary.events@gmail.com
END:VEVENT
BEGIN:VEVENT
DTSTART;TZID=UTC:20271008T183000
DTEND;TZID=UTC:20271008T193000
DTSTAMP:20260422T005234
CREATED:20260409T104916Z
LAST-MODIFIED:20260409T104916Z
UID:10020377-1823020200-1823023800@funinfarmington.com
SUMMARY:Open Mic Comedy at Apothecary
DESCRIPTION:Every second Friday of the month from 6:30-7:30pm\, join us for open mic comedy hosted by Drake! This event is free for local jokesters to showcase their material\, and it’s also free for audience members! So join us for great coffee and great laughs from ten comics! To sign up or for more information please email apothecary.events@gmail.com
URL:https://funinfarmington.com/event/open-mic-comedy-at-apothecary-4/2027-10-08/
LOCATION:Apothecary Espresso and Coffee\, 23366 Farmington Rd\, Farmington\, 48336
CATEGORIES:Comedy
END:VEVENT
BEGIN:VEVENT
DTSTART;TZID=UTC:20271010T160000
DTEND;TZID=UTC:20271010T190000
DTSTAMP:20260422T005234
CREATED:20260118T211016Z
LAST-MODIFIED:20260118T211016Z
UID:10019266-1823184000-1823194800@funinfarmington.com
SUMMARY:Craft Night at Apothecary
DESCRIPTION:Join fellow crafters for crafts\, coffee\, and conversation every second Sunday and last Wednesday of the month!
URL:https://funinfarmington.com/event/craft-night-at-apothecary-2/2027-10-10/
LOCATION:Apothecary Espresso and Coffee\, 23366 Farmington Rd\, Farmington\, 48336
CATEGORIES:Crafting
END:VEVENT
BEGIN:VEVENT
DTSTART;TZID=UTC:20271102T170000
DTEND;TZID=UTC:20271102T190000
DTSTAMP:20260422T005234
CREATED:20260406T142554Z
LAST-MODIFIED:20260406T142554Z
UID:10020355-1825174800-1825182000@funinfarmington.com
SUMMARY:Open Mic Poetry & Prose
DESCRIPTION:Join us every first Tuesday of the month for Open Mic Poetry & Prose! Share pieces you enjoy or your own works! Short stories\, spoken-word\, and excerpts are welcome too. Writers\, come share with a captive audience and enjoy some coffee while you’re at it!
URL:https://funinfarmington.com/event/open-mic-poetry-prose/2027-11-02/
LOCATION:Apothecary Espresso and Coffee\, 23366 Farmington Rd\, Farmington\, 48336
ORGANIZER;CN="Drake Ficara":MAILTO:apothecary.events@gmail.com
END:VEVENT
BEGIN:VEVENT
DTSTART;TZID=UTC:20271112T183000
DTEND;TZID=UTC:20271112T193000
DTSTAMP:20260422T005234
CREATED:20260409T104916Z
LAST-MODIFIED:20260409T104916Z
UID:10020378-1826044200-1826047800@funinfarmington.com
SUMMARY:Open Mic Comedy at Apothecary
DESCRIPTION:Every second Friday of the month from 6:30-7:30pm\, join us for open mic comedy hosted by Drake! This event is free for local jokesters to showcase their material\, and it’s also free for audience members! So join us for great coffee and great laughs from ten comics! To sign up or for more information please email apothecary.events@gmail.com
URL:https://funinfarmington.com/event/open-mic-comedy-at-apothecary-4/2027-11-12/
LOCATION:Apothecary Espresso and Coffee\, 23366 Farmington Rd\, Farmington\, 48336
CATEGORIES:Comedy
END:VEVENT
BEGIN:VEVENT
DTSTART;TZID=UTC:20271114T160000
DTEND;TZID=UTC:20271114T190000
DTSTAMP:20260422T005234
CREATED:20260118T211016Z
LAST-MODIFIED:20260118T211016Z
UID:10019267-1826208000-1826218800@funinfarmington.com
SUMMARY:Craft Night at Apothecary
DESCRIPTION:Join fellow crafters for crafts\, coffee\, and conversation every second Sunday and last Wednesday of the month!
URL:https://funinfarmington.com/event/craft-night-at-apothecary-2/2027-11-14/
LOCATION:Apothecary Espresso and Coffee\, 23366 Farmington Rd\, Farmington\, 48336
CATEGORIES:Crafting
END:VEVENT
BEGIN:VEVENT
DTSTART;TZID=UTC:20271207T170000
DTEND;TZID=UTC:20271207T190000
DTSTAMP:20260422T005234
CREATED:20260406T142554Z
LAST-MODIFIED:20260406T142554Z
UID:10020356-1828198800-1828206000@funinfarmington.com
SUMMARY:Open Mic Poetry & Prose
DESCRIPTION:Join us every first Tuesday of the month for Open Mic Poetry & Prose! Share pieces you enjoy or your own works! Short stories\, spoken-word\, and excerpts are welcome too. Writers\, come share with a captive audience and enjoy some coffee while you’re at it!
URL:https://funinfarmington.com/event/open-mic-poetry-prose/2027-12-07/
LOCATION:Apothecary Espresso and Coffee\, 23366 Farmington Rd\, Farmington\, 48336
ORGANIZER;CN="Drake Ficara":MAILTO:apothecary.events@gmail.com
END:VEVENT
BEGIN:VEVENT
DTSTART;TZID=UTC:20271210T183000
DTEND;TZID=UTC:20271210T193000
DTSTAMP:20260422T005234
CREATED:20260409T104916Z
LAST-MODIFIED:20260409T104916Z
UID:10020379-1828463400-1828467000@funinfarmington.com
SUMMARY:Open Mic Comedy at Apothecary
DESCRIPTION:Every second Friday of the month from 6:30-7:30pm\, join us for open mic comedy hosted by Drake! This event is free for local jokesters to showcase their material\, and it’s also free for audience members! So join us for great coffee and great laughs from ten comics! To sign up or for more information please email apothecary.events@gmail.com
URL:https://funinfarmington.com/event/open-mic-comedy-at-apothecary-4/2027-12-10/
LOCATION:Apothecary Espresso and Coffee\, 23366 Farmington Rd\, Farmington\, 48336
CATEGORIES:Comedy
END:VEVENT
BEGIN:VEVENT
DTSTART;TZID=UTC:20271212T160000
DTEND;TZID=UTC:20271212T190000
DTSTAMP:20260422T005234
CREATED:20260118T211016Z
LAST-MODIFIED:20260118T211016Z
UID:10019268-1828627200-1828638000@funinfarmington.com
SUMMARY:Craft Night at Apothecary
DESCRIPTION:Join fellow crafters for crafts\, coffee\, and conversation every second Sunday and last Wednesday of the month!
URL:https://funinfarmington.com/event/craft-night-at-apothecary-2/2027-12-12/
LOCATION:Apothecary Espresso and Coffee\, 23366 Farmington Rd\, Farmington\, 48336
CATEGORIES:Crafting
END:VEVENT
BEGIN:VEVENT
DTSTART;TZID=UTC:20280114T183000
DTEND;TZID=UTC:20280114T193000
DTSTAMP:20260422T005234
CREATED:20260409T104916Z
LAST-MODIFIED:20260409T104916Z
UID:10020380-1831487400-1831491000@funinfarmington.com
SUMMARY:Open Mic Comedy at Apothecary
DESCRIPTION:Every second Friday of the month from 6:30-7:30pm\, join us for open mic comedy hosted by Drake! This event is free for local jokesters to showcase their material\, and it’s also free for audience members! So join us for great coffee and great laughs from ten comics! To sign up or for more information please email apothecary.events@gmail.com
URL:https://funinfarmington.com/event/open-mic-comedy-at-apothecary-4/2028-01-14/
LOCATION:Apothecary Espresso and Coffee\, 23366 Farmington Rd\, Farmington\, 48336
CATEGORIES:Comedy
END:VEVENT
BEGIN:VEVENT
DTSTART;TZID=UTC:20280211T183000
DTEND;TZID=UTC:20280211T193000
DTSTAMP:20260422T005234
CREATED:20260409T104916Z
LAST-MODIFIED:20260409T104916Z
UID:10020381-1833906600-1833910200@funinfarmington.com
SUMMARY:Open Mic Comedy at Apothecary
DESCRIPTION:Every second Friday of the month from 6:30-7:30pm\, join us for open mic comedy hosted by Drake! This event is free for local jokesters to showcase their material\, and it’s also free for audience members! So join us for great coffee and great laughs from ten comics! To sign up or for more information please email apothecary.events@gmail.com
URL:https://funinfarmington.com/event/open-mic-comedy-at-apothecary-4/2028-02-11/
LOCATION:Apothecary Espresso and Coffee\, 23366 Farmington Rd\, Farmington\, 48336
CATEGORIES:Comedy
END:VEVENT
BEGIN:VEVENT
DTSTART;TZID=UTC:20280310T183000
DTEND;TZID=UTC:20280310T193000
DTSTAMP:20260422T005234
CREATED:20260409T104916Z
LAST-MODIFIED:20260409T104916Z
UID:10020382-1836325800-1836329400@funinfarmington.com
SUMMARY:Open Mic Comedy at Apothecary
DESCRIPTION:Every second Friday of the month from 6:30-7:30pm\, join us for open mic comedy hosted by Drake! This event is free for local jokesters to showcase their material\, and it’s also free for audience members! So join us for great coffee and great laughs from ten comics! To sign up or for more information please email apothecary.events@gmail.com
URL:https://funinfarmington.com/event/open-mic-comedy-at-apothecary-4/2028-03-10/
LOCATION:Apothecary Espresso and Coffee\, 23366 Farmington Rd\, Farmington\, 48336
CATEGORIES:Comedy
END:VEVENT
BEGIN:VEVENT
DTSTART;TZID=UTC:20280414T183000
DTEND;TZID=UTC:20280414T193000
DTSTAMP:20260422T005234
CREATED:20260409T104916Z
LAST-MODIFIED:20260409T104916Z
UID:10020383-1839349800-1839353400@funinfarmington.com
SUMMARY:Open Mic Comedy at Apothecary
DESCRIPTION:Every second Friday of the month from 6:30-7:30pm\, join us for open mic comedy hosted by Drake! This event is free for local jokesters to showcase their material\, and it’s also free for audience members! So join us for great coffee and great laughs from ten comics! To sign up or for more information please email apothecary.events@gmail.com
URL:https://funinfarmington.com/event/open-mic-comedy-at-apothecary-4/2028-04-14/
LOCATION:Apothecary Espresso and Coffee\, 23366 Farmington Rd\, Farmington\, 48336
CATEGORIES:Comedy
END:VEVENT
BEGIN:VEVENT
DTSTART;TZID=UTC:20280512T183000
DTEND;TZID=UTC:20280512T193000
DTSTAMP:20260422T005234
CREATED:20260409T104916Z
LAST-MODIFIED:20260409T104916Z
UID:10020384-1841769000-1841772600@funinfarmington.com
SUMMARY:Open Mic Comedy at Apothecary
DESCRIPTION:Every second Friday of the month from 6:30-7:30pm\, join us for open mic comedy hosted by Drake! This event is free for local jokesters to showcase their material\, and it’s also free for audience members! So join us for great coffee and great laughs from ten comics! To sign up or for more information please email apothecary.events@gmail.com
URL:https://funinfarmington.com/event/open-mic-comedy-at-apothecary-4/2028-05-12/
LOCATION:Apothecary Espresso and Coffee\, 23366 Farmington Rd\, Farmington\, 48336
CATEGORIES:Comedy
END:VEVENT
BEGIN:VEVENT
DTSTART;TZID=UTC:20280609T183000
DTEND;TZID=UTC:20280609T193000
DTSTAMP:20260422T005234
CREATED:20260409T104916Z
LAST-MODIFIED:20260409T104916Z
UID:10020385-1844188200-1844191800@funinfarmington.com
SUMMARY:Open Mic Comedy at Apothecary
DESCRIPTION:Every second Friday of the month from 6:30-7:30pm\, join us for open mic comedy hosted by Drake! This event is free for local jokesters to showcase their material\, and it’s also free for audience members! So join us for great coffee and great laughs from ten comics! To sign up or for more information please email apothecary.events@gmail.com
URL:https://funinfarmington.com/event/open-mic-comedy-at-apothecary-4/2028-06-09/
LOCATION:Apothecary Espresso and Coffee\, 23366 Farmington Rd\, Farmington\, 48336
CATEGORIES:Comedy
END:VEVENT
BEGIN:VEVENT
DTSTART;TZID=UTC:20280714T183000
DTEND;TZID=UTC:20280714T193000
DTSTAMP:20260422T005234
CREATED:20260409T104916Z
LAST-MODIFIED:20260409T104916Z
UID:10020386-1847212200-1847215800@funinfarmington.com
SUMMARY:Open Mic Comedy at Apothecary
DESCRIPTION:Every second Friday of the month from 6:30-7:30pm\, join us for open mic comedy hosted by Drake! This event is free for local jokesters to showcase their material\, and it’s also free for audience members! So join us for great coffee and great laughs from ten comics! To sign up or for more information please email apothecary.events@gmail.com
URL:https://funinfarmington.com/event/open-mic-comedy-at-apothecary-4/2028-07-14/
LOCATION:Apothecary Espresso and Coffee\, 23366 Farmington Rd\, Farmington\, 48336
CATEGORIES:Comedy
END:VEVENT
BEGIN:VEVENT
DTSTART;TZID=UTC:20280811T183000
DTEND;TZID=UTC:20280811T193000
DTSTAMP:20260422T005234
CREATED:20260409T104916Z
LAST-MODIFIED:20260409T104916Z
UID:10020387-1849631400-1849635000@funinfarmington.com
SUMMARY:Open Mic Comedy at Apothecary
DESCRIPTION:Every second Friday of the month from 6:30-7:30pm\, join us for open mic comedy hosted by Drake! This event is free for local jokesters to showcase their material\, and it’s also free for audience members! So join us for great coffee and great laughs from ten comics! To sign up or for more information please email apothecary.events@gmail.com
URL:https://funinfarmington.com/event/open-mic-comedy-at-apothecary-4/2028-08-11/
LOCATION:Apothecary Espresso and Coffee\, 23366 Farmington Rd\, Farmington\, 48336
CATEGORIES:Comedy
END:VEVENT
BEGIN:VEVENT
DTSTART;TZID=UTC:20280908T183000
DTEND;TZID=UTC:20280908T193000
DTSTAMP:20260422T005234
CREATED:20260409T104916Z
LAST-MODIFIED:20260409T104916Z
UID:10020388-1852050600-1852054200@funinfarmington.com
SUMMARY:Open Mic Comedy at Apothecary
DESCRIPTION:Every second Friday of the month from 6:30-7:30pm\, join us for open mic comedy hosted by Drake! This event is free for local jokesters to showcase their material\, and it’s also free for audience members! So join us for great coffee and great laughs from ten comics! To sign up or for more information please email apothecary.events@gmail.com
URL:https://funinfarmington.com/event/open-mic-comedy-at-apothecary-4/2028-09-08/
LOCATION:Apothecary Espresso and Coffee\, 23366 Farmington Rd\, Farmington\, 48336
CATEGORIES:Comedy
END:VEVENT
BEGIN:VEVENT
DTSTART;TZID=UTC:20281013T183000
DTEND;TZID=UTC:20281013T193000
DTSTAMP:20260422T005234
CREATED:20260409T104916Z
LAST-MODIFIED:20260409T104916Z
UID:10020389-1855074600-1855078200@funinfarmington.com
SUMMARY:Open Mic Comedy at Apothecary
DESCRIPTION:Every second Friday of the month from 6:30-7:30pm\, join us for open mic comedy hosted by Drake! This event is free for local jokesters to showcase their material\, and it’s also free for audience members! So join us for great coffee and great laughs from ten comics! To sign up or for more information please email apothecary.events@gmail.com
URL:https://funinfarmington.com/event/open-mic-comedy-at-apothecary-4/2028-10-13/
LOCATION:Apothecary Espresso and Coffee\, 23366 Farmington Rd\, Farmington\, 48336
CATEGORIES:Comedy
END:VEVENT
BEGIN:VEVENT
DTSTART;TZID=UTC:20281110T183000
DTEND;TZID=UTC:20281110T193000
DTSTAMP:20260422T005234
CREATED:20260409T104916Z
LAST-MODIFIED:20260409T104916Z
UID:10020390-1857493800-1857497400@funinfarmington.com
SUMMARY:Open Mic Comedy at Apothecary
DESCRIPTION:Every second Friday of the month from 6:30-7:30pm\, join us for open mic comedy hosted by Drake! This event is free for local jokesters to showcase their material\, and it’s also free for audience members! So join us for great coffee and great laughs from ten comics! To sign up or for more information please email apothecary.events@gmail.com
URL:https://funinfarmington.com/event/open-mic-comedy-at-apothecary-4/2028-11-10/
LOCATION:Apothecary Espresso and Coffee\, 23366 Farmington Rd\, Farmington\, 48336
CATEGORIES:Comedy
END:VEVENT
BEGIN:VEVENT
DTSTART;TZID=UTC:20281208T183000
DTEND;TZID=UTC:20281208T193000
DTSTAMP:20260422T005234
CREATED:20260409T104916Z
LAST-MODIFIED:20260409T104916Z
UID:10020391-1859913000-1859916600@funinfarmington.com
SUMMARY:Open Mic Comedy at Apothecary
DESCRIPTION:Every second Friday of the month from 6:30-7:30pm\, join us for open mic comedy hosted by Drake! This event is free for local jokesters to showcase their material\, and it’s also free for audience members! So join us for great coffee and great laughs from ten comics! To sign up or for more information please email apothecary.events@gmail.com
URL:https://funinfarmington.com/event/open-mic-comedy-at-apothecary-4/2028-12-08/
LOCATION:Apothecary Espresso and Coffee\, 23366 Farmington Rd\, Farmington\, 48336
CATEGORIES:Comedy
END:VEVENT
BEGIN:VEVENT
DTSTART;TZID=UTC:20290112T183000
DTEND;TZID=UTC:20290112T193000
DTSTAMP:20260422T005234
CREATED:20260409T104916Z
LAST-MODIFIED:20260409T104916Z
UID:10020392-1862937000-1862940600@funinfarmington.com
SUMMARY:Open Mic Comedy at Apothecary
DESCRIPTION:Every second Friday of the month from 6:30-7:30pm\, join us for open mic comedy hosted by Drake! This event is free for local jokesters to showcase their material\, and it’s also free for audience members! So join us for great coffee and great laughs from ten comics! To sign up or for more information please email apothecary.events@gmail.com
URL:https://funinfarmington.com/event/open-mic-comedy-at-apothecary-4/2029-01-12/
LOCATION:Apothecary Espresso and Coffee\, 23366 Farmington Rd\, Farmington\, 48336
CATEGORIES:Comedy
END:VEVENT
END:VCALENDAR