BEGIN:VCALENDAR
VERSION:2.0
PRODID:-//Fun in Farmington - ECPv6.15.20//NONSGML v1.0//EN
CALSCALE:GREGORIAN
METHOD:PUBLISH
X-WR-CALNAME:Fun in Farmington
X-ORIGINAL-URL:https://funinfarmington.com
X-WR-CALDESC:Events for Fun in Farmington
REFRESH-INTERVAL;VALUE=DURATION:PT1H
X-Robots-Tag:noindex
X-PUBLISHED-TTL:PT1H
BEGIN:VTIMEZONE
TZID:UTC
BEGIN:STANDARD
TZOFFSETFROM:+0000
TZOFFSETTO:+0000
TZNAME:UTC
DTSTART:20250101T000000
END:STANDARD
END:VTIMEZONE
BEGIN:VEVENT
DTSTART;TZID=UTC:20261213T160000
DTEND;TZID=UTC:20261213T190000
DTSTAMP:20260421T185044
CREATED:20260118T211016Z
LAST-MODIFIED:20260118T211016Z
UID:10019256-1797177600-1797188400@funinfarmington.com
SUMMARY:Craft Night at Apothecary
DESCRIPTION:Join fellow crafters for crafts\, coffee\, and conversation every second Sunday and last Wednesday of the month!
URL:https://funinfarmington.com/event/craft-night-at-apothecary-2/2026-12-13/
LOCATION:Apothecary Espresso and Coffee\, 23366 Farmington Rd\, Farmington\, 48336
CATEGORIES:Crafting
END:VEVENT
BEGIN:VEVENT
DTSTART;TZID=UTC:20261217T190000
DTEND;TZID=UTC:20261217T220000
DTSTAMP:20260421T185044
CREATED:20260128T152552Z
LAST-MODIFIED:20260128T152552Z
UID:10019446-1797534000-1797544800@funinfarmington.com
SUMMARY:Tournament Thursday - Super Smash Bros. Ultimate
DESCRIPTION:Join us every Thursday for Tournament Thursday! New tournament rules every week with prizes going to top 4. $5 entry\, newcomers play free! Don’t want to play? Drink service runs during the event\, so grab your favorite drink.
URL:https://funinfarmington.com/event/tournament-thursday-super-smash-bros-ultimate/2026-12-17/
LOCATION:Apothecary Espresso and Coffee\, 23366 Farmington Rd\, Farmington\, 48336
CATEGORIES:Games,Tech
ORGANIZER;CN="Drake Ficara":MAILTO:apothecary.events@gmail.com
END:VEVENT
BEGIN:VEVENT
DTSTART;TZID=UTC:20261224T190000
DTEND;TZID=UTC:20261224T220000
DTSTAMP:20260421T185044
CREATED:20260128T152552Z
LAST-MODIFIED:20260128T152552Z
UID:10019447-1798138800-1798149600@funinfarmington.com
SUMMARY:Tournament Thursday - Super Smash Bros. Ultimate
DESCRIPTION:Join us every Thursday for Tournament Thursday! New tournament rules every week with prizes going to top 4. $5 entry\, newcomers play free! Don’t want to play? Drink service runs during the event\, so grab your favorite drink.
URL:https://funinfarmington.com/event/tournament-thursday-super-smash-bros-ultimate/2026-12-24/
LOCATION:Apothecary Espresso and Coffee\, 23366 Farmington Rd\, Farmington\, 48336
CATEGORIES:Games,Tech
ORGANIZER;CN="Drake Ficara":MAILTO:apothecary.events@gmail.com
END:VEVENT
BEGIN:VEVENT
DTSTART;TZID=UTC:20261231T190000
DTEND;TZID=UTC:20261231T220000
DTSTAMP:20260421T185044
CREATED:20260128T152552Z
LAST-MODIFIED:20260128T152552Z
UID:10019448-1798743600-1798754400@funinfarmington.com
SUMMARY:Tournament Thursday - Super Smash Bros. Ultimate
DESCRIPTION:Join us every Thursday for Tournament Thursday! New tournament rules every week with prizes going to top 4. $5 entry\, newcomers play free! Don’t want to play? Drink service runs during the event\, so grab your favorite drink.
URL:https://funinfarmington.com/event/tournament-thursday-super-smash-bros-ultimate/2026-12-31/
LOCATION:Apothecary Espresso and Coffee\, 23366 Farmington Rd\, Farmington\, 48336
CATEGORIES:Games,Tech
ORGANIZER;CN="Drake Ficara":MAILTO:apothecary.events@gmail.com
END:VEVENT
BEGIN:VEVENT
DTSTART;TZID=UTC:20270101T173000
DTEND;TZID=UTC:20270101T193000
DTSTAMP:20260421T185044
CREATED:20260223T001047Z
LAST-MODIFIED:20260223T001304Z
UID:10019862-1798824600-1798831800@funinfarmington.com
SUMMARY:Live Music Friday at Apothecary
DESCRIPTION:Catch local Michigan artists from 5:30-7:30pm in the shop every first Friday evening of the month. This is another free event we are proud to offer! Are you or someone you know interested in booking a gig with us? Please email: apothecary.events@gmail.com
URL:https://funinfarmington.com/event/live-music-friday-at-apothecary/2027-01-01/
LOCATION:Apothecary Espresso and Coffee\, 23366 Farmington Rd\, Farmington\, 48336
CATEGORIES:Community,Music
END:VEVENT
BEGIN:VEVENT
DTSTART;TZID=UTC:20270105T170000
DTEND;TZID=UTC:20270105T190000
DTSTAMP:20260421T185044
CREATED:20260406T142554Z
LAST-MODIFIED:20260406T142554Z
UID:10020345-1799168400-1799175600@funinfarmington.com
SUMMARY:Open Mic Poetry & Prose
DESCRIPTION:Join us every first Tuesday of the month for Open Mic Poetry & Prose! Share pieces you enjoy or your own works! Short stories\, spoken-word\, and excerpts are welcome too. Writers\, come share with a captive audience and enjoy some coffee while you’re at it!
URL:https://funinfarmington.com/event/open-mic-poetry-prose/2027-01-05/
LOCATION:Apothecary Espresso and Coffee\, 23366 Farmington Rd\, Farmington\, 48336
ORGANIZER;CN="Drake Ficara":MAILTO:apothecary.events@gmail.com
END:VEVENT
BEGIN:VEVENT
DTSTART;TZID=UTC:20270107T190000
DTEND;TZID=UTC:20270107T220000
DTSTAMP:20260421T185044
CREATED:20260128T152552Z
LAST-MODIFIED:20260128T152552Z
UID:10019449-1799348400-1799359200@funinfarmington.com
SUMMARY:Tournament Thursday - Super Smash Bros. Ultimate
DESCRIPTION:Join us every Thursday for Tournament Thursday! New tournament rules every week with prizes going to top 4. $5 entry\, newcomers play free! Don’t want to play? Drink service runs during the event\, so grab your favorite drink.
URL:https://funinfarmington.com/event/tournament-thursday-super-smash-bros-ultimate/2027-01-07/
LOCATION:Apothecary Espresso and Coffee\, 23366 Farmington Rd\, Farmington\, 48336
CATEGORIES:Games,Tech
ORGANIZER;CN="Drake Ficara":MAILTO:apothecary.events@gmail.com
END:VEVENT
BEGIN:VEVENT
DTSTART;TZID=UTC:20270108T183000
DTEND;TZID=UTC:20270108T193000
DTSTAMP:20260421T185044
CREATED:20260409T104916Z
LAST-MODIFIED:20260409T104916Z
UID:10020368-1799433000-1799436600@funinfarmington.com
SUMMARY:Open Mic Comedy at Apothecary
DESCRIPTION:Every second Friday of the month from 6:30-7:30pm\, join us for open mic comedy hosted by Drake! This event is free for local jokesters to showcase their material\, and it’s also free for audience members! So join us for great coffee and great laughs from ten comics! To sign up or for more information please email apothecary.events@gmail.com
URL:https://funinfarmington.com/event/open-mic-comedy-at-apothecary-4/2027-01-08/
LOCATION:Apothecary Espresso and Coffee\, 23366 Farmington Rd\, Farmington\, 48336
CATEGORIES:Comedy
END:VEVENT
BEGIN:VEVENT
DTSTART;TZID=UTC:20270110T160000
DTEND;TZID=UTC:20270110T190000
DTSTAMP:20260421T185044
CREATED:20260118T211016Z
LAST-MODIFIED:20260118T211016Z
UID:10019257-1799596800-1799607600@funinfarmington.com
SUMMARY:Craft Night at Apothecary
DESCRIPTION:Join fellow crafters for crafts\, coffee\, and conversation every second Sunday and last Wednesday of the month!
URL:https://funinfarmington.com/event/craft-night-at-apothecary-2/2027-01-10/
LOCATION:Apothecary Espresso and Coffee\, 23366 Farmington Rd\, Farmington\, 48336
CATEGORIES:Crafting
END:VEVENT
BEGIN:VEVENT
DTSTART;TZID=UTC:20270114T190000
DTEND;TZID=UTC:20270114T220000
DTSTAMP:20260421T185044
CREATED:20260128T152552Z
LAST-MODIFIED:20260128T152552Z
UID:10019450-1799953200-1799964000@funinfarmington.com
SUMMARY:Tournament Thursday - Super Smash Bros. Ultimate
DESCRIPTION:Join us every Thursday for Tournament Thursday! New tournament rules every week with prizes going to top 4. $5 entry\, newcomers play free! Don’t want to play? Drink service runs during the event\, so grab your favorite drink.
URL:https://funinfarmington.com/event/tournament-thursday-super-smash-bros-ultimate/2027-01-14/
LOCATION:Apothecary Espresso and Coffee\, 23366 Farmington Rd\, Farmington\, 48336
CATEGORIES:Games,Tech
ORGANIZER;CN="Drake Ficara":MAILTO:apothecary.events@gmail.com
END:VEVENT
BEGIN:VEVENT
DTSTART;TZID=UTC:20270121T190000
DTEND;TZID=UTC:20270121T220000
DTSTAMP:20260421T185044
CREATED:20260128T152552Z
LAST-MODIFIED:20260128T152552Z
UID:10019451-1800558000-1800568800@funinfarmington.com
SUMMARY:Tournament Thursday - Super Smash Bros. Ultimate
DESCRIPTION:Join us every Thursday for Tournament Thursday! New tournament rules every week with prizes going to top 4. $5 entry\, newcomers play free! Don’t want to play? Drink service runs during the event\, so grab your favorite drink.
URL:https://funinfarmington.com/event/tournament-thursday-super-smash-bros-ultimate/2027-01-21/
LOCATION:Apothecary Espresso and Coffee\, 23366 Farmington Rd\, Farmington\, 48336
CATEGORIES:Games,Tech
ORGANIZER;CN="Drake Ficara":MAILTO:apothecary.events@gmail.com
END:VEVENT
BEGIN:VEVENT
DTSTART;TZID=UTC:20270128T190000
DTEND;TZID=UTC:20270128T220000
DTSTAMP:20260421T185044
CREATED:20260128T152552Z
LAST-MODIFIED:20260128T152552Z
UID:10019452-1801162800-1801173600@funinfarmington.com
SUMMARY:Tournament Thursday - Super Smash Bros. Ultimate
DESCRIPTION:Join us every Thursday for Tournament Thursday! New tournament rules every week with prizes going to top 4. $5 entry\, newcomers play free! Don’t want to play? Drink service runs during the event\, so grab your favorite drink.
URL:https://funinfarmington.com/event/tournament-thursday-super-smash-bros-ultimate/2027-01-28/
LOCATION:Apothecary Espresso and Coffee\, 23366 Farmington Rd\, Farmington\, 48336
CATEGORIES:Games,Tech
ORGANIZER;CN="Drake Ficara":MAILTO:apothecary.events@gmail.com
END:VEVENT
BEGIN:VEVENT
DTSTART;TZID=UTC:20270202T170000
DTEND;TZID=UTC:20270202T190000
DTSTAMP:20260421T185044
CREATED:20260406T142554Z
LAST-MODIFIED:20260406T142554Z
UID:10020346-1801587600-1801594800@funinfarmington.com
SUMMARY:Open Mic Poetry & Prose
DESCRIPTION:Join us every first Tuesday of the month for Open Mic Poetry & Prose! Share pieces you enjoy or your own works! Short stories\, spoken-word\, and excerpts are welcome too. Writers\, come share with a captive audience and enjoy some coffee while you’re at it!
URL:https://funinfarmington.com/event/open-mic-poetry-prose/2027-02-02/
LOCATION:Apothecary Espresso and Coffee\, 23366 Farmington Rd\, Farmington\, 48336
ORGANIZER;CN="Drake Ficara":MAILTO:apothecary.events@gmail.com
END:VEVENT
BEGIN:VEVENT
DTSTART;TZID=UTC:20270204T190000
DTEND;TZID=UTC:20270204T220000
DTSTAMP:20260421T185044
CREATED:20260128T152552Z
LAST-MODIFIED:20260128T152552Z
UID:10019453-1801767600-1801778400@funinfarmington.com
SUMMARY:Tournament Thursday - Super Smash Bros. Ultimate
DESCRIPTION:Join us every Thursday for Tournament Thursday! New tournament rules every week with prizes going to top 4. $5 entry\, newcomers play free! Don’t want to play? Drink service runs during the event\, so grab your favorite drink.
URL:https://funinfarmington.com/event/tournament-thursday-super-smash-bros-ultimate/2027-02-04/
LOCATION:Apothecary Espresso and Coffee\, 23366 Farmington Rd\, Farmington\, 48336
CATEGORIES:Games,Tech
ORGANIZER;CN="Drake Ficara":MAILTO:apothecary.events@gmail.com
END:VEVENT
BEGIN:VEVENT
DTSTART;TZID=UTC:20270205T173000
DTEND;TZID=UTC:20270205T193000
DTSTAMP:20260421T185044
CREATED:20260223T001047Z
LAST-MODIFIED:20260223T001304Z
UID:10019867-1801848600-1801855800@funinfarmington.com
SUMMARY:Live Music Friday at Apothecary
DESCRIPTION:Catch local Michigan artists from 5:30-7:30pm in the shop every first Friday evening of the month. This is another free event we are proud to offer! Are you or someone you know interested in booking a gig with us? Please email: apothecary.events@gmail.com
URL:https://funinfarmington.com/event/live-music-friday-at-apothecary/2027-02-05/
LOCATION:Apothecary Espresso and Coffee\, 23366 Farmington Rd\, Farmington\, 48336
CATEGORIES:Community,Music
END:VEVENT
BEGIN:VEVENT
DTSTART;TZID=UTC:20270211T190000
DTEND;TZID=UTC:20270211T220000
DTSTAMP:20260421T185044
CREATED:20260128T152552Z
LAST-MODIFIED:20260128T152552Z
UID:10019454-1802372400-1802383200@funinfarmington.com
SUMMARY:Tournament Thursday - Super Smash Bros. Ultimate
DESCRIPTION:Join us every Thursday for Tournament Thursday! New tournament rules every week with prizes going to top 4. $5 entry\, newcomers play free! Don’t want to play? Drink service runs during the event\, so grab your favorite drink.
URL:https://funinfarmington.com/event/tournament-thursday-super-smash-bros-ultimate/2027-02-11/
LOCATION:Apothecary Espresso and Coffee\, 23366 Farmington Rd\, Farmington\, 48336
CATEGORIES:Games,Tech
ORGANIZER;CN="Drake Ficara":MAILTO:apothecary.events@gmail.com
END:VEVENT
BEGIN:VEVENT
DTSTART;TZID=UTC:20270212T183000
DTEND;TZID=UTC:20270212T193000
DTSTAMP:20260421T185044
CREATED:20260409T104916Z
LAST-MODIFIED:20260409T104916Z
UID:10020369-1802457000-1802460600@funinfarmington.com
SUMMARY:Open Mic Comedy at Apothecary
DESCRIPTION:Every second Friday of the month from 6:30-7:30pm\, join us for open mic comedy hosted by Drake! This event is free for local jokesters to showcase their material\, and it’s also free for audience members! So join us for great coffee and great laughs from ten comics! To sign up or for more information please email apothecary.events@gmail.com
URL:https://funinfarmington.com/event/open-mic-comedy-at-apothecary-4/2027-02-12/
LOCATION:Apothecary Espresso and Coffee\, 23366 Farmington Rd\, Farmington\, 48336
CATEGORIES:Comedy
END:VEVENT
BEGIN:VEVENT
DTSTART;TZID=UTC:20270214T160000
DTEND;TZID=UTC:20270214T190000
DTSTAMP:20260421T185044
CREATED:20260118T211016Z
LAST-MODIFIED:20260118T211016Z
UID:10019258-1802620800-1802631600@funinfarmington.com
SUMMARY:Craft Night at Apothecary
DESCRIPTION:Join fellow crafters for crafts\, coffee\, and conversation every second Sunday and last Wednesday of the month!
URL:https://funinfarmington.com/event/craft-night-at-apothecary-2/2027-02-14/
LOCATION:Apothecary Espresso and Coffee\, 23366 Farmington Rd\, Farmington\, 48336
CATEGORIES:Crafting
END:VEVENT
BEGIN:VEVENT
DTSTART;TZID=UTC:20270218T190000
DTEND;TZID=UTC:20270218T220000
DTSTAMP:20260421T185044
CREATED:20260128T152552Z
LAST-MODIFIED:20260128T152552Z
UID:10019455-1802977200-1802988000@funinfarmington.com
SUMMARY:Tournament Thursday - Super Smash Bros. Ultimate
DESCRIPTION:Join us every Thursday for Tournament Thursday! New tournament rules every week with prizes going to top 4. $5 entry\, newcomers play free! Don’t want to play? Drink service runs during the event\, so grab your favorite drink.
URL:https://funinfarmington.com/event/tournament-thursday-super-smash-bros-ultimate/2027-02-18/
LOCATION:Apothecary Espresso and Coffee\, 23366 Farmington Rd\, Farmington\, 48336
CATEGORIES:Games,Tech
ORGANIZER;CN="Drake Ficara":MAILTO:apothecary.events@gmail.com
END:VEVENT
BEGIN:VEVENT
DTSTART;TZID=UTC:20270225T190000
DTEND;TZID=UTC:20270225T220000
DTSTAMP:20260421T185044
CREATED:20260128T152552Z
LAST-MODIFIED:20260128T152552Z
UID:10019456-1803582000-1803592800@funinfarmington.com
SUMMARY:Tournament Thursday - Super Smash Bros. Ultimate
DESCRIPTION:Join us every Thursday for Tournament Thursday! New tournament rules every week with prizes going to top 4. $5 entry\, newcomers play free! Don’t want to play? Drink service runs during the event\, so grab your favorite drink.
URL:https://funinfarmington.com/event/tournament-thursday-super-smash-bros-ultimate/2027-02-25/
LOCATION:Apothecary Espresso and Coffee\, 23366 Farmington Rd\, Farmington\, 48336
CATEGORIES:Games,Tech
ORGANIZER;CN="Drake Ficara":MAILTO:apothecary.events@gmail.com
END:VEVENT
BEGIN:VEVENT
DTSTART;TZID=UTC:20270302T170000
DTEND;TZID=UTC:20270302T190000
DTSTAMP:20260421T185044
CREATED:20260406T142554Z
LAST-MODIFIED:20260406T142554Z
UID:10020347-1804006800-1804014000@funinfarmington.com
SUMMARY:Open Mic Poetry & Prose
DESCRIPTION:Join us every first Tuesday of the month for Open Mic Poetry & Prose! Share pieces you enjoy or your own works! Short stories\, spoken-word\, and excerpts are welcome too. Writers\, come share with a captive audience and enjoy some coffee while you’re at it!
URL:https://funinfarmington.com/event/open-mic-poetry-prose/2027-03-02/
LOCATION:Apothecary Espresso and Coffee\, 23366 Farmington Rd\, Farmington\, 48336
ORGANIZER;CN="Drake Ficara":MAILTO:apothecary.events@gmail.com
END:VEVENT
BEGIN:VEVENT
DTSTART;TZID=UTC:20270304T190000
DTEND;TZID=UTC:20270304T220000
DTSTAMP:20260421T185044
CREATED:20260128T152552Z
LAST-MODIFIED:20260128T152552Z
UID:10019457-1804186800-1804197600@funinfarmington.com
SUMMARY:Tournament Thursday - Super Smash Bros. Ultimate
DESCRIPTION:Join us every Thursday for Tournament Thursday! New tournament rules every week with prizes going to top 4. $5 entry\, newcomers play free! Don’t want to play? Drink service runs during the event\, so grab your favorite drink.
URL:https://funinfarmington.com/event/tournament-thursday-super-smash-bros-ultimate/2027-03-04/
LOCATION:Apothecary Espresso and Coffee\, 23366 Farmington Rd\, Farmington\, 48336
CATEGORIES:Games,Tech
ORGANIZER;CN="Drake Ficara":MAILTO:apothecary.events@gmail.com
END:VEVENT
BEGIN:VEVENT
DTSTART;TZID=UTC:20270305T173000
DTEND;TZID=UTC:20270305T193000
DTSTAMP:20260421T185044
CREATED:20260223T001047Z
LAST-MODIFIED:20260223T001304Z
UID:10019871-1804267800-1804275000@funinfarmington.com
SUMMARY:Live Music Friday at Apothecary
DESCRIPTION:Catch local Michigan artists from 5:30-7:30pm in the shop every first Friday evening of the month. This is another free event we are proud to offer! Are you or someone you know interested in booking a gig with us? Please email: apothecary.events@gmail.com
URL:https://funinfarmington.com/event/live-music-friday-at-apothecary/2027-03-05/
LOCATION:Apothecary Espresso and Coffee\, 23366 Farmington Rd\, Farmington\, 48336
CATEGORIES:Community,Music
END:VEVENT
BEGIN:VEVENT
DTSTART;TZID=UTC:20270311T190000
DTEND;TZID=UTC:20270311T220000
DTSTAMP:20260421T185044
CREATED:20260128T152552Z
LAST-MODIFIED:20260128T152552Z
UID:10019458-1804791600-1804802400@funinfarmington.com
SUMMARY:Tournament Thursday - Super Smash Bros. Ultimate
DESCRIPTION:Join us every Thursday for Tournament Thursday! New tournament rules every week with prizes going to top 4. $5 entry\, newcomers play free! Don’t want to play? Drink service runs during the event\, so grab your favorite drink.
URL:https://funinfarmington.com/event/tournament-thursday-super-smash-bros-ultimate/2027-03-11/
LOCATION:Apothecary Espresso and Coffee\, 23366 Farmington Rd\, Farmington\, 48336
CATEGORIES:Games,Tech
ORGANIZER;CN="Drake Ficara":MAILTO:apothecary.events@gmail.com
END:VEVENT
BEGIN:VEVENT
DTSTART;TZID=UTC:20270312T183000
DTEND;TZID=UTC:20270312T193000
DTSTAMP:20260421T185044
CREATED:20260409T104916Z
LAST-MODIFIED:20260409T104916Z
UID:10020370-1804876200-1804879800@funinfarmington.com
SUMMARY:Open Mic Comedy at Apothecary
DESCRIPTION:Every second Friday of the month from 6:30-7:30pm\, join us for open mic comedy hosted by Drake! This event is free for local jokesters to showcase their material\, and it’s also free for audience members! So join us for great coffee and great laughs from ten comics! To sign up or for more information please email apothecary.events@gmail.com
URL:https://funinfarmington.com/event/open-mic-comedy-at-apothecary-4/2027-03-12/
LOCATION:Apothecary Espresso and Coffee\, 23366 Farmington Rd\, Farmington\, 48336
CATEGORIES:Comedy
END:VEVENT
BEGIN:VEVENT
DTSTART;TZID=UTC:20270314T160000
DTEND;TZID=UTC:20270314T190000
DTSTAMP:20260421T185044
CREATED:20260118T211016Z
LAST-MODIFIED:20260118T211016Z
UID:10019259-1805040000-1805050800@funinfarmington.com
SUMMARY:Craft Night at Apothecary
DESCRIPTION:Join fellow crafters for crafts\, coffee\, and conversation every second Sunday and last Wednesday of the month!
URL:https://funinfarmington.com/event/craft-night-at-apothecary-2/2027-03-14/
LOCATION:Apothecary Espresso and Coffee\, 23366 Farmington Rd\, Farmington\, 48336
CATEGORIES:Crafting
END:VEVENT
BEGIN:VEVENT
DTSTART;TZID=UTC:20270406T170000
DTEND;TZID=UTC:20270406T190000
DTSTAMP:20260421T185044
CREATED:20260406T142554Z
LAST-MODIFIED:20260406T142554Z
UID:10020348-1807030800-1807038000@funinfarmington.com
SUMMARY:Open Mic Poetry & Prose
DESCRIPTION:Join us every first Tuesday of the month for Open Mic Poetry & Prose! Share pieces you enjoy or your own works! Short stories\, spoken-word\, and excerpts are welcome too. Writers\, come share with a captive audience and enjoy some coffee while you’re at it!
URL:https://funinfarmington.com/event/open-mic-poetry-prose/2027-04-06/
LOCATION:Apothecary Espresso and Coffee\, 23366 Farmington Rd\, Farmington\, 48336
ORGANIZER;CN="Drake Ficara":MAILTO:apothecary.events@gmail.com
END:VEVENT
BEGIN:VEVENT
DTSTART;TZID=UTC:20270409T183000
DTEND;TZID=UTC:20270409T193000
DTSTAMP:20260421T185044
CREATED:20260409T104916Z
LAST-MODIFIED:20260409T104916Z
UID:10020371-1807295400-1807299000@funinfarmington.com
SUMMARY:Open Mic Comedy at Apothecary
DESCRIPTION:Every second Friday of the month from 6:30-7:30pm\, join us for open mic comedy hosted by Drake! This event is free for local jokesters to showcase their material\, and it’s also free for audience members! So join us for great coffee and great laughs from ten comics! To sign up or for more information please email apothecary.events@gmail.com
URL:https://funinfarmington.com/event/open-mic-comedy-at-apothecary-4/2027-04-09/
LOCATION:Apothecary Espresso and Coffee\, 23366 Farmington Rd\, Farmington\, 48336
CATEGORIES:Comedy
END:VEVENT
BEGIN:VEVENT
DTSTART;TZID=UTC:20270411T160000
DTEND;TZID=UTC:20270411T190000
DTSTAMP:20260421T185044
CREATED:20260118T211016Z
LAST-MODIFIED:20260118T211016Z
UID:10019260-1807459200-1807470000@funinfarmington.com
SUMMARY:Craft Night at Apothecary
DESCRIPTION:Join fellow crafters for crafts\, coffee\, and conversation every second Sunday and last Wednesday of the month!
URL:https://funinfarmington.com/event/craft-night-at-apothecary-2/2027-04-11/
LOCATION:Apothecary Espresso and Coffee\, 23366 Farmington Rd\, Farmington\, 48336
CATEGORIES:Crafting
END:VEVENT
BEGIN:VEVENT
DTSTART;TZID=UTC:20270504T170000
DTEND;TZID=UTC:20270504T190000
DTSTAMP:20260421T185044
CREATED:20260406T142554Z
LAST-MODIFIED:20260406T142554Z
UID:10020349-1809450000-1809457200@funinfarmington.com
SUMMARY:Open Mic Poetry & Prose
DESCRIPTION:Join us every first Tuesday of the month for Open Mic Poetry & Prose! Share pieces you enjoy or your own works! Short stories\, spoken-word\, and excerpts are welcome too. Writers\, come share with a captive audience and enjoy some coffee while you’re at it!
URL:https://funinfarmington.com/event/open-mic-poetry-prose/2027-05-04/
LOCATION:Apothecary Espresso and Coffee\, 23366 Farmington Rd\, Farmington\, 48336
ORGANIZER;CN="Drake Ficara":MAILTO:apothecary.events@gmail.com
END:VEVENT
END:VCALENDAR