BEGIN:VCALENDAR
VERSION:2.0
PRODID:-//Fun in Farmington - ECPv6.15.20//NONSGML v1.0//EN
CALSCALE:GREGORIAN
METHOD:PUBLISH
X-WR-CALNAME:Fun in Farmington
X-ORIGINAL-URL:https://funinfarmington.com
X-WR-CALDESC:Events for Fun in Farmington
REFRESH-INTERVAL;VALUE=DURATION:PT1H
X-Robots-Tag:noindex
X-PUBLISHED-TTL:PT1H
BEGIN:VTIMEZONE
TZID:UTC
BEGIN:STANDARD
TZOFFSETFROM:+0000
TZOFFSETTO:+0000
TZNAME:UTC
DTSTART:20240101T000000
END:STANDARD
END:VTIMEZONE
BEGIN:VEVENT
DTSTART;TZID=UTC:20260220T180000
DTEND;TZID=UTC:20260220T200000
DTSTAMP:20260420T005651
CREATED:20260215T192737Z
LAST-MODIFIED:20260215T192737Z
UID:10019543-1771610400-1771617600@funinfarmington.com
SUMMARY:Artist Talk with Alessandra Lipman at FH City Hall
DESCRIPTION:Artist Alessandra Lipman wins the People’s Choice Awards at the 2026-2027 Public Art Program Opening Reception at the Farmington Hills City Hall. \nThe public is invited to meet Lipman during an Artist Talk and Opening Reception on Friday\, February 20 at City Hall\, 6-8pm. \nAlessandra Lipman was awarded a solo show by winning the People’s Choice Award at the opening reception for the 2026-2027 Public Art Program. In the newest exhibit of the year\, Lipman will display a collection of 34 mixed media artworks through March 20 at the Rotating Exhibits Gallery in Farmington Hills City Hall at 31555 W Eleven Mile.
URL:https://funinfarmington.com/event/artist-talk-with-alessandra-lipman-at-fh-city-hall/
LOCATION:Farmington Hills City Hall\, 31555 W 11 Mile Rd\, Farmington Hills\, Michigan\, 48336
CATEGORIES:Art,Community
END:VEVENT
BEGIN:VEVENT
DTSTART;TZID=UTC:20260116T190000
DTEND;TZID=UTC:20260116T210000
DTSTAMP:20260420T005651
CREATED:20260112T000347Z
LAST-MODIFIED:20260112T000347Z
UID:10019162-1768590000-1768597200@funinfarmington.com
SUMMARY:Public Art Program Opening Reception at FH City Hall
DESCRIPTION:2026-2027 PUBLIC ART PROGRAM EXHIBIT\nOpening Reception for the New Cycle of Artworkat City Hall\nFriday\, January 16\, 7-9 p.m.31555 W 11 Mile RoadFarmington Hills City Hall\nFree and Open to the PublicLight Refreshments\nOne of Farmington Hills’ most beloved cultural arts programs is back for another two-year stay at City Hall. The Public Art Program’s ninth installment officially kicks off with this free event that celebrates a thorough change of art! This opening reception is an opportunity to celebrate the new artwork\, enjoy light refreshments and meet the artists. The event is open to all residents\, artists\, art enthusiast\, families and friends.\nThank you to the 68 talented artists who generously loan their artwork to this exhibit. Juried by the Cultural Arts Division\, the 80-piece collection includes a variety of art forms and styles for the enjoyment of the thousands of visitors who come to City Hall throughout the year. Landscapes\, portraits\, animals and nature are main themes you will find in the Public Art Program. A variety of media is displayed including colored pencil\, sculpture\, photography\, ceramic\, collage\, drawing\, acrylic\, oil\, watercolor\, glass and digital drawing.\nComing up\, solo and group shows will be in the Rotating Exhibits Gallery in the wing closest to Council Chambers at City Hall. This opportunity is available to artists who participate in the Public Art Program at City Hall and The Hawk. The program brings art into our daily lives\, generates conversation and inspires guests to be creative and enroll in the many art classes and Makerspace workshops offered at The Hawk. If you’ve enjoyed a piece from this exhibit and would like to own the artwork\, most of the artwork on display is for sale and the money goes directly to individual artists.\nAn artist guide with all of the artists\, titles and prices is posted throughout the building. The Public Art Program is open to viewing any time City Hall is open\, typically Monday through Friday\, 8:30 am- 4:30 pm. For more information on exhibits\, visit www.fhgov.com or call 248-699-6709.
URL:https://funinfarmington.com/event/public-art-program-opening-reception-at-fh-city-hall/
LOCATION:Farmington Hills City Hall\, 31555 W 11 Mile Rd\, Farmington Hills\, Michigan\, 48336
CATEGORIES:Art
END:VEVENT
BEGIN:VEVENT
DTSTART;TZID=UTC:20251202T183000
DTEND;TZID=UTC:20251202T200000
DTSTAMP:20260420T005651
CREATED:20251120T163026Z
LAST-MODIFIED:20251120T163026Z
UID:10018348-1764700200-1764705600@funinfarmington.com
SUMMARY:33rd Annual Holiday Lights Ceremony at FH City Hall
DESCRIPTION:The City of Farmington Hills is ready to welcome the holiday season with the community at the 33rd Annual Holiday Lights Ceremony on Tuesday\, Dec. 2. During the event\, the City will light the trees at City Hall\, as well as a 20-foot candle at the corner of Eleven Mile and Orchard Lake Roads to symbolize the City’s commitment to peace and unity. \nThe Farmington High School Vocal Harmonics will perform seasonal songs\, and Santa will arrive with the help of the Farmington Hills Fire Department. Following the ceremony\, community members can enjoy free cookies and hot cocoa\, while visiting with Santa inside Fire Station #5 on the campus of City Hall.
URL:https://funinfarmington.com/event/33rd-annual-holiday-lights-ceremony-at-fh-city-hall/
LOCATION:Farmington Hills City Hall\, 31555 W 11 Mile Rd\, Farmington Hills\, Michigan\, 48336
CATEGORIES:Holiday,Special Event
END:VEVENT
BEGIN:VEVENT
DTSTART;TZID=UTC:20251010T180000
DTEND;TZID=UTC:20251010T200000
DTSTAMP:20260420T005651
CREATED:20251012T171838Z
LAST-MODIFIED:20251012T171838Z
UID:10017835-1760119200-1760126400@funinfarmington.com
SUMMARY:Michael Ross Artist Talk & Opening Reception
DESCRIPTION:Artist Michael Ross will display a collection of oil paintings on untraditional shapes from October 6 through December 5 at the Rotating Exhibits Gallery in Farmington Hills City Hall. The public is invited to meet Ross during an Artist Talk and Opening Reception from 6 to 8 p.m. on Friday\, October 10 at City Hall\, located at 31555 W. Eleven Mile Road. The public can also visit the art exhibit any time City Hall is open Monday through Friday from 8:30 a.m.-4:30 p.m. \n“My work has everything to do with perception and the way we understand and recognize the world and ourselves within it. The ways in which we understand the world affect the way we see it and the way we see ourselves\,” said painter Michael Ross. This collection of Ross’ recent works with repeating series of lines and dots brings thought around the theme: We Speak the Same Language. “Ideas bounce back and forth a lot. The patterns they make can become confusing. Part of my work lies in organizing this confusion and sometimes adding to it as well.” \nMichael Ross studied art and anthropology at Oakland University graduating in 2003. He currently lives and works in the Detroit area. Since 2014 he has been painting out of 333 Midland Studios in Highland Park\, Michigan. His murals can be seen all over the Detroit metropolitan area\, with significant commissions at ALEchemy Bar at Woodward Avenue Brewers\, The Dot parking structure\, Recycle Here!\, Port Bar\, Supergeil and Manistique Alley. He also paints private interiors\, portraits and guitars. \nAs part of the Public Art Program\, Ross displayed four paintings in the last cycle at The Hawk; these include “Howling for Blood\,” “Under the Shadow of the Proscenium of the George Washington Bridge\,” “Black Moon Over California” and “Margaret Mead & Jane Goodall.” The City of Farmington Hills’ Public Art Program was initiated in 2010 to enhance the renovated Farmington Hills City Hall; it offers employees\, residents\, and visitors a chance to experience and enjoy a wide range of art. Most of the artwork is available for sale and allows local artists to have exposure to a bigger client base. If you are interested in purchasing artwork\, please contact the Cultural Arts Division at 248-699-6709.
URL:https://funinfarmington.com/event/michael-ross-artist-talk-opening-reception/
LOCATION:Farmington Hills City Hall\, 31555 W 11 Mile Rd\, Farmington Hills\, Michigan\, 48336
CATEGORIES:Art,Educational
ATTACH;FMTTYPE=image/jpeg:https://funinfarmington.com/wp-content/uploads/2025/10/Mike-Ross-Fasterbeauty-white.jpg
END:VEVENT
BEGIN:VEVENT
DTSTART;TZID=UTC:20251004T120000
DTEND;TZID=UTC:20251004T150000
DTSTAMP:20260420T005651
CREATED:20250904T190007Z
LAST-MODIFIED:20250904T190007Z
UID:10017098-1759579200-1759590000@funinfarmington.com
SUMMARY:Citywide Open House at FH City Hall
DESCRIPTION:The City of Farmington Hills invites community members to experience Farmington Hills to the fullest at its Annual Citywide Open House\, showcasing City departments and a variety of community resources through family-friendly activities. \nThe Open House is FREE\, including parking and shuttle services\, activities for the whole family\, and hot dogs and Kona Ice (while supplies last). Parking is available in the east lot at Oakland Community College Orchard Ridge Campus\, located at 27055 Orchard Lake Rd. From there\, attendees can take the shuttle bus to City Hall. \nActivities and resources include: K9 Officer Demo Fire Department Mobile Classroom\, Obstacle Course\, Bounce House\, Arts & Crafts\, Explore a DPW Vehicle and more!
URL:https://funinfarmington.com/event/citywide-open-house-at-fh-city-hall/
LOCATION:Farmington Hills City Hall\, 31555 W 11 Mile Rd\, Farmington Hills\, Michigan\, 48336
CATEGORIES:Special Event
END:VEVENT
END:VCALENDAR