BEGIN:VCALENDAR
VERSION:2.0
PRODID:-//Fun in Farmington - ECPv6.15.20//NONSGML v1.0//EN
CALSCALE:GREGORIAN
METHOD:PUBLISH
X-ORIGINAL-URL:https://funinfarmington.com
X-WR-CALDESC:Events for Fun in Farmington
REFRESH-INTERVAL;VALUE=DURATION:PT1H
X-Robots-Tag:noindex
X-PUBLISHED-TTL:PT1H
BEGIN:VTIMEZONE
TZID:UTC
BEGIN:STANDARD
TZOFFSETFROM:+0000
TZOFFSETTO:+0000
TZNAME:UTC
DTSTART:20240101T000000
END:STANDARD
END:VTIMEZONE
BEGIN:VEVENT
DTSTART;TZID=UTC:20251110T183000
DTEND;TZID=UTC:20251110T203000
DTSTAMP:20260420T200233
CREATED:20250908T125825Z
LAST-MODIFIED:20250908T125825Z
UID:10017131-1762799400-1762806600@funinfarmington.com
SUMMARY:Trivia Night at Shots Bar and Grill
DESCRIPTION:𝑻𝑹𝑰𝑽𝑰𝑨 𝑵𝑰𝑮𝑯𝑻 tonight at Shots Bar & Grille in Farmington Hills!Game starts at 6:30pm!
URL:https://funinfarmington.com/event/trivia-night-at-shots-bar-and-grill/2025-11-10/
LOCATION:Shots Bar and Grille\, 30859 W 10 Mile Rd\, Farmington Hills\, Michigan\, 48336
CATEGORIES:Trivia
END:VEVENT
BEGIN:VEVENT
DTSTART;TZID=UTC:20251103T183000
DTEND;TZID=UTC:20251103T203000
DTSTAMP:20260420T200233
CREATED:20250908T125825Z
LAST-MODIFIED:20250908T125825Z
UID:10017130-1762194600-1762201800@funinfarmington.com
SUMMARY:Trivia Night at Shots Bar and Grill
DESCRIPTION:𝑻𝑹𝑰𝑽𝑰𝑨 𝑵𝑰𝑮𝑯𝑻 tonight at Shots Bar & Grille in Farmington Hills!Game starts at 6:30pm!
URL:https://funinfarmington.com/event/trivia-night-at-shots-bar-and-grill/2025-11-03/
LOCATION:Shots Bar and Grille\, 30859 W 10 Mile Rd\, Farmington Hills\, Michigan\, 48336
CATEGORIES:Trivia
END:VEVENT
BEGIN:VEVENT
DTSTART;TZID=UTC:20251027T183000
DTEND;TZID=UTC:20251027T203000
DTSTAMP:20260420T200233
CREATED:20250908T125825Z
LAST-MODIFIED:20250908T125825Z
UID:10017129-1761589800-1761597000@funinfarmington.com
SUMMARY:Trivia Night at Shots Bar and Grill
DESCRIPTION:𝑻𝑹𝑰𝑽𝑰𝑨 𝑵𝑰𝑮𝑯𝑻 tonight at Shots Bar & Grille in Farmington Hills!Game starts at 6:30pm!
URL:https://funinfarmington.com/event/trivia-night-at-shots-bar-and-grill/2025-10-27/
LOCATION:Shots Bar and Grille\, 30859 W 10 Mile Rd\, Farmington Hills\, Michigan\, 48336
CATEGORIES:Trivia
END:VEVENT
BEGIN:VEVENT
DTSTART;TZID=UTC:20251020T183000
DTEND;TZID=UTC:20251020T203000
DTSTAMP:20260420T200233
CREATED:20250908T125825Z
LAST-MODIFIED:20250908T125825Z
UID:10017128-1760985000-1760992200@funinfarmington.com
SUMMARY:Trivia Night at Shots Bar and Grill
DESCRIPTION:𝑻𝑹𝑰𝑽𝑰𝑨 𝑵𝑰𝑮𝑯𝑻 tonight at Shots Bar & Grille in Farmington Hills!Game starts at 6:30pm!
URL:https://funinfarmington.com/event/trivia-night-at-shots-bar-and-grill/2025-10-20/
LOCATION:Shots Bar and Grille\, 30859 W 10 Mile Rd\, Farmington Hills\, Michigan\, 48336
CATEGORIES:Trivia
END:VEVENT
BEGIN:VEVENT
DTSTART;TZID=UTC:20251013T183000
DTEND;TZID=UTC:20251013T203000
DTSTAMP:20260420T200233
CREATED:20250908T125825Z
LAST-MODIFIED:20250908T125825Z
UID:10017127-1760380200-1760387400@funinfarmington.com
SUMMARY:Trivia Night at Shots Bar and Grill
DESCRIPTION:𝑻𝑹𝑰𝑽𝑰𝑨 𝑵𝑰𝑮𝑯𝑻 tonight at Shots Bar & Grille in Farmington Hills!Game starts at 6:30pm!
URL:https://funinfarmington.com/event/trivia-night-at-shots-bar-and-grill/2025-10-13/
LOCATION:Shots Bar and Grille\, 30859 W 10 Mile Rd\, Farmington Hills\, Michigan\, 48336
CATEGORIES:Trivia
END:VEVENT
BEGIN:VEVENT
DTSTART;TZID=UTC:20251006T183000
DTEND;TZID=UTC:20251006T203000
DTSTAMP:20260420T200233
CREATED:20250908T125825Z
LAST-MODIFIED:20250908T125825Z
UID:10017126-1759775400-1759782600@funinfarmington.com
SUMMARY:Trivia Night at Shots Bar and Grill
DESCRIPTION:𝑻𝑹𝑰𝑽𝑰𝑨 𝑵𝑰𝑮𝑯𝑻 tonight at Shots Bar & Grille in Farmington Hills!Game starts at 6:30pm!
URL:https://funinfarmington.com/event/trivia-night-at-shots-bar-and-grill/2025-10-06/
LOCATION:Shots Bar and Grille\, 30859 W 10 Mile Rd\, Farmington Hills\, Michigan\, 48336
CATEGORIES:Trivia
END:VEVENT
BEGIN:VEVENT
DTSTART;TZID=UTC:20250929T183000
DTEND;TZID=UTC:20250929T203000
DTSTAMP:20260420T200233
CREATED:20250908T125825Z
LAST-MODIFIED:20250908T125825Z
UID:10017125-1759170600-1759177800@funinfarmington.com
SUMMARY:Trivia Night at Shots Bar and Grill
DESCRIPTION:𝑻𝑹𝑰𝑽𝑰𝑨 𝑵𝑰𝑮𝑯𝑻 tonight at Shots Bar & Grille in Farmington Hills!Game starts at 6:30pm!
URL:https://funinfarmington.com/event/trivia-night-at-shots-bar-and-grill/2025-09-29/
LOCATION:Shots Bar and Grille\, 30859 W 10 Mile Rd\, Farmington Hills\, Michigan\, 48336
CATEGORIES:Trivia
END:VEVENT
BEGIN:VEVENT
DTSTART;TZID=UTC:20250922T183000
DTEND;TZID=UTC:20250922T203000
DTSTAMP:20260420T200233
CREATED:20250908T125825Z
LAST-MODIFIED:20250908T125825Z
UID:10017124-1758565800-1758573000@funinfarmington.com
SUMMARY:Trivia Night at Shots Bar and Grill
DESCRIPTION:𝑻𝑹𝑰𝑽𝑰𝑨 𝑵𝑰𝑮𝑯𝑻 tonight at Shots Bar & Grille in Farmington Hills!Game starts at 6:30pm!
URL:https://funinfarmington.com/event/trivia-night-at-shots-bar-and-grill/2025-09-22/
LOCATION:Shots Bar and Grille\, 30859 W 10 Mile Rd\, Farmington Hills\, Michigan\, 48336
CATEGORIES:Trivia
END:VEVENT
BEGIN:VEVENT
DTSTART;TZID=UTC:20250915T183000
DTEND;TZID=UTC:20250915T203000
DTSTAMP:20260420T200233
CREATED:20250908T125825Z
LAST-MODIFIED:20250908T125825Z
UID:10017123-1757961000-1757968200@funinfarmington.com
SUMMARY:Trivia Night at Shots Bar and Grill
DESCRIPTION:𝑻𝑹𝑰𝑽𝑰𝑨 𝑵𝑰𝑮𝑯𝑻 tonight at Shots Bar & Grille in Farmington Hills!Game starts at 6:30pm!
URL:https://funinfarmington.com/event/trivia-night-at-shots-bar-and-grill/2025-09-15/
LOCATION:Shots Bar and Grille\, 30859 W 10 Mile Rd\, Farmington Hills\, Michigan\, 48336
CATEGORIES:Trivia
END:VEVENT
BEGIN:VEVENT
DTSTART;TZID=UTC:20250908T183000
DTEND;TZID=UTC:20250908T203000
DTSTAMP:20260420T200233
CREATED:20250908T125825Z
LAST-MODIFIED:20250908T125825Z
UID:10017122-1757356200-1757363400@funinfarmington.com
SUMMARY:Trivia Night at Shots Bar and Grill
DESCRIPTION:𝑻𝑹𝑰𝑽𝑰𝑨 𝑵𝑰𝑮𝑯𝑻 tonight at Shots Bar & Grille in Farmington Hills!Game starts at 6:30pm!
URL:https://funinfarmington.com/event/trivia-night-at-shots-bar-and-grill/2025-09-08/
LOCATION:Shots Bar and Grille\, 30859 W 10 Mile Rd\, Farmington Hills\, Michigan\, 48336
CATEGORIES:Trivia
END:VEVENT
END:VCALENDAR