BEGIN:VCALENDAR
VERSION:2.0
PRODID:-//Fun in Farmington - ECPv6.15.20//NONSGML v1.0//EN
CALSCALE:GREGORIAN
METHOD:PUBLISH
X-ORIGINAL-URL:https://funinfarmington.com
X-WR-CALDESC:Events for Fun in Farmington
REFRESH-INTERVAL;VALUE=DURATION:PT1H
X-Robots-Tag:noindex
X-PUBLISHED-TTL:PT1H
BEGIN:VTIMEZONE
TZID:UTC
BEGIN:STANDARD
TZOFFSETFROM:+0000
TZOFFSETTO:+0000
TZNAME:UTC
DTSTART:20240101T000000
END:STANDARD
END:VTIMEZONE
BEGIN:VEVENT
DTSTART;TZID=UTC:20260416T190000
DTEND;TZID=UTC:20260416T190000
DTSTAMP:20260419T175807
CREATED:20260305T165535Z
LAST-MODIFIED:20260322T224735Z
UID:10020047-1776366000-1776366000@funinfarmington.com
SUMMARY:Ladies and 80's at Sidecar Slider Bar
DESCRIPTION:
URL:https://funinfarmington.com/event/ladies-and-80s-at-sidecar-slider-bar-3/2026-04-16/
LOCATION:Sidecar Slider Bar\, 32720 Grand River Ave\, Farmington\, Michigan\, 48336
CATEGORIES:Music,Women
ATTACH;FMTTYPE=image/png:https://funinfarmington.com/wp-content/uploads/2026/03/ladies-80s.png
END:VEVENT
BEGIN:VEVENT
DTSTART;TZID=UTC:20260409T190000
DTEND;TZID=UTC:20260409T190000
DTSTAMP:20260419T175807
CREATED:20260305T165535Z
LAST-MODIFIED:20260322T224735Z
UID:10020046-1775761200-1775761200@funinfarmington.com
SUMMARY:Ladies and 80's at Sidecar Slider Bar
DESCRIPTION:
URL:https://funinfarmington.com/event/ladies-and-80s-at-sidecar-slider-bar-3/2026-04-09/
LOCATION:Sidecar Slider Bar\, 32720 Grand River Ave\, Farmington\, Michigan\, 48336
CATEGORIES:Music,Women
ATTACH;FMTTYPE=image/png:https://funinfarmington.com/wp-content/uploads/2026/03/ladies-80s.png
END:VEVENT
BEGIN:VEVENT
DTSTART;TZID=UTC:20260402T190000
DTEND;TZID=UTC:20260402T190000
DTSTAMP:20260419T175807
CREATED:20260305T165535Z
LAST-MODIFIED:20260322T224735Z
UID:10020045-1775156400-1775156400@funinfarmington.com
SUMMARY:Ladies and 80's at Sidecar Slider Bar
DESCRIPTION:
URL:https://funinfarmington.com/event/ladies-and-80s-at-sidecar-slider-bar-3/2026-04-02/
LOCATION:Sidecar Slider Bar\, 32720 Grand River Ave\, Farmington\, Michigan\, 48336
CATEGORIES:Music,Women
ATTACH;FMTTYPE=image/png:https://funinfarmington.com/wp-content/uploads/2026/03/ladies-80s.png
END:VEVENT
BEGIN:VEVENT
DTSTART;TZID=UTC:20260326T190000
DTEND;TZID=UTC:20260326T190000
DTSTAMP:20260419T175807
CREATED:20260305T165535Z
LAST-MODIFIED:20260322T224735Z
UID:10020044-1774551600-1774551600@funinfarmington.com
SUMMARY:Ladies and 80's at Sidecar Slider Bar
DESCRIPTION:
URL:https://funinfarmington.com/event/ladies-and-80s-at-sidecar-slider-bar-3/2026-03-26/
LOCATION:Sidecar Slider Bar\, 32720 Grand River Ave\, Farmington\, Michigan\, 48336
CATEGORIES:Music,Women
ATTACH;FMTTYPE=image/png:https://funinfarmington.com/wp-content/uploads/2026/03/ladies-80s.png
END:VEVENT
BEGIN:VEVENT
DTSTART;TZID=UTC:20260319T190000
DTEND;TZID=UTC:20260319T190000
DTSTAMP:20260419T175807
CREATED:20260305T165535Z
LAST-MODIFIED:20260322T224735Z
UID:10020043-1773946800-1773946800@funinfarmington.com
SUMMARY:Ladies and 80's at Sidecar Slider Bar
DESCRIPTION:
URL:https://funinfarmington.com/event/ladies-and-80s-at-sidecar-slider-bar-3/2026-03-19/
LOCATION:Sidecar Slider Bar\, 32720 Grand River Ave\, Farmington\, Michigan\, 48336
CATEGORIES:Music,Women
ATTACH;FMTTYPE=image/png:https://funinfarmington.com/wp-content/uploads/2026/03/ladies-80s.png
END:VEVENT
BEGIN:VEVENT
DTSTART;TZID=UTC:20260317T190000
DTEND;TZID=UTC:20260317T190000
DTSTAMP:20260419T175807
CREATED:20260312T133433Z
LAST-MODIFIED:20260312T133433Z
UID:10019991-1773774000-1773774000@funinfarmington.com
SUMMARY:St. Patrick's Day Trivia at Sidecar Slider Bar
DESCRIPTION:Come test your “Luck of the Irish” at this years St Paddy’s TRIVIA$4 Jameson shots$4 Guiness pintsTONS of prizes** book your team in advance for early registration goodies
URL:https://funinfarmington.com/event/st-patricks-day-trivia-at-sidecar-slider-bar/
LOCATION:Sidecar Slider Bar\, 32720 Grand River Ave\, Farmington\, Michigan\, 48336
CATEGORIES:Holiday,Trivia
END:VEVENT
BEGIN:VEVENT
DTSTART;TZID=UTC:20260312T190000
DTEND;TZID=UTC:20260312T190000
DTSTAMP:20260419T175807
CREATED:20260305T165535Z
LAST-MODIFIED:20260322T224735Z
UID:10019972-1773342000-1773342000@funinfarmington.com
SUMMARY:Ladies and 80's at Sidecar Slider Bar
DESCRIPTION:
URL:https://funinfarmington.com/event/ladies-and-80s-at-sidecar-slider-bar-3/2026-03-12/
LOCATION:Sidecar Slider Bar\, 32720 Grand River Ave\, Farmington\, Michigan\, 48336
CATEGORIES:Music,Women
ATTACH;FMTTYPE=image/png:https://funinfarmington.com/wp-content/uploads/2026/03/ladies-80s.png
END:VEVENT
BEGIN:VEVENT
DTSTART;TZID=UTC:20260218T190000
DTEND;TZID=UTC:20260218T210000
DTSTAMP:20260419T175807
CREATED:20260215T193014Z
LAST-MODIFIED:20260215T193014Z
UID:10019544-1771441200-1771448400@funinfarmington.com
SUMMARY:Jeopardy! Bar League at Sidecar Slider Bar
DESCRIPTION:
URL:https://funinfarmington.com/event/jeopardy-bar-league-at-sidecar-slider-bar/
LOCATION:Sidecar Slider Bar\, 32720 Grand River Ave\, Farmington\, Michigan\, 48336
CATEGORIES:Community,Contest,Games
END:VEVENT
BEGIN:VEVENT
DTSTART;TZID=UTC:20260207T130000
DTEND;TZID=UTC:20260207T150000
DTSTAMP:20260419T175807
CREATED:20260201T163801Z
LAST-MODIFIED:20260201T163801Z
UID:10019495-1770469200-1770476400@funinfarmington.com
SUMMARY:"You & Me" Paint Party at Sidecar Slider Bar (Reg. Required)
DESCRIPTION:*LIMITED SEATING EVENT!*February is Heart Month. Bring your special someone – spouse\, boyfriend\, girlfriend\, bestie\, Mom or Dad – and join us for a “You & Me” paint party! No experience required! We will lead you step-by-step to paint this beautiful 2-part painting. All supplies are included\, and you get to take a painting home! Seats are limited and advance registration is required. Sign up today! Part of the ticket sales will benefit the American Heart Association.
URL:https://funinfarmington.com/event/you-me-paint-party-at-sidecar-slider-bar-reg-required/
LOCATION:Sidecar Slider Bar\, 32720 Grand River Ave\, Farmington\, Michigan\, 48336
CATEGORIES:Art,Crafting,Holiday,Special Event
ATTACH;FMTTYPE=image/png:https://funinfarmington.com/wp-content/uploads/2026/02/mvp-paint.png
END:VEVENT
BEGIN:VEVENT
DTSTART;TZID=UTC:20260122T190000
DTEND;TZID=UTC:20260122T230000
DTSTAMP:20260419T175807
CREATED:20260121T195428Z
LAST-MODIFIED:20260121T195428Z
UID:10019383-1769108400-1769122800@funinfarmington.com
SUMMARY:Ladies and 80s at Sidecar Slider Bar
DESCRIPTION:Girls’ night\, but make it the 1980s!
URL:https://funinfarmington.com/event/ladies-and-80s-at-sidecar-slider-bar-2/
LOCATION:Sidecar Slider Bar\, 32720 Grand River Ave\, Farmington\, Michigan\, 48336
CATEGORIES:Food
END:VEVENT
BEGIN:VEVENT
DTSTART;TZID=UTC:20260107T190000
DTEND;TZID=UTC:20260107T190000
DTSTAMP:20260419T175807
CREATED:20260105T035111Z
LAST-MODIFIED:20260105T035111Z
UID:10018458-1767812400-1767812400@funinfarmington.com
SUMMARY:Mothers' Club Trivia Meet & Greet  at Sidecar
DESCRIPTION:Come join the members of FAMC for a post – holiday trivia night!
URL:https://funinfarmington.com/event/mothers-club-trivia-meet-greet-at-sidecar/
LOCATION:Sidecar Slider Bar\, 32720 Grand River Ave\, Farmington\, Michigan\, 48336
CATEGORIES:Moms
END:VEVENT
BEGIN:VEVENT
DTSTART;TZID=UTC:20251220T124500
DTEND;TZID=UTC:20251220T150000
DTSTAMP:20260419T175807
CREATED:20251218T153531Z
LAST-MODIFIED:20251218T153531Z
UID:10018434-1766234700-1766242800@funinfarmington.com
SUMMARY:Sleds and Doorhangers Paint Party at Sidecar
DESCRIPTION: Holiday Sled  Paint Party! Get ready for a super fun\, creative\, and cozy paint night! Join us for a Paint Party on Sleds\, where you’ll turn a wooden sled into your very own winter masterpiece. Multiple designs will be available\, and our instructor will guide you step-by-step the whole way!No experience? No problem! Just bring your imagination and we’ll supply everything else — paint\, brushes\, sleds\, and good vibes. Grab a friend\, sip some brew\, and spend the evening making something you’ll love to display all winter long.It’s creative\, it’s festive\, and it’s way more fun than your average paint night.Let’s sled into the season with style! LIMITED # of 18in sleds available- we also have 14in doorhangers available should the sleds sell out. Please not these are SOLID sleds not the slotted ones.\nPlease arrive 15 minutes early.
URL:https://funinfarmington.com/event/sleds-and-doorhangers-paint-party-at-sidecar/
LOCATION:Sidecar Slider Bar\, 32720 Grand River Ave\, Farmington\, Michigan\, 48336
CATEGORIES:Crafting,Holiday
END:VEVENT
BEGIN:VEVENT
DTSTART;TZID=UTC:20251003T173000
DTEND;TZID=UTC:20251003T200000
DTSTAMP:20260419T175807
CREATED:20251002T150916Z
LAST-MODIFIED:20251002T150916Z
UID:10017824-1759512600-1759521600@funinfarmington.com
SUMMARY:Paint Party at Sidecar
DESCRIPTION:Just in time to celebrate Farmington’s Grand Raven 🐦‍⬛ Festival – join us at Sidecar for some painting 🖼️ fun. We’ll be painting a raven. Arrive between 5-6 to take advantage of the Happy Hour specials- your paid ticket to this painting event includes 1 appetizer and 1 drink. 🍷\nPerfect if you’re looking for a fun outing with friends or a Date Night idea!\n*PAINT PARTY STARTS AT 6pm\nPRE-REGISTRATION IS REQUIRED\n**EARLY BIRD 😁DISCOUNT – REGISTER BY WEDS. 9/24 AND PAY $45 ($5 OFF)\n$50 includes painting supplies\, 1 appetizer and 1 drink 🍷 (arrive between 5-6 for the Happy Hour specials)\nSIGN UP AND PAY TODAY:
URL:https://funinfarmington.com/event/paint-party-at-sidecar/
LOCATION:Sidecar Slider Bar\, 32720 Grand River Ave\, Farmington\, Michigan\, 48336
CATEGORIES:Art,Food
END:VEVENT
END:VCALENDAR