BEGIN:VCALENDAR
VERSION:2.0
PRODID:-//Fun in Farmington - ECPv6.15.20//NONSGML v1.0//EN
CALSCALE:GREGORIAN
METHOD:PUBLISH
X-WR-CALNAME:Fun in Farmington
X-ORIGINAL-URL:https://funinfarmington.com
X-WR-CALDESC:Events for Fun in Farmington
REFRESH-INTERVAL;VALUE=DURATION:PT1H
X-Robots-Tag:noindex
X-PUBLISHED-TTL:PT1H
BEGIN:VTIMEZONE
TZID:UTC
BEGIN:STANDARD
TZOFFSETFROM:+0000
TZOFFSETTO:+0000
TZNAME:UTC
DTSTART:20250101T000000
END:STANDARD
END:VTIMEZONE
BEGIN:VEVENT
DTSTART;TZID=UTC:20260423T190000
DTEND;TZID=UTC:20260423T190000
DTSTAMP:20260420T020505
CREATED:20260305T165535Z
LAST-MODIFIED:20260322T224735Z
UID:10020048-1776970800-1776970800@funinfarmington.com
SUMMARY:Ladies and 80's at Sidecar Slider Bar
DESCRIPTION:
URL:https://funinfarmington.com/event/ladies-and-80s-at-sidecar-slider-bar-3/2026-04-23/
LOCATION:Sidecar Slider Bar\, 32720 Grand River Ave\, Farmington\, Michigan\, 48336
CATEGORIES:Music,Women
ATTACH;FMTTYPE=image/png:https://funinfarmington.com/wp-content/uploads/2026/03/ladies-80s.png
END:VEVENT
BEGIN:VEVENT
DTSTART;TZID=UTC:20260430T190000
DTEND;TZID=UTC:20260430T190000
DTSTAMP:20260420T020505
CREATED:20260305T165535Z
LAST-MODIFIED:20260322T224735Z
UID:10020049-1777575600-1777575600@funinfarmington.com
SUMMARY:Ladies and 80's at Sidecar Slider Bar
DESCRIPTION:
URL:https://funinfarmington.com/event/ladies-and-80s-at-sidecar-slider-bar-3/2026-04-30/
LOCATION:Sidecar Slider Bar\, 32720 Grand River Ave\, Farmington\, Michigan\, 48336
CATEGORIES:Music,Women
ATTACH;FMTTYPE=image/png:https://funinfarmington.com/wp-content/uploads/2026/03/ladies-80s.png
END:VEVENT
BEGIN:VEVENT
DTSTART;TZID=UTC:20260507T190000
DTEND;TZID=UTC:20260507T190000
DTSTAMP:20260420T020505
CREATED:20260305T165535Z
LAST-MODIFIED:20260322T224735Z
UID:10020050-1778180400-1778180400@funinfarmington.com
SUMMARY:Ladies and 80's at Sidecar Slider Bar
DESCRIPTION:
URL:https://funinfarmington.com/event/ladies-and-80s-at-sidecar-slider-bar-3/2026-05-07/
LOCATION:Sidecar Slider Bar\, 32720 Grand River Ave\, Farmington\, Michigan\, 48336
CATEGORIES:Music,Women
ATTACH;FMTTYPE=image/png:https://funinfarmington.com/wp-content/uploads/2026/03/ladies-80s.png
END:VEVENT
BEGIN:VEVENT
DTSTART;TZID=UTC:20260514T190000
DTEND;TZID=UTC:20260514T190000
DTSTAMP:20260420T020505
CREATED:20260305T165535Z
LAST-MODIFIED:20260322T224735Z
UID:10020051-1778785200-1778785200@funinfarmington.com
SUMMARY:Ladies and 80's at Sidecar Slider Bar
DESCRIPTION:
URL:https://funinfarmington.com/event/ladies-and-80s-at-sidecar-slider-bar-3/2026-05-14/
LOCATION:Sidecar Slider Bar\, 32720 Grand River Ave\, Farmington\, Michigan\, 48336
CATEGORIES:Music,Women
ATTACH;FMTTYPE=image/png:https://funinfarmington.com/wp-content/uploads/2026/03/ladies-80s.png
END:VEVENT
BEGIN:VEVENT
DTSTART;TZID=UTC:20260521T190000
DTEND;TZID=UTC:20260521T190000
DTSTAMP:20260420T020505
CREATED:20260305T165535Z
LAST-MODIFIED:20260322T224735Z
UID:10020052-1779390000-1779390000@funinfarmington.com
SUMMARY:Ladies and 80's at Sidecar Slider Bar
DESCRIPTION:
URL:https://funinfarmington.com/event/ladies-and-80s-at-sidecar-slider-bar-3/2026-05-21/
LOCATION:Sidecar Slider Bar\, 32720 Grand River Ave\, Farmington\, Michigan\, 48336
CATEGORIES:Music,Women
ATTACH;FMTTYPE=image/png:https://funinfarmington.com/wp-content/uploads/2026/03/ladies-80s.png
END:VEVENT
BEGIN:VEVENT
DTSTART;TZID=UTC:20260528T190000
DTEND;TZID=UTC:20260528T190000
DTSTAMP:20260420T020505
CREATED:20260305T165535Z
LAST-MODIFIED:20260322T224735Z
UID:10020053-1779994800-1779994800@funinfarmington.com
SUMMARY:Ladies and 80's at Sidecar Slider Bar
DESCRIPTION:
URL:https://funinfarmington.com/event/ladies-and-80s-at-sidecar-slider-bar-3/2026-05-28/
LOCATION:Sidecar Slider Bar\, 32720 Grand River Ave\, Farmington\, Michigan\, 48336
CATEGORIES:Music,Women
ATTACH;FMTTYPE=image/png:https://funinfarmington.com/wp-content/uploads/2026/03/ladies-80s.png
END:VEVENT
BEGIN:VEVENT
DTSTART;TZID=UTC:20260604T190000
DTEND;TZID=UTC:20260604T190000
DTSTAMP:20260420T020505
CREATED:20260305T165535Z
LAST-MODIFIED:20260322T224735Z
UID:10020054-1780599600-1780599600@funinfarmington.com
SUMMARY:Ladies and 80's at Sidecar Slider Bar
DESCRIPTION:
URL:https://funinfarmington.com/event/ladies-and-80s-at-sidecar-slider-bar-3/2026-06-04/
LOCATION:Sidecar Slider Bar\, 32720 Grand River Ave\, Farmington\, Michigan\, 48336
CATEGORIES:Music,Women
ATTACH;FMTTYPE=image/png:https://funinfarmington.com/wp-content/uploads/2026/03/ladies-80s.png
END:VEVENT
BEGIN:VEVENT
DTSTART;TZID=UTC:20260611T190000
DTEND;TZID=UTC:20260611T190000
DTSTAMP:20260420T020505
CREATED:20260305T165535Z
LAST-MODIFIED:20260322T224735Z
UID:10020055-1781204400-1781204400@funinfarmington.com
SUMMARY:Ladies and 80's at Sidecar Slider Bar
DESCRIPTION:
URL:https://funinfarmington.com/event/ladies-and-80s-at-sidecar-slider-bar-3/2026-06-11/
LOCATION:Sidecar Slider Bar\, 32720 Grand River Ave\, Farmington\, Michigan\, 48336
CATEGORIES:Music,Women
ATTACH;FMTTYPE=image/png:https://funinfarmington.com/wp-content/uploads/2026/03/ladies-80s.png
END:VEVENT
BEGIN:VEVENT
DTSTART;TZID=UTC:20260618T190000
DTEND;TZID=UTC:20260618T190000
DTSTAMP:20260420T020505
CREATED:20260305T165535Z
LAST-MODIFIED:20260322T224735Z
UID:10020056-1781809200-1781809200@funinfarmington.com
SUMMARY:Ladies and 80's at Sidecar Slider Bar
DESCRIPTION:
URL:https://funinfarmington.com/event/ladies-and-80s-at-sidecar-slider-bar-3/2026-06-18/
LOCATION:Sidecar Slider Bar\, 32720 Grand River Ave\, Farmington\, Michigan\, 48336
CATEGORIES:Music,Women
ATTACH;FMTTYPE=image/png:https://funinfarmington.com/wp-content/uploads/2026/03/ladies-80s.png
END:VEVENT
BEGIN:VEVENT
DTSTART;TZID=UTC:20260625T190000
DTEND;TZID=UTC:20260625T190000
DTSTAMP:20260420T020505
CREATED:20260305T165535Z
LAST-MODIFIED:20260322T224735Z
UID:10020057-1782414000-1782414000@funinfarmington.com
SUMMARY:Ladies and 80's at Sidecar Slider Bar
DESCRIPTION:
URL:https://funinfarmington.com/event/ladies-and-80s-at-sidecar-slider-bar-3/2026-06-25/
LOCATION:Sidecar Slider Bar\, 32720 Grand River Ave\, Farmington\, Michigan\, 48336
CATEGORIES:Music,Women
ATTACH;FMTTYPE=image/png:https://funinfarmington.com/wp-content/uploads/2026/03/ladies-80s.png
END:VEVENT
BEGIN:VEVENT
DTSTART;TZID=UTC:20260702T190000
DTEND;TZID=UTC:20260702T190000
DTSTAMP:20260420T020505
CREATED:20260305T165535Z
LAST-MODIFIED:20260322T224735Z
UID:10020058-1783018800-1783018800@funinfarmington.com
SUMMARY:Ladies and 80's at Sidecar Slider Bar
DESCRIPTION:
URL:https://funinfarmington.com/event/ladies-and-80s-at-sidecar-slider-bar-3/2026-07-02/
LOCATION:Sidecar Slider Bar\, 32720 Grand River Ave\, Farmington\, Michigan\, 48336
CATEGORIES:Music,Women
ATTACH;FMTTYPE=image/png:https://funinfarmington.com/wp-content/uploads/2026/03/ladies-80s.png
END:VEVENT
BEGIN:VEVENT
DTSTART;TZID=UTC:20260709T190000
DTEND;TZID=UTC:20260709T190000
DTSTAMP:20260420T020505
CREATED:20260305T165535Z
LAST-MODIFIED:20260322T224735Z
UID:10020059-1783623600-1783623600@funinfarmington.com
SUMMARY:Ladies and 80's at Sidecar Slider Bar
DESCRIPTION:
URL:https://funinfarmington.com/event/ladies-and-80s-at-sidecar-slider-bar-3/2026-07-09/
LOCATION:Sidecar Slider Bar\, 32720 Grand River Ave\, Farmington\, Michigan\, 48336
CATEGORIES:Music,Women
ATTACH;FMTTYPE=image/png:https://funinfarmington.com/wp-content/uploads/2026/03/ladies-80s.png
END:VEVENT
BEGIN:VEVENT
DTSTART;TZID=UTC:20260716T190000
DTEND;TZID=UTC:20260716T190000
DTSTAMP:20260420T020505
CREATED:20260305T165535Z
LAST-MODIFIED:20260322T224735Z
UID:10020060-1784228400-1784228400@funinfarmington.com
SUMMARY:Ladies and 80's at Sidecar Slider Bar
DESCRIPTION:
URL:https://funinfarmington.com/event/ladies-and-80s-at-sidecar-slider-bar-3/2026-07-16/
LOCATION:Sidecar Slider Bar\, 32720 Grand River Ave\, Farmington\, Michigan\, 48336
CATEGORIES:Music,Women
ATTACH;FMTTYPE=image/png:https://funinfarmington.com/wp-content/uploads/2026/03/ladies-80s.png
END:VEVENT
BEGIN:VEVENT
DTSTART;TZID=UTC:20260723T190000
DTEND;TZID=UTC:20260723T190000
DTSTAMP:20260420T020505
CREATED:20260305T165535Z
LAST-MODIFIED:20260322T224735Z
UID:10020061-1784833200-1784833200@funinfarmington.com
SUMMARY:Ladies and 80's at Sidecar Slider Bar
DESCRIPTION:
URL:https://funinfarmington.com/event/ladies-and-80s-at-sidecar-slider-bar-3/2026-07-23/
LOCATION:Sidecar Slider Bar\, 32720 Grand River Ave\, Farmington\, Michigan\, 48336
CATEGORIES:Music,Women
ATTACH;FMTTYPE=image/png:https://funinfarmington.com/wp-content/uploads/2026/03/ladies-80s.png
END:VEVENT
BEGIN:VEVENT
DTSTART;TZID=UTC:20260730T190000
DTEND;TZID=UTC:20260730T190000
DTSTAMP:20260420T020505
CREATED:20260305T165535Z
LAST-MODIFIED:20260322T224735Z
UID:10020062-1785438000-1785438000@funinfarmington.com
SUMMARY:Ladies and 80's at Sidecar Slider Bar
DESCRIPTION:
URL:https://funinfarmington.com/event/ladies-and-80s-at-sidecar-slider-bar-3/2026-07-30/
LOCATION:Sidecar Slider Bar\, 32720 Grand River Ave\, Farmington\, Michigan\, 48336
CATEGORIES:Music,Women
ATTACH;FMTTYPE=image/png:https://funinfarmington.com/wp-content/uploads/2026/03/ladies-80s.png
END:VEVENT
BEGIN:VEVENT
DTSTART;TZID=UTC:20260806T190000
DTEND;TZID=UTC:20260806T190000
DTSTAMP:20260420T020505
CREATED:20260305T165535Z
LAST-MODIFIED:20260322T224735Z
UID:10020063-1786042800-1786042800@funinfarmington.com
SUMMARY:Ladies and 80's at Sidecar Slider Bar
DESCRIPTION:
URL:https://funinfarmington.com/event/ladies-and-80s-at-sidecar-slider-bar-3/2026-08-06/
LOCATION:Sidecar Slider Bar\, 32720 Grand River Ave\, Farmington\, Michigan\, 48336
CATEGORIES:Music,Women
ATTACH;FMTTYPE=image/png:https://funinfarmington.com/wp-content/uploads/2026/03/ladies-80s.png
END:VEVENT
BEGIN:VEVENT
DTSTART;TZID=UTC:20260813T190000
DTEND;TZID=UTC:20260813T190000
DTSTAMP:20260420T020505
CREATED:20260305T165535Z
LAST-MODIFIED:20260322T224735Z
UID:10020064-1786647600-1786647600@funinfarmington.com
SUMMARY:Ladies and 80's at Sidecar Slider Bar
DESCRIPTION:
URL:https://funinfarmington.com/event/ladies-and-80s-at-sidecar-slider-bar-3/2026-08-13/
LOCATION:Sidecar Slider Bar\, 32720 Grand River Ave\, Farmington\, Michigan\, 48336
CATEGORIES:Music,Women
ATTACH;FMTTYPE=image/png:https://funinfarmington.com/wp-content/uploads/2026/03/ladies-80s.png
END:VEVENT
BEGIN:VEVENT
DTSTART;TZID=UTC:20260820T190000
DTEND;TZID=UTC:20260820T190000
DTSTAMP:20260420T020505
CREATED:20260305T165535Z
LAST-MODIFIED:20260322T224735Z
UID:10020065-1787252400-1787252400@funinfarmington.com
SUMMARY:Ladies and 80's at Sidecar Slider Bar
DESCRIPTION:
URL:https://funinfarmington.com/event/ladies-and-80s-at-sidecar-slider-bar-3/2026-08-20/
LOCATION:Sidecar Slider Bar\, 32720 Grand River Ave\, Farmington\, Michigan\, 48336
CATEGORIES:Music,Women
ATTACH;FMTTYPE=image/png:https://funinfarmington.com/wp-content/uploads/2026/03/ladies-80s.png
END:VEVENT
BEGIN:VEVENT
DTSTART;TZID=UTC:20260827T190000
DTEND;TZID=UTC:20260827T190000
DTSTAMP:20260420T020505
CREATED:20260305T165535Z
LAST-MODIFIED:20260322T224735Z
UID:10020066-1787857200-1787857200@funinfarmington.com
SUMMARY:Ladies and 80's at Sidecar Slider Bar
DESCRIPTION:
URL:https://funinfarmington.com/event/ladies-and-80s-at-sidecar-slider-bar-3/2026-08-27/
LOCATION:Sidecar Slider Bar\, 32720 Grand River Ave\, Farmington\, Michigan\, 48336
CATEGORIES:Music,Women
ATTACH;FMTTYPE=image/png:https://funinfarmington.com/wp-content/uploads/2026/03/ladies-80s.png
END:VEVENT
BEGIN:VEVENT
DTSTART;TZID=UTC:20260903T190000
DTEND;TZID=UTC:20260903T190000
DTSTAMP:20260420T020505
CREATED:20260305T165535Z
LAST-MODIFIED:20260322T224735Z
UID:10020067-1788462000-1788462000@funinfarmington.com
SUMMARY:Ladies and 80's at Sidecar Slider Bar
DESCRIPTION:
URL:https://funinfarmington.com/event/ladies-and-80s-at-sidecar-slider-bar-3/2026-09-03/
LOCATION:Sidecar Slider Bar\, 32720 Grand River Ave\, Farmington\, Michigan\, 48336
CATEGORIES:Music,Women
ATTACH;FMTTYPE=image/png:https://funinfarmington.com/wp-content/uploads/2026/03/ladies-80s.png
END:VEVENT
BEGIN:VEVENT
DTSTART;TZID=UTC:20260910T190000
DTEND;TZID=UTC:20260910T190000
DTSTAMP:20260420T020505
CREATED:20260305T165535Z
LAST-MODIFIED:20260322T224735Z
UID:10020068-1789066800-1789066800@funinfarmington.com
SUMMARY:Ladies and 80's at Sidecar Slider Bar
DESCRIPTION:
URL:https://funinfarmington.com/event/ladies-and-80s-at-sidecar-slider-bar-3/2026-09-10/
LOCATION:Sidecar Slider Bar\, 32720 Grand River Ave\, Farmington\, Michigan\, 48336
CATEGORIES:Music,Women
ATTACH;FMTTYPE=image/png:https://funinfarmington.com/wp-content/uploads/2026/03/ladies-80s.png
END:VEVENT
BEGIN:VEVENT
DTSTART;TZID=UTC:20260917T190000
DTEND;TZID=UTC:20260917T190000
DTSTAMP:20260420T020505
CREATED:20260305T165535Z
LAST-MODIFIED:20260322T224735Z
UID:10020069-1789671600-1789671600@funinfarmington.com
SUMMARY:Ladies and 80's at Sidecar Slider Bar
DESCRIPTION:
URL:https://funinfarmington.com/event/ladies-and-80s-at-sidecar-slider-bar-3/2026-09-17/
LOCATION:Sidecar Slider Bar\, 32720 Grand River Ave\, Farmington\, Michigan\, 48336
CATEGORIES:Music,Women
ATTACH;FMTTYPE=image/png:https://funinfarmington.com/wp-content/uploads/2026/03/ladies-80s.png
END:VEVENT
BEGIN:VEVENT
DTSTART;TZID=UTC:20260924T190000
DTEND;TZID=UTC:20260924T190000
DTSTAMP:20260420T020505
CREATED:20260305T165535Z
LAST-MODIFIED:20260322T224735Z
UID:10020070-1790276400-1790276400@funinfarmington.com
SUMMARY:Ladies and 80's at Sidecar Slider Bar
DESCRIPTION:
URL:https://funinfarmington.com/event/ladies-and-80s-at-sidecar-slider-bar-3/2026-09-24/
LOCATION:Sidecar Slider Bar\, 32720 Grand River Ave\, Farmington\, Michigan\, 48336
CATEGORIES:Music,Women
ATTACH;FMTTYPE=image/png:https://funinfarmington.com/wp-content/uploads/2026/03/ladies-80s.png
END:VEVENT
BEGIN:VEVENT
DTSTART;TZID=UTC:20261001T190000
DTEND;TZID=UTC:20261001T190000
DTSTAMP:20260420T020505
CREATED:20260305T165535Z
LAST-MODIFIED:20260322T224735Z
UID:10020071-1790881200-1790881200@funinfarmington.com
SUMMARY:Ladies and 80's at Sidecar Slider Bar
DESCRIPTION:
URL:https://funinfarmington.com/event/ladies-and-80s-at-sidecar-slider-bar-3/2026-10-01/
LOCATION:Sidecar Slider Bar\, 32720 Grand River Ave\, Farmington\, Michigan\, 48336
CATEGORIES:Music,Women
ATTACH;FMTTYPE=image/png:https://funinfarmington.com/wp-content/uploads/2026/03/ladies-80s.png
END:VEVENT
BEGIN:VEVENT
DTSTART;TZID=UTC:20261008T190000
DTEND;TZID=UTC:20261008T190000
DTSTAMP:20260420T020505
CREATED:20260305T165535Z
LAST-MODIFIED:20260322T224735Z
UID:10020072-1791486000-1791486000@funinfarmington.com
SUMMARY:Ladies and 80's at Sidecar Slider Bar
DESCRIPTION:
URL:https://funinfarmington.com/event/ladies-and-80s-at-sidecar-slider-bar-3/2026-10-08/
LOCATION:Sidecar Slider Bar\, 32720 Grand River Ave\, Farmington\, Michigan\, 48336
CATEGORIES:Music,Women
ATTACH;FMTTYPE=image/png:https://funinfarmington.com/wp-content/uploads/2026/03/ladies-80s.png
END:VEVENT
BEGIN:VEVENT
DTSTART;TZID=UTC:20261015T190000
DTEND;TZID=UTC:20261015T190000
DTSTAMP:20260420T020505
CREATED:20260305T165535Z
LAST-MODIFIED:20260322T224735Z
UID:10020073-1792090800-1792090800@funinfarmington.com
SUMMARY:Ladies and 80's at Sidecar Slider Bar
DESCRIPTION:
URL:https://funinfarmington.com/event/ladies-and-80s-at-sidecar-slider-bar-3/2026-10-15/
LOCATION:Sidecar Slider Bar\, 32720 Grand River Ave\, Farmington\, Michigan\, 48336
CATEGORIES:Music,Women
ATTACH;FMTTYPE=image/png:https://funinfarmington.com/wp-content/uploads/2026/03/ladies-80s.png
END:VEVENT
BEGIN:VEVENT
DTSTART;TZID=UTC:20261022T190000
DTEND;TZID=UTC:20261022T190000
DTSTAMP:20260420T020505
CREATED:20260305T165535Z
LAST-MODIFIED:20260322T224735Z
UID:10020074-1792695600-1792695600@funinfarmington.com
SUMMARY:Ladies and 80's at Sidecar Slider Bar
DESCRIPTION:
URL:https://funinfarmington.com/event/ladies-and-80s-at-sidecar-slider-bar-3/2026-10-22/
LOCATION:Sidecar Slider Bar\, 32720 Grand River Ave\, Farmington\, Michigan\, 48336
CATEGORIES:Music,Women
ATTACH;FMTTYPE=image/png:https://funinfarmington.com/wp-content/uploads/2026/03/ladies-80s.png
END:VEVENT
BEGIN:VEVENT
DTSTART;TZID=UTC:20261029T190000
DTEND;TZID=UTC:20261029T190000
DTSTAMP:20260420T020505
CREATED:20260305T165535Z
LAST-MODIFIED:20260322T224735Z
UID:10020075-1793300400-1793300400@funinfarmington.com
SUMMARY:Ladies and 80's at Sidecar Slider Bar
DESCRIPTION:
URL:https://funinfarmington.com/event/ladies-and-80s-at-sidecar-slider-bar-3/2026-10-29/
LOCATION:Sidecar Slider Bar\, 32720 Grand River Ave\, Farmington\, Michigan\, 48336
CATEGORIES:Music,Women
ATTACH;FMTTYPE=image/png:https://funinfarmington.com/wp-content/uploads/2026/03/ladies-80s.png
END:VEVENT
BEGIN:VEVENT
DTSTART;TZID=UTC:20261105T190000
DTEND;TZID=UTC:20261105T190000
DTSTAMP:20260420T020505
CREATED:20260305T165535Z
LAST-MODIFIED:20260322T224735Z
UID:10020076-1793905200-1793905200@funinfarmington.com
SUMMARY:Ladies and 80's at Sidecar Slider Bar
DESCRIPTION:
URL:https://funinfarmington.com/event/ladies-and-80s-at-sidecar-slider-bar-3/2026-11-05/
LOCATION:Sidecar Slider Bar\, 32720 Grand River Ave\, Farmington\, Michigan\, 48336
CATEGORIES:Music,Women
ATTACH;FMTTYPE=image/png:https://funinfarmington.com/wp-content/uploads/2026/03/ladies-80s.png
END:VEVENT
BEGIN:VEVENT
DTSTART;TZID=UTC:20261112T190000
DTEND;TZID=UTC:20261112T190000
DTSTAMP:20260420T020505
CREATED:20260305T165535Z
LAST-MODIFIED:20260322T224735Z
UID:10020077-1794510000-1794510000@funinfarmington.com
SUMMARY:Ladies and 80's at Sidecar Slider Bar
DESCRIPTION:
URL:https://funinfarmington.com/event/ladies-and-80s-at-sidecar-slider-bar-3/2026-11-12/
LOCATION:Sidecar Slider Bar\, 32720 Grand River Ave\, Farmington\, Michigan\, 48336
CATEGORIES:Music,Women
ATTACH;FMTTYPE=image/png:https://funinfarmington.com/wp-content/uploads/2026/03/ladies-80s.png
END:VEVENT
END:VCALENDAR