BEGIN:VCALENDAR
VERSION:2.0
PRODID:-//Fun in Farmington - ECPv6.15.20//NONSGML v1.0//EN
CALSCALE:GREGORIAN
METHOD:PUBLISH
X-ORIGINAL-URL:https://funinfarmington.com
X-WR-CALDESC:Events for Fun in Farmington
REFRESH-INTERVAL;VALUE=DURATION:PT1H
X-Robots-Tag:noindex
X-PUBLISHED-TTL:PT1H
BEGIN:VTIMEZONE
TZID:UTC
BEGIN:STANDARD
TZOFFSETFROM:+0000
TZOFFSETTO:+0000
TZNAME:UTC
DTSTART:20240101T000000
END:STANDARD
END:VTIMEZONE
BEGIN:VEVENT
DTSTART;TZID=UTC:20251119T180000
DTEND;TZID=UTC:20251119T203000
DTSTAMP:20260425T193623
CREATED:20251113T152812Z
LAST-MODIFIED:20251113T152812Z
UID:10018075-1763575200-1763584200@funinfarmington.com
SUMMARY:Holiday Extravaganza at The Pines Restaurant
DESCRIPTION:The Farmington/Farmington Hills Optimist Club invites you to our Holiday Extravaganza. Celebrate the season with laughter\, good company\, and holiday cheer! Enjoy live entertainment\, vendors\, soup and salad dinner\, and cash bar. \nBring a wrapped ornament to join in our fun ornament exchange\, and don’t miss our Holiday Raffles\, it’s proceeds supporting a local charity. \nNov. 19th\n6-8:30pm\nThe Pines Restaurant at FH Golf Course \nFor more information contact Roxanne Fitzpatrick at 248-470-3584 \nSign up at link.
URL:https://funinfarmington.com/event/holiday-extravaganza-at-the-pines-restaurant/
LOCATION:The Pines at Farmington Hills Golf Club\, 37777 11 Mile Ct\, Farmington Hills\, Michigan\, 48335
CATEGORIES:Holiday
END:VEVENT
END:VCALENDAR